Workbook

Sheet Viết tắt
A1: CHÚ Ý QUAN TRỌNG: KHÔNG ĐƯỢC XÓA BẤT KỲ HÀNG HAY CỘT TRONG TẤT CẢ CÁC SHEET
A2: Đối với bảng tính "TONG HOP"
A3: CF = Đã gửi tập tin đề thi | B3: LOẠI ĐỀ | C3: HT = Hình thức thi | D3: SLBĐ = Số lượng bộ đề
A4: R = Rồi | B4: KTHP = Kết thúc học phần | C4: LT = Lý thuyết tự luận | D4: SLĐ = Số lượng đề thi
A5: C = Chưa | B5: ThiTN = Thi tốt nghiệp | C5: TN = Lý thuyết trắc nghiệm | D5: TG THI = Thời gian thi, chú ý nhập đúng thời gian thi theo đề thi
B6: TLAI = Thi lại | C6: TL = Tiểu luận, Bài tập lớn | D6: SL CT = Số lượng bài thi chấm thực tế theo túi bài thi
B7: GiHP = Giữa học phần | C7: TH = Thực hành, thực tập | D7: SL BT = Số lượng bài thi của phòng thi theo lịch thi
A8: Các cột GIẢNG VIÊN GIẢNG DẠY, GV SOẠN ĐỀ, CB CHẤM THI 1, CB CHẤM THI 2, CB COI THI 1, CB COI THI 2, CB GIÁM SÁT, CB DỰ PHÒNG khi nhập tên giảng viên thì tìm và chép từ sheet "DSCBGVNV" để thống nhất trong toàn bộ bảng tính | D8: GHÉP, NHÓM - Nhập tên của lớp ghép chung phòng thi hoặc dấu X, chú ý chỉ nhập tên cán bộ coi thi 1 và 2 cho 1 lớp trong tất cả các lớp ghép chung phòng thi. - Nhập số thứ tự nhóm.
A9: Ngày thi = Nhập theo thứ tự năm, tháng, ngày (yyyymmdd), ví dụ thi ngày 15 tháng 3 năm 2017 thì nhập là 20170315
A10: Giờ thi = Nhập giờ bắt đầu làm bài
A11: PHÒNG THI = Nhập mã phòng thi theo phân công trong lịch thi
A12: KHỐI, LỚP = Nhập tên lớp
A13: SS DS Thi = Nhập sỉ số của lớp - cấm thi - số vắng thi - đình chỉ thi
A15: Đối với bảng tính "CƠ KHÍ"
A16: Sheet "CƠ KHÍ" là bảng tính ví dụ cho từng khoa, khi nhập thì đổi tên sheet này thành tên khoa và đổi tên ở hàng số 6. Hãy chép Mã nhân sự và Họ tên giảng viên theo khoa trong sheet DSCBGVNV, rồi kích chọn ô B11 của sheet "CƠ KHÍ" để dán thông tin vào. Các giá trị trong các ô tính sẽ tự động điền vào. Các hàng trống có thể dùng chức năng HIDE. Lưu ý các khoa nhập giảng viên kiêm chức đang giảng dạy các học phần do khoa quản lý trong bảng tính này.

Sheet TONGHOP
A1: STT | B1: Ngày thi | C1: Giờ thi | D1: PHÒNG THI | E1: KHỐI, LỚP | F1: GHÉP, NHÓM | G1: TÊN HỌC PHẦN | H1: GIẢNG VIÊN GIẢNG DẠY | I1: XDT | J1: CF | K1: GV SOẠN ĐỀ | L1: SL BĐỀ | M1: SL ĐỀ | N1: KHOA | O1: LOẠI ĐỀ | P1: HT | Q1: TG THI | R1: SS DS Thi | S1: SL BT | T1: ="CB COI THI 1 SL= "&COUNTA(T2:T2001) -> CB COI THI 1 SL= 26 | U1: ="CB COI THI 2 SL= "&COUNTA(U2:U2001) -> CB COI THI 2 SL= 26 | V1: ="CB GIÁM SÁT SL= "&COUNTA(V2:V2001) -> CB GIÁM SÁT SL= 5 | W1: ="CB DỰ PHÒNG SL= "&COUNTA(W2:W2001) -> CB DỰ PHÒNG SL= 2 | X1: ="CB CHẤM THI 1; SL = "&COUNTA(X2:X2001) -> CB CHẤM THI 1; SL = 19 | Y1: ="CB CHẤM THI 2; SL = "&COUNTA(Y2:Y2001) -> CB CHẤM THI 2; SL = 19 | Z1: SL CT | AA1: GHI CHÚ | AB1: Ktra
A2: =IF(E2="","",SUBTOTAL(3,$E$2:$E2)) -> 1 | B2: 20170814 | E2: 15TCT | F2: 1 | G2: Hóa | J2: R | K2: Nguyễn Huỳnh Mai Hạnh | N2: KHCB | O2: Thi TN | P2: LT | Q2: 90 | S2: 27 | T2: Trần Công Tiến | U2: Hoàng Thị Trang | V2: Đặng Thị Nhật Minh | W2: Trần Nguyên Bảo Trân | X2: Trần Kim Thu Liễu | Y2: Nguyễn Huỳnh Mai Hạnh | Z2: 27 | AB2: =IF(OR(P2="TN",O2="TLAI",AND(O2="KTHP",P2="TH"),E2=""),"",Z2=S2) -> TRUE
A3: =IF(E3="","",SUBTOTAL(3,$E$2:$E3)) -> 2 | B3: 20170814 | E3: 15TCT | F3: 2 | G3: Hóa | J3: R | N3: KHCB | O3: Thi TN | P3: LT | Q3: 90 | S3: 21 | T3: Đinh Thị Huyên | U3: Trịnh Khắc Vũ | X3: Trần Kim Thu Liễu | Y3: Nguyễn Huỳnh Mai Hạnh | Z3: 21 | AB3: =IF(OR(P3="TN",O3="TLAI",AND(O3="KTHP",P3="TH"),E3=""),"",Z3=S3) -> TRUE
A4: =IF(E4="","",SUBTOTAL(3,$E$2:$E4)) -> 3 | B4: 20170814 | E4: 15TCT | F4: 3 | G4: Hóa | J4: R | N4: KHCB | O4: Thi TN | P4: LT | Q4: 90 | S4: 29 | T4: Lê Nguyễn Mỹ Trâm | U4: Đinh Trần Phương Thảo | X4: Trần Kim Thu Liễu | Y4: Nguyễn Huỳnh Mai Hạnh | Z4: 29 | AB4: =IF(OR(P4="TN",O4="TLAI",AND(O4="KTHP",P4="TH"),E4=""),"",Z4=S4) -> TRUE
A5: =IF(E5="","",SUBTOTAL(3,$E$2:$E5)) -> 4 | B5: 20170814 | E5: 15TCT | F5: 4 | G5: Hóa | J5: R | N5: KHCB | O5: Thi TN | P5: LT | Q5: 90 | S5: 24 | T5: Nguyễn Thanh Tú | U5: Nguyễn Thùy Dương | X5: Trần Kim Thu Liễu | Y5: Nguyễn Huỳnh Mai Hạnh | Z5: 24 | AB5: =IF(OR(P5="TN",O5="TLAI",AND(O5="KTHP",P5="TH"),E5=""),"",Z5=S5) -> TRUE
A6: =IF(E6="","",SUBTOTAL(3,$E$2:$E6)) -> 5 | B6: 20170814 | E6: 15TCT | F6: 5 | G6: Hóa | J6: R | N6: KHCB | O6: Thi TN | P6: LT | Q6: 90 | S6: 19 | T6: Dương Đức Kiên | U6: Nguyễn Thị Thu Tâm | X6: Trần Kim Thu Liễu | Y6: Nguyễn Huỳnh Mai Hạnh | Z6: 19 | AB6: =IF(OR(P6="TN",O6="TLAI",AND(O6="KTHP",P6="TH"),E6=""),"",Z6=S6) -> TRUE
A7: =IF(E7="","",SUBTOTAL(3,$E$2:$E7)) -> 6 | B7: 20170815 | E7: 15TCT | F7: 1 | G7: Vật lý | J7: R | K7: Nguyễn Văn Đông | L7: 2 | M7: 2 | N7: KHCB | O7: Thi TN | P7: LT | Q7: 120 | S7: 27 | T7: Triệu Phú Nguyên | U7: Đinh Trần Phương Thảo | V7: Đặng Thái Sơn | W7: Nguyễn Văn Đông | AB7: =IF(OR(P7="TN",O7="TLAI",AND(O7="KTHP",P7="TH"),E7=""),"",Z7=S7) -> FALSE
A8: =IF(E8="","",SUBTOTAL(3,$E$2:$E8)) -> 7 | B8: 20170815 | E8: 15TCT | F8: 2 | G8: Vật lý | J8: R | N8: KHCB | O8: Thi TN | P8: LT | Q8: 120 | S8: 23 | T8: Lê Nguyễn Mỹ Trâm | U8: Trần Minh Tuấn | AB8: =IF(OR(P8="TN",O8="TLAI",AND(O8="KTHP",P8="TH"),E8=""),"",Z8=S8) -> FALSE
A9: =IF(E9="","",SUBTOTAL(3,$E$2:$E9)) -> 8 | B9: 20170815 | E9: 15TCT | F9: 3 | G9: Vật lý | J9: R | N9: KHCB | O9: Thi TN | P9: LT | Q9: 120 | S9: 29 | T9: Trần Công Tiến | U9: Võ Thị Lệ Trân | AB9: =IF(OR(P9="TN",O9="TLAI",AND(O9="KTHP",P9="TH"),E9=""),"",Z9=S9) -> FALSE
A10: =IF(E10="","",SUBTOTAL(3,$E$2:$E10)) -> 9 | B10: 20170815 | E10: 15TCT | F10: 4 | G10: Vật lý | J10: R | N10: KHCB | O10: Thi TN | P10: LT | Q10: 120 | S10: 25 | T10: Nguyễn Thanh Tú | U10: Dương Đức Kiên | AB10: =IF(OR(P10="TN",O10="TLAI",AND(O10="KTHP",P10="TH"),E10=""),"",Z10=S10) -> FALSE
A11: =IF(E11="","",SUBTOTAL(3,$E$2:$E11)) -> 10 | B11: 20170815 | E11: 15TCT | F11: 5 | G11: Vật lý | J11: R | N11: KHCB | O11: Thi TN | P11: LT | Q11: 120 | S11: 21 | T11: Nguyễn Tiến Nhân | U11: Nguyễn Thị Thu Tâm | AB11: =IF(OR(P11="TN",O11="TLAI",AND(O11="KTHP",P11="TH"),E11=""),"",Z11=S11) -> FALSE
A12: =IF(E12="","",SUBTOTAL(3,$E$2:$E12)) -> 11 | B12: 20170816 | E12: 15TCT | F12: 1 | G12: Toán | N12: KHCB | O12: Thi TN | P12: LT | Q12: 120 | T12: Nguyễn Văn Hậu | U12: Võ Thị Lệ Trân | V12: Đặng Thị Nhật Minh | AB12: =IF(OR(P12="TN",O12="TLAI",AND(O12="KTHP",P12="TH"),E12=""),"",Z12=S12) -> TRUE
A13: =IF(E13="","",SUBTOTAL(3,$E$2:$E13)) -> 12 | B13: 20170816 | E13: 15TCT | F13: 2 | G13: Toán | N13: KHCB | O13: Thi TN | P13: LT | Q13: 120 | T13: Dương Đức Kiên | U13: Hoàng Thị Trang | AB13: =IF(OR(P13="TN",O13="TLAI",AND(O13="KTHP",P13="TH"),E13=""),"",Z13=S13) -> TRUE
A14: =IF(E14="","",SUBTOTAL(3,$E$2:$E14)) -> 13 | B14: 20170816 | E14: 15TCT | F14: 3 | G14: Toán | N14: KHCB | O14: Thi TN | P14: LT | Q14: 120 | T14: Lê Nguyễn Mỹ Trâm | U14: Trần Văn Lượng | AB14: =IF(OR(P14="TN",O14="TLAI",AND(O14="KTHP",P14="TH"),E14=""),"",Z14=S14) -> TRUE
A15: =IF(E15="","",SUBTOTAL(3,$E$2:$E15)) -> 14 | B15: 20170816 | E15: 15TCT | F15: 4 | G15: Toán | N15: KHCB | O15: Thi TN | P15: LT | Q15: 120 | T15: Đặng Thế Huân | U15: Đinh Trần Phương Thảo | AB15: =IF(OR(P15="TN",O15="TLAI",AND(O15="KTHP",P15="TH"),E15=""),"",Z15=S15) -> TRUE
A16: =IF(E16="","",SUBTOTAL(3,$E$2:$E16)) -> 15 | B16: 20170816 | E16: 15TCT | F16: 5 | G16: Toán | N16: KHCB | O16: Thi TN | P16: LT | Q16: 120 | T16: Nguyễn Thị Thu Tâm | U16: Nguyễn Thị Thủy(CB) | AB16: =IF(OR(P16="TN",O16="TLAI",AND(O16="KTHP",P16="TH"),E16=""),"",Z16=S16) -> TRUE
A17: =IF(E17="","",SUBTOTAL(3,$E$2:$E17)) -> 16 | B17: 20170817 | E17: 15TCCN | G17: TN Thực hành nghề nghiệp điện CN&DD | J17: R | K17: Châu Văn Bảo | L17: 1 | M17: 2 | N17: Đ-ĐT | O17: ThiTN | P17: TH | S17: 13 | T17: Trần Trung Hiếu | U17: Quách Minh Thử | X17: Trần Trung Hiếu | Y17: Quách Minh Thử | Z17: 13 | AB17: =IF(OR(P17="TN",O17="TLAI",AND(O17="KTHP",P17="TH"),E17=""),"",Z17=S17) -> TRUE
A18: =IF(E18="","",SUBTOTAL(3,$E$2:$E18)) -> 17 | B18: 20170817 | E18: 15TCCN | G18: TN Thực hành nghề nghiệp điện lạnh | J18: R | K18: Đinh Đồng Hiệp | L18: 1 | M18: 1 | N18: N-LA | O18: ThiTN | P18: TH | S18: 11 | T18: Đỗ Trọng Quý | U18: Phan Văn Hòa | X18: Đỗ Trọng Quý | Y18: Phan Văn Hòa | Z18: 11 | AB18: =IF(OR(P18="TN",O18="TLAI",AND(O18="KTHP",P18="TH"),E18=""),"",Z18=S18) -> TRUE
A19: =IF(E19="","",SUBTOTAL(3,$E$2:$E19)) -> 18 | B19: 20170817 | E19: 15TCCN | G19: TN Thực hành nghề nghiệp may | J19: R | K19: Phạm Thị Thanh Thúy | L19: 1 | M19: 1 | N19: M-TT | O19: ThiTN | P19: TH | S19: 5 | T19: Bùi Thị Ngọc Sương | U19: Nguyễn Thị Hiền | X19: Bùi Thị Ngọc Sương | Y19: Nguyễn Thị Hiền | Z19: 5 | AB19: =IF(OR(P19="TN",O19="TLAI",AND(O19="KTHP",P19="TH"),E19=""),"",Z19=S19) -> TRUE
A20: =IF(E20="","",SUBTOTAL(3,$E$2:$E20)) -> 19 | B20: 20170817 | E20: 15TCCN | G20: TN Thực hành nghề nghiệp ô tô | J20: R | K20: Nguyễn Anh Tuấn | L20: 1 | M20: 5 | N20: ĐLUC | O20: ThiTN | P20: TH | S20: 13 | T20: Võ Đắc Thịnh | U20: Phan Anh Tuấn Kiệt | X20: Võ Đắc Thịnh | Y20: Phan Anh Tuấn Kiệt | Z20: 13 | AB20: =IF(OR(P20="TN",O20="TLAI",AND(O20="KTHP",P20="TH"),E20=""),"",Z20=S20) -> TRUE
A21: =IF(E21="","",SUBTOTAL(3,$E$2:$E21)) -> 20 | B21: 20170817 | E21: 15TCCN | G21: TN Thực hành nghề nghiệp phay | J21: R | K21: Chung Trần Thế Vinh | L21: 1 | M21: 1 | N21: CKHI | O21: ThiTN | P21: TH | S21: 0 | T21: Phan Văn Thành | U21: Nguyễn Duy Hải | Z21: 0 | AB21: =IF(OR(P21="TN",O21="TLAI",AND(O21="KTHP",P21="TH"),E21=""),"",Z21=S21) -> TRUE
A22: =IF(E22="","",SUBTOTAL(3,$E$2:$E22)) -> 21 | B22: 20170817 | E22: 15TCCN | G22: TN Thực hành nghề nghiệp QT mạng | J22: R | K22: Nguyễn Văn Đôn | L22: 1 | M22: 5 | N22: CNTT | O22: ThiTN | P22: TH | S22: 6 | T22: Nguyễn Văn Đôn | U22: Lê Quý Hưng Quốc | X22: Nguyễn Văn Đôn | Y22: Lê Quý Hưng Quốc | Z22: 6 | AB22: =IF(OR(P22="TN",O22="TLAI",AND(O22="KTHP",P22="TH"),E22=""),"",Z22=S22) -> TRUE
A23: =IF(E23="","",SUBTOTAL(3,$E$2:$E23)) -> 22 | B23: 20170817 | E23: 15TCCN | G23: TN Thực hành nghề nghiệp tiện | J23: R | K23: Chung Trần Thế Vinh | L23: 1 | M23: 1 | N23: CKHI | O23: ThiTN | P23: TH | S23: 12 | T23: Dương Minh Chung | U23: Vũ Đức Pháp | X23: Dương Minh Chung | Y23: Vũ Đức Pháp | Z23: 12 | AB23: =IF(OR(P23="TN",O23="TLAI",AND(O23="KTHP",P23="TH"),E23=""),"",Z23=S23) -> TRUE
A24: =IF(E24="","",SUBTOTAL(3,$E$2:$E24)) -> 23 | B24: 20170818 | C24: 08h00 | D24: C3.1 - 04 | E24: 15TCCN | F24: 1 | G24: TN Giáo dục Chính trị | J24: R | K24: Đinh Thị Huyên | L24: 2 | M24: 2 | N24: LLCT | O24: ThiTN | P24: LT | Q24: 120 | S24: 30 | T24: Đặng Thị Nhật Minh | U24: Hoàng Thị Trang | V24: Đinh Thị Huyên | X24: Nguyễn Ngọc Quỳnh(CT) | Y24: Đinh Thị Huyên | Z24: 30 | AB24: =IF(OR(P24="TN",O24="TLAI",AND(O24="KTHP",P24="TH"),E24=""),"",Z24=S24) -> TRUE
A25: =IF(E25="","",SUBTOTAL(3,$E$2:$E25)) -> 24 | B25: 20170818 | C25: 08h00 | D25: C3.1 - 05 | E25: 15TCCN | F25: 2 | G25: TN Giáo dục Chính trị | J25: R | N25: LLCT | O25: ThiTN | P25: LT | Q25: 120 | S25: 26 | T25: Phan Thị Thùy Trang | U25: Trần Thị Hồng Thu | X25: Đinh Thị Huyên | Y25: Nguyễn Ngọc Quỳnh(CT) | Z25: 26 | AB25: =IF(OR(P25="TN",O25="TLAI",AND(O25="KTHP",P25="TH"),E25=""),"",Z25=S25) -> TRUE
A26: =IF(E26="","",SUBTOTAL(3,$E$2:$E26)) -> 25 | B26: 20170819 | C26: 08h00 | D26: C3.1 - 04 | E26: 15TCCN | G26: TN Lý thuyết tổng hợp cơ khí | J26: R | K26: Chung Trần Thế Vinh | L26: 2 | M26: 2 | N26: CKHI | O26: ThiTN | P26: LT | Q26: 120 | S26: 14 | X26: Vũ Đức Pháp | Y26: Phan Văn Thành | Z26: 14 | AB26: =IF(OR(P26="TN",O26="TLAI",AND(O26="KTHP",P26="TH"),E26=""),"",Z26=S26) -> TRUE
A27: =IF(E27="","",SUBTOTAL(3,$E$2:$E27)) -> 26 | B27: 20170819 | C27: 08h00 | D27: C3.1 - 04 | E27: 15TCCN | G27: TN Lý thuyết tổng hợp ô tô | J27: R | K27: Nguyễn Anh Tuấn | L27: 2 | M27: 2 | N27: ĐLUC | O27: ThiTN | P27: LT | Q27: 120 | S27: 15 | T27: Đỗ Huỳnh Thanh Phong | U27: Trần Trung Hiếu | X27: Đặng Thái Sơn | Y27: Võ Đắc Thịnh | Z27: 15 | AB27: =IF(OR(P27="TN",O27="TLAI",AND(O27="KTHP",P27="TH"),E27=""),"",Z27=S27) -> TRUE
A28: =IF(E28="","",SUBTOTAL(3,$E$2:$E28)) -> 27 | B28: 20170819 | C28: 08h00 | D28: C3.1 - 04 | E28: 15TCCN | G28: TN Lý thuyết tổng hợp QT mạng | N28: CNTT | O28: ThiTN | P28: LT | Q28: 120 | S28: 5 | X28: Nguyễn Văn Minh(TT) | Y28: Nguyễn Văn Danh | Z28: 5 | AB28: =IF(OR(P28="TN",O28="TLAI",AND(O28="KTHP",P28="TH"),E28=""),"",Z28=S28) -> TRUE
A29: =IF(E29="","",SUBTOTAL(3,$E$2:$E29)) -> 28 | B29: 20170819 | C29: 08h00 | D29: C3.1 - 05 | E29: 15TCCN | G29: TN Lý thuyết tổng hợp điện CN&DD | J29: R | K29: Châu Văn Bảo | L29: 2 | M29: 2 | N29: Đ-ĐT | O29: ThiTN | P29: LT | Q29: 120 | S29: 13 | T29: Nguyễn Thùy Linh | U29: Trần Minh Tuấn | V29: Đặng Thị Nhật Minh | X29: Đỗ Huỳnh Thanh Phong | Y29: Nguyễn Minh Đức Cường | Z29: 13 | AB29: =IF(OR(P29="TN",O29="TLAI",AND(O29="KTHP",P29="TH"),E29=""),"",Z29=S29) -> TRUE
A30: =IF(E30="","",SUBTOTAL(3,$E$2:$E30)) -> 29 | B30: 20170819 | C30: 08h00 | D30: C3.1 - 05 | E30: 15TCCN | G30: TN Lý thuyết tổng hợp điện lạnh | J30: R | K30: Đinh Đồng Hiệp | L30: 2 | M30: 2 | N30: N-LA | O30: ThiTN | P30: LT | Q30: 120 | S30: 12 | X30: Nguyễn Vũ Xuân Thì | Y30: Võ Anh Hào | Z30: 12 | AB30: =IF(OR(P30="TN",O30="TLAI",AND(O30="KTHP",P30="TH"),E30=""),"",Z30=S30) -> TRUE
A31: =IF(E31="","",SUBTOTAL(3,$E$2:$E31)) -> 30 | B31: 20170819 | C31: 08h00 | D31: C3.1 - 05 | E31: 15TCCN | G31: TN Lý thuyết tổng hợp may | J31: R | K31: Phạm Thị Thanh Thúy | L31: 2 | M31: 2 | N31: M-TT | O31: ThiTN | P31: LT | Q31: 120 | S31: 5 | X31: Nguyễn Ngọc Thọ | Y31: Lâm Thị Phương Thùy | Z31: 5 | AB31: =IF(OR(P31="TN",O31="TLAI",AND(O31="KTHP",P31="TH"),E31=""),"",Z31=S31) -> TRUE
A32: =IF(E32="","",SUBTOTAL(3,$E$2:$E32)) | AB32: =IF(OR(P32="TN",O32="TLAI",AND(O32="KTHP",P32="TH"),E32=""),"",Z32=S32)
A33: =IF(E33="","",SUBTOTAL(3,$E$2:$E33)) | AB33: =IF(OR(P33="TN",O33="TLAI",AND(O33="KTHP",P33="TH"),E33=""),"",Z33=S33)
A34: =IF(E34="","",SUBTOTAL(3,$E$2:$E34)) | AB34: =IF(OR(P34="TN",O34="TLAI",AND(O34="KTHP",P34="TH"),E34=""),"",Z34=S34)
A35: =IF(E35="","",SUBTOTAL(3,$E$2:$E35)) | AB35: =IF(OR(P35="TN",O35="TLAI",AND(O35="KTHP",P35="TH"),E35=""),"",Z35=S35)
A36: =IF(E36="","",SUBTOTAL(3,$E$2:$E36)) | AB36: =IF(OR(P36="TN",O36="TLAI",AND(O36="KTHP",P36="TH"),E36=""),"",Z36=S36)
A37: =IF(E37="","",SUBTOTAL(3,$E$2:$E37)) | AB37: =IF(OR(P37="TN",O37="TLAI",AND(O37="KTHP",P37="TH"),E37=""),"",Z37=S37)
A38: =IF(E38="","",SUBTOTAL(3,$E$2:$E38)) | AB38: =IF(OR(P38="TN",O38="TLAI",AND(O38="KTHP",P38="TH"),E38=""),"",Z38=S38)
A39: =IF(E39="","",SUBTOTAL(3,$E$2:$E39)) | AB39: =IF(OR(P39="TN",O39="TLAI",AND(O39="KTHP",P39="TH"),E39=""),"",Z39=S39)
A40: =IF(E40="","",SUBTOTAL(3,$E$2:$E40)) | AB40: =IF(OR(P40="TN",O40="TLAI",AND(O40="KTHP",P40="TH"),E40=""),"",Z40=S40)
...

Sheet QL THI
A1: KHỐI, LỚP | B1: NGÀY THI | C1: CA THI | D1: TG THI MAX | E1: CB GIÁM SÁT | F1: KL G.SÁT | G1: CB CT DỰ PHÒNG | H1: KL D.PHÒNG
A2: =IF(TONGHOP!E2="","",TONGHOP!E2) -> 15TCT | B2: =IF(TONGHOP!B2="","",TONGHOP!B2) -> 20170814 | C2: =IF(TONGHOP!C2="","",TONGHOP!C2) | D2: =IF(TONGHOP!Q2="","",TONGHOP!Q2) -> 90 | E2: =IF(TONGHOP!V2="","",IF(OR(TONGHOP!O2="KTHP",TONGHOP!O2="ThiTN"),TONGHOP!V2,"")) | F2: =IF(E2="","",IF(D2>150,2.5,IF(D2>120,2,IF(D2>90,1.6,1.2)))) | G2: =IF(TONGHOP!W2="","",IF(OR(TONGHOP!O2="KTHP",TONGHOP!O2="ThiTN"),TONGHOP!W2,"")) | H2: =IF(G2="","",IF(D2>150,2.5,IF(D2>120,2,IF(D2>90,1.6,1.2))))
A3: =IF(TONGHOP!E3="","",TONGHOP!E3) -> 15TCT | B3: =IF(TONGHOP!B3="","",TONGHOP!B3) -> 20170814 | C3: =IF(TONGHOP!C3="","",TONGHOP!C3) | D3: =IF(TONGHOP!Q3="","",TONGHOP!Q3) -> 90 | E3: =IF(TONGHOP!V3="","",IF(OR(TONGHOP!O3="KTHP",TONGHOP!O3="ThiTN"),TONGHOP!V3,"")) | F3: =IF(E3="","",IF(D3>150,2.5,IF(D3>120,2,IF(D3>90,1.6,1.2)))) | G3: =IF(TONGHOP!W3="","",IF(OR(TONGHOP!O3="KTHP",TONGHOP!O3="ThiTN"),TONGHOP!W3,"")) | H3: =IF(G3="","",IF(D3>150,2.5,IF(D3>120,2,IF(D3>90,1.6,1.2))))
A4: =IF(TONGHOP!E4="","",TONGHOP!E4) -> 15TCT | B4: =IF(TONGHOP!B4="","",TONGHOP!B4) -> 20170814 | C4: =IF(TONGHOP!C4="","",TONGHOP!C4) | D4: =IF(TONGHOP!Q4="","",TONGHOP!Q4) -> 90 | E4: =IF(TONGHOP!V4="","",IF(OR(TONGHOP!O4="KTHP",TONGHOP!O4="ThiTN"),TONGHOP!V4,"")) | F4: =IF(E4="","",IF(D4>150,2.5,IF(D4>120,2,IF(D4>90,1.6,1.2)))) | G4: =IF(TONGHOP!W4="","",IF(OR(TONGHOP!O4="KTHP",TONGHOP!O4="ThiTN"),TONGHOP!W4,"")) | H4: =IF(G4="","",IF(D4>150,2.5,IF(D4>120,2,IF(D4>90,1.6,1.2))))
A5: =IF(TONGHOP!E5="","",TONGHOP!E5) -> 15TCT | B5: =IF(TONGHOP!B5="","",TONGHOP!B5) -> 20170814 | C5: =IF(TONGHOP!C5="","",TONGHOP!C5) | D5: =IF(TONGHOP!Q5="","",TONGHOP!Q5) -> 90 | E5: =IF(TONGHOP!V5="","",IF(OR(TONGHOP!O5="KTHP",TONGHOP!O5="ThiTN"),TONGHOP!V5,"")) | F5: =IF(E5="","",IF(D5>150,2.5,IF(D5>120,2,IF(D5>90,1.6,1.2)))) | G5: =IF(TONGHOP!W5="","",IF(OR(TONGHOP!O5="KTHP",TONGHOP!O5="ThiTN"),TONGHOP!W5,"")) | H5: =IF(G5="","",IF(D5>150,2.5,IF(D5>120,2,IF(D5>90,1.6,1.2))))
A6: =IF(TONGHOP!E6="","",TONGHOP!E6) -> 15TCT | B6: =IF(TONGHOP!B6="","",TONGHOP!B6) -> 20170814 | C6: =IF(TONGHOP!C6="","",TONGHOP!C6) | D6: =IF(TONGHOP!Q6="","",TONGHOP!Q6) -> 90 | E6: =IF(TONGHOP!V6="","",IF(OR(TONGHOP!O6="KTHP",TONGHOP!O6="ThiTN"),TONGHOP!V6,"")) | F6: =IF(E6="","",IF(D6>150,2.5,IF(D6>120,2,IF(D6>90,1.6,1.2)))) | G6: =IF(TONGHOP!W6="","",IF(OR(TONGHOP!O6="KTHP",TONGHOP!O6="ThiTN"),TONGHOP!W6,"")) | H6: =IF(G6="","",IF(D6>150,2.5,IF(D6>120,2,IF(D6>90,1.6,1.2))))
A7: =IF(TONGHOP!E7="","",TONGHOP!E7) -> 15TCT | B7: =IF(TONGHOP!B7="","",TONGHOP!B7) -> 20170815 | C7: =IF(TONGHOP!C7="","",TONGHOP!C7) | D7: =IF(TONGHOP!Q7="","",TONGHOP!Q7) -> 120 | E7: =IF(TONGHOP!V7="","",IF(OR(TONGHOP!O7="KTHP",TONGHOP!O7="ThiTN"),TONGHOP!V7,"")) | F7: =IF(E7="","",IF(D7>150,2.5,IF(D7>120,2,IF(D7>90,1.6,1.2)))) | G7: =IF(TONGHOP!W7="","",IF(OR(TONGHOP!O7="KTHP",TONGHOP!O7="ThiTN"),TONGHOP!W7,"")) | H7: =IF(G7="","",IF(D7>150,2.5,IF(D7>120,2,IF(D7>90,1.6,1.2))))
A8: =IF(TONGHOP!E8="","",TONGHOP!E8) -> 15TCT | B8: =IF(TONGHOP!B8="","",TONGHOP!B8) -> 20170815 | C8: =IF(TONGHOP!C8="","",TONGHOP!C8) | D8: =IF(TONGHOP!Q8="","",TONGHOP!Q8) -> 120 | E8: =IF(TONGHOP!V8="","",IF(OR(TONGHOP!O8="KTHP",TONGHOP!O8="ThiTN"),TONGHOP!V8,"")) | F8: =IF(E8="","",IF(D8>150,2.5,IF(D8>120,2,IF(D8>90,1.6,1.2)))) | G8: =IF(TONGHOP!W8="","",IF(OR(TONGHOP!O8="KTHP",TONGHOP!O8="ThiTN"),TONGHOP!W8,"")) | H8: =IF(G8="","",IF(D8>150,2.5,IF(D8>120,2,IF(D8>90,1.6,1.2))))
A9: =IF(TONGHOP!E9="","",TONGHOP!E9) -> 15TCT | B9: =IF(TONGHOP!B9="","",TONGHOP!B9) -> 20170815 | C9: =IF(TONGHOP!C9="","",TONGHOP!C9) | D9: =IF(TONGHOP!Q9="","",TONGHOP!Q9) -> 120 | E9: =IF(TONGHOP!V9="","",IF(OR(TONGHOP!O9="KTHP",TONGHOP!O9="ThiTN"),TONGHOP!V9,"")) | F9: =IF(E9="","",IF(D9>150,2.5,IF(D9>120,2,IF(D9>90,1.6,1.2)))) | G9: =IF(TONGHOP!W9="","",IF(OR(TONGHOP!O9="KTHP",TONGHOP!O9="ThiTN"),TONGHOP!W9,"")) | H9: =IF(G9="","",IF(D9>150,2.5,IF(D9>120,2,IF(D9>90,1.6,1.2))))
A10: =IF(TONGHOP!E10="","",TONGHOP!E10) -> 15TCT | B10: =IF(TONGHOP!B10="","",TONGHOP!B10) -> 20170815 | C10: =IF(TONGHOP!C10="","",TONGHOP!C10) | D10: =IF(TONGHOP!Q10="","",TONGHOP!Q10) -> 120 | E10: =IF(TONGHOP!V10="","",IF(OR(TONGHOP!O10="KTHP",TONGHOP!O10="ThiTN"),TONGHOP!V10,"")) | F10: =IF(E10="","",IF(D10>150,2.5,IF(D10>120,2,IF(D10>90,1.6,1.2)))) | G10: =IF(TONGHOP!W10="","",IF(OR(TONGHOP!O10="KTHP",TONGHOP!O10="ThiTN"),TONGHOP!W10,"")) | H10: =IF(G10="","",IF(D10>150,2.5,IF(D10>120,2,IF(D10>90,1.6,1.2))))
A11: =IF(TONGHOP!E11="","",TONGHOP!E11) -> 15TCT | B11: =IF(TONGHOP!B11="","",TONGHOP!B11) -> 20170815 | C11: =IF(TONGHOP!C11="","",TONGHOP!C11) | D11: =IF(TONGHOP!Q11="","",TONGHOP!Q11) -> 120 | E11: =IF(TONGHOP!V11="","",IF(OR(TONGHOP!O11="KTHP",TONGHOP!O11="ThiTN"),TONGHOP!V11,"")) | F11: =IF(E11="","",IF(D11>150,2.5,IF(D11>120,2,IF(D11>90,1.6,1.2)))) | G11: =IF(TONGHOP!W11="","",IF(OR(TONGHOP!O11="KTHP",TONGHOP!O11="ThiTN"),TONGHOP!W11,"")) | H11: =IF(G11="","",IF(D11>150,2.5,IF(D11>120,2,IF(D11>90,1.6,1.2))))
A12: =IF(TONGHOP!E12="","",TONGHOP!E12) -> 15TCT | B12: =IF(TONGHOP!B12="","",TONGHOP!B12) -> 20170816 | C12: =IF(TONGHOP!C12="","",TONGHOP!C12) | D12: =IF(TONGHOP!Q12="","",TONGHOP!Q12) -> 120 | E12: =IF(TONGHOP!V12="","",IF(OR(TONGHOP!O12="KTHP",TONGHOP!O12="ThiTN"),TONGHOP!V12,"")) | F12: =IF(E12="","",IF(D12>150,2.5,IF(D12>120,2,IF(D12>90,1.6,1.2)))) | G12: =IF(TONGHOP!W12="","",IF(OR(TONGHOP!O12="KTHP",TONGHOP!O12="ThiTN"),TONGHOP!W12,"")) | H12: =IF(G12="","",IF(D12>150,2.5,IF(D12>120,2,IF(D12>90,1.6,1.2))))
A13: =IF(TONGHOP!E13="","",TONGHOP!E13) -> 15TCT | B13: =IF(TONGHOP!B13="","",TONGHOP!B13) -> 20170816 | C13: =IF(TONGHOP!C13="","",TONGHOP!C13) | D13: =IF(TONGHOP!Q13="","",TONGHOP!Q13) -> 120 | E13: =IF(TONGHOP!V13="","",IF(OR(TONGHOP!O13="KTHP",TONGHOP!O13="ThiTN"),TONGHOP!V13,"")) | F13: =IF(E13="","",IF(D13>150,2.5,IF(D13>120,2,IF(D13>90,1.6,1.2)))) | G13: =IF(TONGHOP!W13="","",IF(OR(TONGHOP!O13="KTHP",TONGHOP!O13="ThiTN"),TONGHOP!W13,"")) | H13: =IF(G13="","",IF(D13>150,2.5,IF(D13>120,2,IF(D13>90,1.6,1.2))))
... A1501: =IF(TONGHOP!E1501="","",TONGHOP!E1501) | B1501: =IF(TONGHOP!B1501="","",TONGHOP!B1501) | C1501: =IF(TONGHOP!C1501="","",TONGHOP!C1501) | D1501: =IF(TONGHOP!Q1501="","",TONGHOP!Q1501) | E1501: =IF(TONGHOP!V1501="","",IF(OR(TONGHOP!O1501="KTHP",TONGHOP!O1501="ThiTN"),TONGHOP!V1501,"")) | F1501: =IF(E1501="","",IF(D1501>150,2.5,IF(D1501>120,2,IF(D1501>90,1.6,1.2)))) | G1501: =IF(TONGHOP!W1501="","",IF(OR(TONGHOP!O1501="KTHP",TONGHOP!O1501="ThiTN"),TONGHOP!W1501,"")) | H1501: =IF(G1501="","",IF(D1501>150,2.5,IF(D1501>120,2,IF(D1501>90,1.6,1.2))))

Sheet TK KHOILUONG
E1: =SUBTOTAL(9,E3:E501) -> 0 | F1: =SUBTOTAL(9,F3:F501) -> 0 | G1: =SUBTOTAL(9,G3:G501) -> 10 | H1: =SUBTOTAL(9,H3:H501) -> 5 | I1: =SUBTOTAL(9,I3:I501) -> 40 | J1: =SUBTOTAL(9,J3:J501) -> 0 | K1: =SUBTOTAL(9,K3:K501) -> 0 | L1: =SUBTOTAL(9,L3:L501) -> 7.6 | ... AH1: =SUBTOTAL(9,AH3:AH501) -> 87.8
A2: STT | B2: Mã nhân sự | C2: Đơn vị | D2: HỌ VÀ TÊN GIẢNG VIÊN | E2: ĐỀ THI | J2: COI THI | O2: CHẤM THI KTHP | W2: CHẤM THI TỐT NGHIỆP | AF2: DỰ PHÒNG KỲ THI | AG2: GIÁM SÁT | AH2: TỔNG KHỐI LƯỢNG | AI2: =SUBTOTAL(9,AH:AH) -> 87.8
O3: LÝ THUYẾT | S3: TIỂU LUẬN | W3: LÝ THUYẾT | Z3: T.HÀNH CHUNG | AC3: T.HÀNH RIÊNG
E4: SL ĐỀ LT KTHP | F4: SL ĐỀ TN KTHP | G4: SL ĐỀ LT TN | H4: SL ĐỀ TH TN | I4: KL SOẠN ĐỀ (tiết) | J4: KTHPLT COITHI 1 | K4: KTHPLT COITHI 2 | L4: ThiTN COITHI 1 | M4: ThiTN COITHI 2 | N4: KL COITHI (tiết) | O4: SL CHẤM LT 1 | P4: SL CHẤM LT 2 | Q4: SL CHẤM LT NGHĨA VỤ | R4: KL CHẤM LT (tiết) | S4: SL CHẤM TL 1 | T4: SL CHẤM TL 2 | U4: SL CHẤM TL NGHĨA VỤ | V4: KL CHẤM TL (tiết) | W4: SL BÀI LT CHẤM 1 | X4: SL BÀI LT CHẤM 2 | Y4: KL CHẤM LT (tiết) | Z4: SL BÀI TL CHẤM 1 | AA4: SL BÀI TL CHẤM 2 | AB4: KL CHẤM TL (tiết) | AC4: SL BÀI TL CHẤM 1 | AD4: SL BÀI TL CHẤM 2 | AE4: KL CHẤM TL (tiết)
A5: =IF(D5="","",SUBTOTAL(3,$D$5:D5)) -> 0 | B5: 01001001 | C5: Ban Giám hiệu | D5: Phạm Hữu Lộc | E5: =IF(D5="","",SUMIF('TK DETHI'!A:A,D5,'TK DETHI'!B:B)) -> 0 | F5: =IF(D5="","",SUMIF('TK DETHI'!C:C,D5,'TK DETHI'!D:D)) -> 0 | G5: =IF(D5="","",SUMIF('TK DETHI'!E:E,D5,'TK DETHI'!F:F)) -> 0 | H5: =IF(D5="","",SUMIF('TK DETHI'!G:G,D5,'TK DETHI'!H:H)) -> 0 | I5: =IF(D5="","",(E5+F5*2+G5*3+H5*2)) -> 0 | J5: =IF(D5="","",SUMIF('TK COITHI KTHP'!A:A,D5,'TK COITHI KTHP'!C:C)+SUMIF('TK COITHI KTHP'!D:D,D5,'TK COITHI KTHP'!F:F)+SUMIF('TK COITHI KTHP'!G:G,D5,'TK COITHI KTHP'!I:I)+SUMIF('TK COITHI KTHP'!J:J,D5,'TK COITHI KTHP'!L:L)) -> 0 | K5: =IF(D5="","",SUMIF('TK COITHI KTHP'!B:B,D5,'TK COITHI KTHP'!C:C)+SUMIF('TK COITHI KTHP'!E:E,D5,'TK COITHI KTHP'!F:F)+SUMIF('TK COITHI KTHP'!H:H,D5,'TK COITHI KTHP'!I:I)+SUMIF('TK COITHI KTHP'!K:K,D5,'TK COITHI KTHP'!L:L)) -> 0 | L5: =IF(D5="","",SUMIF('TK COI THI TOT NGHIEP'!A:A,D5,'TK COI THI TOT NGHIEP'!C:C)+SUMIF('TK COI THI TOT NGHIEP'!D:D,D5,'TK COI THI TOT NGHIEP'!F:F)+SUMIF('TK COI THI TOT NGHIEP'!G:G,D5,'TK COI THI TOT NGHIEP'!I:I)+SUMIF('TK COI THI TOT NGHIEP'!J:J,D5,'TK COI THI TOT NGHIEP'!L:L)) -> 0 | M5: =IF(D5="","",SUMIF('TK COI THI TOT NGHIEP'!B:B,D5,'TK COI THI TOT NGHIEP'!C:C)+SUMIF('TK COI THI TOT NGHIEP'!E:E,D5,'TK COI THI TOT NGHIEP'!F:F)+SUMIF('TK COI THI TOT NGHIEP'!H:H,D5,'TK COI THI TOT NGHIEP'!I:I)+SUMIF('TK COI THI TOT NGHIEP'!K:K,D5,'TK COI THI TOT NGHIEP'!L:L)) -> 0 | N5: =IF(D5="","",SUM(J5:M5)) -> 0 | O5: =IF(D5="","",SUMIF('TK CHAMTHI'!A:A,D5,'TK CHAMTHI'!C:C)) -> 0 | P5: =IF(D5="","",SUMIF('TK CHAMTHI'!B:B,D5,'TK CHAMTHI'!C:C)) -> 0 | Q5: =IF(D5="","",SUMIF('CHAM NV'!B:B,D5,'CHAM NV'!C:C)) -> 0 | R5: =IF(D5="","",(SUM(O5:P5)-Q5)/20) -> 0 | S5: =IF(D5="","",SUMIF('TK CHAMTHI'!D:D,D5,'TK CHAMTHI'!F:F)) -> 0 | T5: =IF(D5="","",SUMIF('TK CHAMTHI'!E:E,D5,'TK CHAMTHI'!F:F)) -> 0 | U5: =IF(D5="","",SUMIF('CHAM NV'!E:E,D5,'CHAM NV'!F:F)) -> 0 | V5: =IF(D5="","",(SUM(S5:T5)-U5)/10) -> 0 | W5: =IF(D5="","",SUMIF('TK CHAMTHI'!G:G,D5,'TK CHAMTHI'!I:I)) -> 0 | X5: =IF(D5="","",SUMIF('TK CHAMTHI'!H:H,D5,'TK CHAMTHI'!I:I)) -> 0 | Y5: =IF(D5="","",SUM(W5:X5)/14) -> 0 | Z5: =IF(D5="","",SUMIF('TK CHAMTHI'!J:J,D5,'TK CHAMTHI'!L:L)) -> 0 | AA5: =IF(D5="","",SUMIF('TK CHAMTHI'!K:K,D5,'TK CHAMTHI'!L:L)) -> 0 | AB5: =IF(D5="","",SUM(Z5:AA5)/10) -> 0 | AC5: =IF(D5="","",SUMIF('TK CHAMTHI'!M:M,D5,'TK CHAMTHI'!O:O)) -> 0 | AD5: =IF(D5="","",SUMIF('TK CHAMTHI'!N:N,D5,'TK CHAMTHI'!O:O)) -> 0 | AE5: =IF(D5="","",SUM(AC5:AD5)/20) -> 0 | AF5: =IF(D5="","",ROUND(SUMIF('QL THI'!G:G,D5,'QL THI'!H:H),1)) -> 0 | AG5: =IF(D5="","",ROUND(SUMIF('QL THI'!E:E,D5,'QL THI'!F:F),1)) -> 0 | AH5: =IF(D5="","",ROUND(I5+N5+R5+V5+Y5+AB5+AE5+SUM(AF5:AG5),1)) -> 0
A6: =IF(D6="","",SUBTOTAL(3,$D$5:D6)) -> 0 | B6: 01002001 | C6: Ban Giám hiệu | D6: Đinh Hồng Minh | E6: =IF(D6="","",SUMIF('TK DETHI'!A:A,D6,'TK DETHI'!B:B)) -> 0 | F6: =IF(D6="","",SUMIF('TK DETHI'!C:C,D6,'TK DETHI'!D:D)) -> 0 | G6: =IF(D6="","",SUMIF('TK DETHI'!E:E,D6,'TK DETHI'!F:F)) -> 0 | H6: =IF(D6="","",SUMIF('TK DETHI'!G:G,D6,'TK DETHI'!H:H)) -> 0 | I6: =IF(D6="","",(E6+F6*2+G6*3+H6*2)) -> 0 | J6: =IF(D6="","",SUMIF('TK COITHI KTHP'!A:A,D6,'TK COITHI KTHP'!C:C)+SUMIF('TK COITHI KTHP'!D:D,D6,'TK COITHI KTHP'!F:F)+SUMIF('TK COITHI KTHP'!G:G,D6,'TK COITHI KTHP'!I:I)+SUMIF('TK COITHI KTHP'!J:J,D6,'TK COITHI KTHP'!L:L)) -> 0 | K6: =IF(D6="","",SUMIF('TK COITHI KTHP'!B:B,D6,'TK COITHI KTHP'!C:C)+SUMIF('TK COITHI KTHP'!E:E,D6,'TK COITHI KTHP'!F:F)+SUMIF('TK COITHI KTHP'!H:H,D6,'TK COITHI KTHP'!I:I)+SUMIF('TK COITHI KTHP'!K:K,D6,'TK COITHI KTHP'!L:L)) -> 0 | L6: =IF(D6="","",SUMIF('TK COI THI TOT NGHIEP'!A:A,D6,'TK COI THI TOT NGHIEP'!C:C)+SUMIF('TK COI THI TOT NGHIEP'!D:D,D6,'TK COI THI TOT NGHIEP'!F:F)+SUMIF('TK COI THI TOT NGHIEP'!G:G,D6,'TK COI THI TOT NGHIEP'!I:I)+SUMIF('TK COI THI TOT NGHIEP'!J:J,D6,'TK COI THI TOT NGHIEP'!L:L)) -> 0 | M6: =IF(D6="","",SUMIF('TK COI THI TOT NGHIEP'!B:B,D6,'TK COI THI TOT NGHIEP'!C:C)+SUMIF('TK COI THI TOT NGHIEP'!E:E,D6,'TK COI THI TOT NGHIEP'!F:F)+SUMIF('TK COI THI TOT NGHIEP'!H:H,D6,'TK COI THI TOT NGHIEP'!I:I)+SUMIF('TK COI THI TOT NGHIEP'!K:K,D6,'TK COI THI TOT NGHIEP'!L:L)) -> 0 | N6: =IF(D6="","",SUM(J6:M6)) -> 0 | O6: =IF(D6="","",SUMIF('TK CHAMTHI'!A:A,D6,'TK CHAMTHI'!C:C)) -> 0 | P6: =IF(D6="","",SUMIF('TK CHAMTHI'!B:B,D6,'TK CHAMTHI'!C:C)) -> 0 | Q6: =IF(D6="","",SUMIF('CHAM NV'!B:B,D6,'CHAM NV'!C:C)) -> 0 | R6: =IF(D6="","",(SUM(O6:P6)-Q6)/20) -> 0 | S6: =IF(D6="","",SUMIF('TK CHAMTHI'!D:D,D6,'TK CHAMTHI'!F:F)) -> 0 | T6: =IF(D6="","",SUMIF('TK CHAMTHI'!E:E,D6,'TK CHAMTHI'!F:F)) -> 0 | U6: =IF(D6="","",SUMIF('CHAM NV'!E:E,D6,'CHAM NV'!F:F)) -> 0 | V6: =IF(D6="","",(SUM(S6:T6)-U6)/10) -> 0 | W6: =IF(D6="","",SUMIF('TK CHAMTHI'!G:G,D6,'TK CHAMTHI'!I:I)) -> 0 | X6: =IF(D6="","",SUMIF('TK CHAMTHI'!H:H,D6,'TK CHAMTHI'!I:I)) -> 0 | Y6: =IF(D6="","",SUM(W6:X6)/14) -> 0 | Z6: =IF(D6="","",SUMIF('TK CHAMTHI'!J:J,D6,'TK CHAMTHI'!L:L)) -> 0 | AA6: =IF(D6="","",SUMIF('TK CHAMTHI'!K:K,D6,'TK CHAMTHI'!L:L)) -> 0 | AB6: =IF(D6="","",SUM(Z6:AA6)/10) -> 0 | AC6: =IF(D6="","",SUMIF('TK CHAMTHI'!M:M,D6,'TK CHAMTHI'!O:O)) -> 0 | AD6: =IF(D6="","",SUMIF('TK CHAMTHI'!N:N,D6,'TK CHAMTHI'!O:O)) -> 0 | AE6: =IF(D6="","",SUM(AC6:AD6)/20) -> 0 | AF6: =IF(D6="","",ROUND(SUMIF('QL THI'!G:G,D6,'QL THI'!H:H),1)) -> 0 | AG6: =IF(D6="","",ROUND(SUMIF('QL THI'!E:E,D6,'QL THI'!F:F),1)) -> 0 | AH6: =IF(D6="","",ROUND(I6+N6+R6+V6+Y6+AB6+AE6+SUM(AF6:AG6),1)) -> 0
A7: =IF(D7="","",SUBTOTAL(3,$D$5:D7)) -> 0 | B7: 01001006 | C7: Ban Giám hiệu | D7: Đinh Văn Đệ | E7: =IF(D7="","",SUMIF('TK DETHI'!A:A,D7,'TK DETHI'!B:B)) -> 0 | F7: =IF(D7="","",SUMIF('TK DETHI'!C:C,D7,'TK DETHI'!D:D)) -> 0 | G7: =IF(D7="","",SUMIF('TK DETHI'!E:E,D7,'TK DETHI'!F:F)) -> 0 | H7: =IF(D7="","",SUMIF('TK DETHI'!G:G,D7,'TK DETHI'!H:H)) -> 0 | I7: =IF(D7="","",(E7+F7*2+G7*3+H7*2)) -> 0 | J7: =IF(D7="","",SUMIF('TK COITHI KTHP'!A:A,D7,'TK COITHI KTHP'!C:C)+SUMIF('TK COITHI KTHP'!D:D,D7,'TK COITHI KTHP'!F:F)+SUMIF('TK COITHI KTHP'!G:G,D7,'TK COITHI KTHP'!I:I)+SUMIF('TK COITHI KTHP'!J:J,D7,'TK COITHI KTHP'!L:L)) -> 0 | K7: =IF(D7="","",SUMIF('TK COITHI KTHP'!B:B,D7,'TK COITHI KTHP'!C:C)+SUMIF('TK COITHI KTHP'!E:E,D7,'TK COITHI KTHP'!F:F)+SUMIF('TK COITHI KTHP'!H:H,D7,'TK COITHI KTHP'!I:I)+SUMIF('TK COITHI KTHP'!K:K,D7,'TK COITHI KTHP'!L:L)) -> 0 | L7: =IF(D7="","",SUMIF('TK COI THI TOT NGHIEP'!A:A,D7,'TK COI THI TOT NGHIEP'!C:C)+SUMIF('TK COI THI TOT NGHIEP'!D:D,D7,'TK COI THI TOT NGHIEP'!F:F)+SUMIF('TK COI THI TOT NGHIEP'!G:G,D7,'TK COI THI TOT NGHIEP'!I:I)+SUMIF('TK COI THI TOT NGHIEP'!J:J,D7,'TK COI THI TOT NGHIEP'!L:L)) -> 0 | M7: =IF(D7="","",SUMIF('TK COI THI TOT NGHIEP'!B:B,D7,'TK COI THI TOT NGHIEP'!C:C)+SUMIF('TK COI THI TOT NGHIEP'!E:E,D7,'TK COI THI TOT NGHIEP'!F:F)+SUMIF('TK COI THI TOT NGHIEP'!H:H,D7,'TK COI THI TOT NGHIEP'!I:I)+SUMIF('TK COI THI TOT NGHIEP'!K:K,D7,'TK COI THI TOT NGHIEP'!L:L)) -> 0 | N7: =IF(D7="","",SUM(J7:M7)) -> 0 | O7: =IF(D7="","",SUMIF('TK CHAMTHI'!A:A,D7,'TK CHAMTHI'!C:C)) -> 0 | P7: =IF(D7="","",SUMIF('TK CHAMTHI'!B:B,D7,'TK CHAMTHI'!C:C)) -> 0 | Q7: =IF(D7="","",SUMIF('CHAM NV'!B:B,D7,'CHAM NV'!C:C)) -> 0 | R7: =IF(D7="","",(SUM(O7:P7)-Q7)/20) -> 0 | S7: =IF(D7="","",SUMIF('TK CHAMTHI'!D:D,D7,'TK CHAMTHI'!F:F)) -> 0 | T7: =IF(D7="","",SUMIF('TK CHAMTHI'!E:E,D7,'TK CHAMTHI'!F:F)) -> 0 | U7: =IF(D7="","",SUMIF('CHAM NV'!E:E,D7,'CHAM NV'!F:F)) -> 0 | V7: =IF(D7="","",(SUM(S7:T7)-U7)/10) -> 0 | W7: =IF(D7="","",SUMIF('TK CHAMTHI'!G:G,D7,'TK CHAMTHI'!I:I)) -> 0 | X7: =IF(D7="","",SUMIF('TK CHAMTHI'!H:H,D7,'TK CHAMTHI'!I:I)) -> 0 | Y7: =IF(D7="","",SUM(W7:X7)/14) -> 0 | Z7: =IF(D7="","",SUMIF('TK CHAMTHI'!J:J,D7,'TK CHAMTHI'!L:L)) -> 0 | AA7: =IF(D7="","",SUMIF('TK CHAMTHI'!K:K,D7,'TK CHAMTHI'!L:L)) -> 0 | AB7: =IF(D7="","",SUM(Z7:AA7)/10) -> 0 | AC7: =IF(D7="","",SUMIF('TK CHAMTHI'!M:M,D7,'TK CHAMTHI'!O:O)) -> 0 | AD7: =IF(D7="","",SUMIF('TK CHAMTHI'!N:N,D7,'TK CHAMTHI'!O:O)) -> 0 | AE7: =IF(D7="","",SUM(AC7:AD7)/20) -> 0 | AF7: =IF(D7="","",ROUND(SUMIF('QL THI'!G:G,D7,'QL THI'!H:H),1)) -> 0 | AG7: =IF(D7="","",ROUND(SUMIF('QL THI'!E:E,D7,'QL THI'!F:F),1)) -> 0 | AH7: =IF(D7="","",ROUND(I7+N7+R7+V7+Y7+AB7+AE7+SUM(AF7:AG7),1)) -> 0
A8: =IF(D8="","",SUBTOTAL(3,$D$5:D8)) -> 0 | B8: 01001003 | C8: Ban Giám hiệu | D8: Nguyễn Văn Dũng | E8: =IF(D8="","",SUMIF('TK DETHI'!A:A,D8,'TK DETHI'!B:B)) -> 0 | F8: =IF(D8="","",SUMIF('TK DETHI'!C:C,D8,'TK DETHI'!D:D)) -> 0 | G8: =IF(D8="","",SUMIF('TK DETHI'!E:E,D8,'TK DETHI'!F:F)) -> 0 | H8: =IF(D8="","",SUMIF('TK DETHI'!G:G,D8,'TK DETHI'!H:H)) -> 0 | I8: =IF(D8="","",(E8+F8*2+G8*3+H8*2)) -> 0 | J8: =IF(D8="","",SUMIF('TK COITHI KTHP'!A:A,D8,'TK COITHI KTHP'!C:C)+SUMIF('TK COITHI KTHP'!D:D,D8,'TK COITHI KTHP'!F:F)+SUMIF('TK COITHI KTHP'!G:G,D8,'TK COITHI KTHP'!I:I)+SUMIF('TK COITHI KTHP'!J:J,D8,'TK COITHI KTHP'!L:L)) -> 0 | K8: =IF(D8="","",SUMIF('TK COITHI KTHP'!B:B,D8,'TK COITHI KTHP'!C:C)+SUMIF('TK COITHI KTHP'!E:E,D8,'TK COITHI KTHP'!F:F)+SUMIF('TK COITHI KTHP'!H:H,D8,'TK COITHI KTHP'!I:I)+SUMIF('TK COITHI KTHP'!K:K,D8,'TK COITHI KTHP'!L:L)) -> 0 | L8: =IF(D8="","",SUMIF('TK COI THI TOT NGHIEP'!A:A,D8,'TK COI THI TOT NGHIEP'!C:C)+SUMIF('TK COI THI TOT NGHIEP'!D:D,D8,'TK COI THI TOT NGHIEP'!F:F)+SUMIF('TK COI THI TOT NGHIEP'!G:G,D8,'TK COI THI TOT NGHIEP'!I:I)+SUMIF('TK COI THI TOT NGHIEP'!J:J,D8,'TK COI THI TOT NGHIEP'!L:L)) -> 0 | M8: =IF(D8="","",SUMIF('TK COI THI TOT NGHIEP'!B:B,D8,'TK COI THI TOT NGHIEP'!C:C)+SUMIF('TK COI THI TOT NGHIEP'!E:E,D8,'TK COI THI TOT NGHIEP'!F:F)+SUMIF('TK COI THI TOT NGHIEP'!H:H,D8,'TK COI THI TOT NGHIEP'!I:I)+SUMIF('TK COI THI TOT NGHIEP'!K:K,D8,'TK COI THI TOT NGHIEP'!L:L)) -> 0 | N8: =IF(D8="","",SUM(J8:M8)) -> 0 | O8: =IF(D8="","",SUMIF('TK CHAMTHI'!A:A,D8,'TK CHAMTHI'!C:C)) -> 0 | P8: =IF(D8="","",SUMIF('TK CHAMTHI'!B:B,D8,'TK CHAMTHI'!C:C)) -> 0 | Q8: =IF(D8="","",SUMIF('CHAM NV'!B:B,D8,'CHAM NV'!C:C)) -> 0 | R8: =IF(D8="","",(SUM(O8:P8)-Q8)/20) -> 0 | S8: =IF(D8="","",SUMIF('TK CHAMTHI'!D:D,D8,'TK CHAMTHI'!F:F)) -> 0 | T8: =IF(D8="","",SUMIF('TK CHAMTHI'!E:E,D8,'TK CHAMTHI'!F:F)) -> 0 | U8: =IF(D8="","",SUMIF('CHAM NV'!E:E,D8,'CHAM NV'!F:F)) -> 0 | V8: =IF(D8="","",(SUM(S8:T8)-U8)/10) -> 0 | W8: =IF(D8="","",SUMIF('TK CHAMTHI'!G:G,D8,'TK CHAMTHI'!I:I)) -> 0 | X8: =IF(D8="","",SUMIF('TK CHAMTHI'!H:H,D8,'TK CHAMTHI'!I:I)) -> 0 | Y8: =IF(D8="","",SUM(W8:X8)/14) -> 0 | Z8: =IF(D8="","",SUMIF('TK CHAMTHI'!J:J,D8,'TK CHAMTHI'!L:L)) -> 0 | AA8: =IF(D8="","",SUMIF('TK CHAMTHI'!K:K,D8,'TK CHAMTHI'!L:L)) -> 0 | AB8: =IF(D8="","",SUM(Z8:AA8)/10) -> 0 | AC8: =IF(D8="","",SUMIF('TK CHAMTHI'!M:M,D8,'TK CHAMTHI'!O:O)) -> 0 | AD8: =IF(D8="","",SUMIF('TK CHAMTHI'!N:N,D8,'TK CHAMTHI'!O:O)) -> 0 | AE8: =IF(D8="","",SUM(AC8:AD8)/20) -> 0 | AF8: =IF(D8="","",ROUND(SUMIF('QL THI'!G:G,D8,'QL THI'!H:H),1)) -> 0 | AG8: =IF(D8="","",ROUND(SUMIF('QL THI'!E:E,D8,'QL THI'!F:F),1)) -> 0 | AH8: =IF(D8="","",ROUND(I8+N8+R8+V8+Y8+AB8+AE8+SUM(AF8:AG8),1)) -> 0
A9: =IF(D9="","",SUBTOTAL(3,$D$5:D9)) -> 0 | B9: 01012005 | C9: Khoa CN Cơ khí | D9: Đỗ Thị Phương Khanh | E9: =IF(D9="","",SUMIF('TK DETHI'!A:A,D9,'TK DETHI'!B:B)) -> 0 | F9: =IF(D9="","",SUMIF('TK DETHI'!C:C,D9,'TK DETHI'!D:D)) -> 0 | G9: =IF(D9="","",SUMIF('TK DETHI'!E:E,D9,'TK DETHI'!F:F)) -> 0 | H9: =IF(D9="","",SUMIF('TK DETHI'!G:G,D9,'TK DETHI'!H:H)) -> 0 | I9: =IF(D9="","",(E9+F9*2+G9*3+H9*2)) -> 0 | J9: =IF(D9="","",SUMIF('TK COITHI KTHP'!A:A,D9,'TK COITHI KTHP'!C:C)+SUMIF('TK COITHI KTHP'!D:D,D9,'TK COITHI KTHP'!F:F)+SUMIF('TK COITHI KTHP'!G:G,D9,'TK COITHI KTHP'!I:I)+SUMIF('TK COITHI KTHP'!J:J,D9,'TK COITHI KTHP'!L:L)) -> 0 | K9: =IF(D9="","",SUMIF('TK COITHI KTHP'!B:B,D9,'TK COITHI KTHP'!C:C)+SUMIF('TK COITHI KTHP'!E:E,D9,'TK COITHI KTHP'!F:F)+SUMIF('TK COITHI KTHP'!H:H,D9,'TK COITHI KTHP'!I:I)+SUMIF('TK COITHI KTHP'!K:K,D9,'TK COITHI KTHP'!L:L)) -> 0 | L9: =IF(D9="","",SUMIF('TK COI THI TOT NGHIEP'!A:A,D9,'TK COI THI TOT NGHIEP'!C:C)+SUMIF('TK COI THI TOT NGHIEP'!D:D,D9,'TK COI THI TOT NGHIEP'!F:F)+SUMIF('TK COI THI TOT NGHIEP'!G:G,D9,'TK COI THI TOT NGHIEP'!I:I)+SUMIF('TK COI THI TOT NGHIEP'!J:J,D9,'TK COI THI TOT NGHIEP'!L:L)) -> 0 | M9: =IF(D9="","",SUMIF('TK COI THI TOT NGHIEP'!B:B,D9,'TK COI THI TOT NGHIEP'!C:C)+SUMIF('TK COI THI TOT NGHIEP'!E:E,D9,'TK COI THI TOT NGHIEP'!F:F)+SUMIF('TK COI THI TOT NGHIEP'!H:H,D9,'TK COI THI TOT NGHIEP'!I:I)+SUMIF('TK COI THI TOT NGHIEP'!K:K,D9,'TK COI THI TOT NGHIEP'!L:L)) -> 0 | N9: =IF(D9="","",SUM(J9:M9)) -> 0 | O9: =IF(D9="","",SUMIF('TK CHAMTHI'!A:A,D9,'TK CHAMTHI'!C:C)) -> 0 | P9: =IF(D9="","",SUMIF('TK CHAMTHI'!B:B,D9,'TK CHAMTHI'!C:C)) -> 0 | Q9: =IF(D9="","",SUMIF('CHAM NV'!B:B,D9,'CHAM NV'!C:C)) -> 0 | R9: =IF(D9="","",(SUM(O9:P9)-Q9)/20) -> 0 | S9: =IF(D9="","",SUMIF('TK CHAMTHI'!D:D,D9,'TK CHAMTHI'!F:F)) -> 0 | T9: =IF(D9="","",SUMIF('TK CHAMTHI'!E:E,D9,'TK CHAMTHI'!F:F)) -> 0 | U9: =IF(D9="","",SUMIF('CHAM NV'!E:E,D9,'CHAM NV'!F:F)) -> 0 | V9: =IF(D9="","",(SUM(S9:T9)-U9)/10) -> 0 | W9: =IF(D9="","",SUMIF('TK CHAMTHI'!G:G,D9,'TK CHAMTHI'!I:I)) -> 0 | X9: =IF(D9="","",SUMIF('TK CHAMTHI'!H:H,D9,'TK CHAMTHI'!I:I)) -> 0 | Y9: =IF(D9="","",SUM(W9:X9)/14) -> 0 | Z9: =IF(D9="","",SUMIF('TK CHAMTHI'!J:J,D9,'TK CHAMTHI'!L:L)) -> 0 | AA9: =IF(D9="","",SUMIF('TK CHAMTHI'!K:K,D9,'TK CHAMTHI'!L:L)) -> 0 | AB9: =IF(D9="","",SUM(Z9:AA9)/10) -> 0 | AC9: =IF(D9="","",SUMIF('TK CHAMTHI'!M:M,D9,'TK CHAMTHI'!O:O)) -> 0 | AD9: =IF(D9="","",SUMIF('TK CHAMTHI'!N:N,D9,'TK CHAMTHI'!O:O)) -> 0 | AE9: =IF(D9="","",SUM(AC9:AD9)/20) -> 0 | AF9: =IF(D9="","",ROUND(SUMIF('QL THI'!G:G,D9,'QL THI'!H:H),1)) -> 0 | AG9: =IF(D9="","",ROUND(SUMIF('QL THI'!E:E,D9,'QL THI'!F:F),1)) -> 0 | AH9: =IF(D9="","",ROUND(I9+N9+R9+V9+Y9+AB9+AE9+SUM(AF9:AG9),1)) -> 0
A10: =IF(D10="","",SUBTOTAL(3,$D$5:D10)) -> 1 | B10: 01012014 | C10: Khoa CN Cơ khí | D10: Dương Minh Chung | E10: =IF(D10="","",SUMIF('TK DETHI'!A:A,D10,'TK DETHI'!B:B)) -> 0 | F10: =IF(D10="","",SUMIF('TK DETHI'!C:C,D10,'TK DETHI'!D:D)) -> 0 | G10: =IF(D10="","",SUMIF('TK DETHI'!E:E,D10,'TK DETHI'!F:F)) -> 0 | H10: =IF(D10="","",SUMIF('TK DETHI'!G:G,D10,'TK DETHI'!H:H)) -> 0 | I10: =IF(D10="","",(E10+F10*2+G10*3+H10*2)) -> 0 | J10: =IF(D10="","",SUMIF('TK COITHI KTHP'!A:A,D10,'TK COITHI KTHP'!C:C)+SUMIF('TK COITHI KTHP'!D:D,D10,'TK COITHI KTHP'!F:F)+SUMIF('TK COITHI KTHP'!G:G,D10,'TK COITHI KTHP'!I:I)+SUMIF('TK COITHI KTHP'!J:J,D10,'TK COITHI KTHP'!L:L)) -> 0 | K10: =IF(D10="","",SUMIF('TK COITHI KTHP'!B:B,D10,'TK COITHI KTHP'!C:C)+SUMIF('TK COITHI KTHP'!E:E,D10,'TK COITHI KTHP'!F:F)+SUMIF('TK COITHI KTHP'!H:H,D10,'TK COITHI KTHP'!I:I)+SUMIF('TK COITHI KTHP'!K:K,D10,'TK COITHI KTHP'!L:L)) -> 0 | L10: =IF(D10="","",SUMIF('TK COI THI TOT NGHIEP'!A:A,D10,'TK COI THI TOT NGHIEP'!C:C)+SUMIF('TK COI THI TOT NGHIEP'!D:D,D10,'TK COI THI TOT NGHIEP'!F:F)+SUMIF('TK COI THI TOT NGHIEP'!G:G,D10,'TK COI THI TOT NGHIEP'!I:I)+SUMIF('TK COI THI TOT NGHIEP'!J:J,D10,'TK COI THI TOT NGHIEP'!L:L)) -> 0 | M10: =IF(D10="","",SUMIF('TK COI THI TOT NGHIEP'!B:B,D10,'TK COI THI TOT NGHIEP'!C:C)+SUMIF('TK COI THI TOT NGHIEP'!E:E,D10,'TK COI THI TOT NGHIEP'!F:F)+SUMIF('TK COI THI TOT NGHIEP'!H:H,D10,'TK COI THI TOT NGHIEP'!I:I)+SUMIF('TK COI THI TOT NGHIEP'!K:K,D10,'TK COI THI TOT NGHIEP'!L:L)) -> 0 | N10: =IF(D10="","",SUM(J10:M10)) -> 0 | O10: =IF(D10="","",SUMIF('TK CHAMTHI'!A:A,D10,'TK CHAMTHI'!C:C)) -> 0 | P10: =IF(D10="","",SUMIF('TK CHAMTHI'!B:B,D10,'TK CHAMTHI'!C:C)) -> 0 | Q10: =IF(D10="","",SUMIF('CHAM NV'!B:B,D10,'CHAM NV'!C:C)) -> 0 | R10: =IF(D10="","",(SUM(O10:P10)-Q10)/20) -> 0 | S10: =IF(D10="","",SUMIF('TK CHAMTHI'!D:D,D10,'TK CHAMTHI'!F:F)) -> 0 | T10: =IF(D10="","",SUMIF('TK CHAMTHI'!E:E,D10,'TK CHAMTHI'!F:F)) -> 0 | U10: =IF(D10="","",SUMIF('CHAM NV'!E:E,D10,'CHAM NV'!F:F)) -> 0 | V10: =IF(D10="","",(SUM(S10:T10)-U10)/10) -> 0 | W10: =IF(D10="","",SUMIF('TK CHAMTHI'!G:G,D10,'TK CHAMTHI'!I:I)) -> 0 | X10: =IF(D10="","",SUMIF('TK CHAMTHI'!H:H,D10,'TK CHAMTHI'!I:I)) -> 0 | Y10: =IF(D10="","",SUM(W10:X10)/14) -> 0 | Z10: =IF(D10="","",SUMIF('TK CHAMTHI'!J:J,D10,'TK CHAMTHI'!L:L)) -> 12 | AA10: =IF(D10="","",SUMIF('TK CHAMTHI'!K:K,D10,'TK CHAMTHI'!L:L)) -> 0 | AB10: =IF(D10="","",SUM(Z10:AA10)/10) -> 1.2 | AC10: =IF(D10="","",SUMIF('TK CHAMTHI'!M:M,D10,'TK CHAMTHI'!O:O)) -> 0 | AD10: =IF(D10="","",SUMIF('TK CHAMTHI'!N:N,D10,'TK CHAMTHI'!O:O)) -> 0 | AE10: =IF(D10="","",SUM(AC10:AD10)/20) -> 0 | AF10: =IF(D10="","",ROUND(SUMIF('QL THI'!G:G,D10,'QL THI'!H:H),1)) -> 0 | AG10: =IF(D10="","",ROUND(SUMIF('QL THI'!E:E,D10,'QL THI'!F:F),1)) -> 0 | AH10: =IF(D10="","",ROUND(I10+N10+R10+V10+Y10+AB10+AE10+SUM(AF10:AG10),1)) -> 1.2
A11: =IF(D11="","",SUBTOTAL(3,$D$5:D11)) -> 1 | B11: 01012028 | C11: Khoa CN Cơ khí | D11: Dương Thị Hồng | E11: =IF(D11="","",SUMIF('TK DETHI'!A:A,D11,'TK DETHI'!B:B)) -> 0 | F11: =IF(D11="","",SUMIF('TK DETHI'!C:C,D11,'TK DETHI'!D:D)) -> 0 | G11: =IF(D11="","",SUMIF('TK DETHI'!E:E,D11,'TK DETHI'!F:F)) -> 0 | H11: =IF(D11="","",SUMIF('TK DETHI'!G:G,D11,'TK DETHI'!H:H)) -> 0 | I11: =IF(D11="","",(E11+F11*2+G11*3+H11*2)) -> 0 | J11: =IF(D11="","",SUMIF('TK COITHI KTHP'!A:A,D11,'TK COITHI KTHP'!C:C)+SUMIF('TK COITHI KTHP'!D:D,D11,'TK COITHI KTHP'!F:F)+SUMIF('TK COITHI KTHP'!G:G,D11,'TK COITHI KTHP'!I:I)+SUMIF('TK COITHI KTHP'!J:J,D11,'TK COITHI KTHP'!L:L)) -> 0 | K11: =IF(D11="","",SUMIF('TK COITHI KTHP'!B:B,D11,'TK COITHI KTHP'!C:C)+SUMIF('TK COITHI KTHP'!E:E,D11,'TK COITHI KTHP'!F:F)+SUMIF('TK COITHI KTHP'!H:H,D11,'TK COITHI KTHP'!I:I)+SUMIF('TK COITHI KTHP'!K:K,D11,'TK COITHI KTHP'!L:L)) -> 0 | L11: =IF(D11="","",SUMIF('TK COI THI TOT NGHIEP'!A:A,D11,'TK COI THI TOT NGHIEP'!C:C)+SUMIF('TK COI THI TOT NGHIEP'!D:D,D11,'TK COI THI TOT NGHIEP'!F:F)+SUMIF('TK COI THI TOT NGHIEP'!G:G,D11,'TK COI THI TOT NGHIEP'!I:I)+SUMIF('TK COI THI TOT NGHIEP'!J:J,D11,'TK COI THI TOT NGHIEP'!L:L)) -> 0 | M11: =IF(D11="","",SUMIF('TK COI THI TOT NGHIEP'!B:B,D11,'TK COI THI TOT NGHIEP'!C:C)+SUMIF('TK COI THI TOT NGHIEP'!E:E,D11,'TK COI THI TOT NGHIEP'!F:F)+SUMIF('TK COI THI TOT NGHIEP'!H:H,D11,'TK COI THI TOT NGHIEP'!I:I)+SUMIF('TK COI THI TOT NGHIEP'!K:K,D11,'TK COI THI TOT NGHIEP'!L:L)) -> 0 | N11: =IF(D11="","",SUM(J11:M11)) -> 0 | O11: =IF(D11="","",SUMIF('TK CHAMTHI'!A:A,D11,'TK CHAMTHI'!C:C)) -> 0 | P11: =IF(D11="","",SUMIF('TK CHAMTHI'!B:B,D11,'TK CHAMTHI'!C:C)) -> 0 | Q11: =IF(D11="","",SUMIF('CHAM NV'!B:B,D11,'CHAM NV'!C:C)) -> 0 | R11: =IF(D11="","",(SUM(O11:P11)-Q11)/20) -> 0 | S11: =IF(D11="","",SUMIF('TK CHAMTHI'!D:D,D11,'TK CHAMTHI'!F:F)) -> 0 | T11: =IF(D11="","",SUMIF('TK CHAMTHI'!E:E,D11,'TK CHAMTHI'!F:F)) -> 0 | U11: =IF(D11="","",SUMIF('CHAM NV'!E:E,D11,'CHAM NV'!F:F)) -> 0 | V11: =IF(D11="","",(SUM(S11:T11)-U11)/10) -> 0 | W11: =IF(D11="","",SUMIF('TK CHAMTHI'!G:G,D11,'TK CHAMTHI'!I:I)) -> 0 | X11: =IF(D11="","",SUMIF('TK CHAMTHI'!H:H,D11,'TK CHAMTHI'!I:I)) -> 0 | Y11: =IF(D11="","",SUM(W11:X11)/14) -> 0 | Z11: =IF(D11="","",SUMIF('TK CHAMTHI'!J:J,D11,'TK CHAMTHI'!L:L)) -> 0 | AA11: =IF(D11="","",SUMIF('TK CHAMTHI'!K:K,D11,'TK CHAMTHI'!L:L)) -> 0 | AB11: =IF(D11="","",SUM(Z11:AA11)/10) -> 0 | AC11: =IF(D11="","",SUMIF('TK CHAMTHI'!M:M,D11,'TK CHAMTHI'!O:O)) -> 0 | AD11: =IF(D11="","",SUMIF('TK CHAMTHI'!N:N,D11,'TK CHAMTHI'!O:O)) -> 0 | AE11: =IF(D11="","",SUM(AC11:AD11)/20) -> 0 | AF11: =IF(D11="","",ROUND(SUMIF('QL THI'!G:G,D11,'QL THI'!H:H),1)) -> 0 | AG11: =IF(D11="","",ROUND(SUMIF('QL THI'!E:E,D11,'QL THI'!F:F),1)) -> 0 | AH11: =IF(D11="","",ROUND(I11+N11+R11+V11+Y11+AB11+AE11+SUM(AF11:AG11),1)) -> 0
A12: =IF(D12="","",SUBTOTAL(3,$D$5:D12)) -> 1 | B12: 01012016 | C12: Khoa CN Cơ khí | D12: Lư Thị Yến Vũ | E12: =IF(D12="","",SUMIF('TK DETHI'!A:A,D12,'TK DETHI'!B:B)) -> 0 | F12: =IF(D12="","",SUMIF('TK DETHI'!C:C,D12,'TK DETHI'!D:D)) -> 0 | G12: =IF(D12="","",SUMIF('TK DETHI'!E:E,D12,'TK DETHI'!F:F)) -> 0 | H12: =IF(D12="","",SUMIF('TK DETHI'!G:G,D12,'TK DETHI'!H:H)) -> 0 | I12: =IF(D12="","",(E12+F12*2+G12*3+H12*2)) -> 0 | J12: =IF(D12="","",SUMIF('TK COITHI KTHP'!A:A,D12,'TK COITHI KTHP'!C:C)+SUMIF('TK COITHI KTHP'!D:D,D12,'TK COITHI KTHP'!F:F)+SUMIF('TK COITHI KTHP'!G:G,D12,'TK COITHI KTHP'!I:I)+SUMIF('TK COITHI KTHP'!J:J,D12,'TK COITHI KTHP'!L:L)) -> 0 | K12: =IF(D12="","",SUMIF('TK COITHI KTHP'!B:B,D12,'TK COITHI KTHP'!C:C)+SUMIF('TK COITHI KTHP'!E:E,D12,'TK COITHI KTHP'!F:F)+SUMIF('TK COITHI KTHP'!H:H,D12,'TK COITHI KTHP'!I:I)+SUMIF('TK COITHI KTHP'!K:K,D12,'TK COITHI KTHP'!L:L)) -> 0 | L12: =IF(D12="","",SUMIF('TK COI THI TOT NGHIEP'!A:A,D12,'TK COI THI TOT NGHIEP'!C:C)+SUMIF('TK COI THI TOT NGHIEP'!D:D,D12,'TK COI THI TOT NGHIEP'!F:F)+SUMIF('TK COI THI TOT NGHIEP'!G:G,D12,'TK COI THI TOT NGHIEP'!I:I)+SUMIF('TK COI THI TOT NGHIEP'!J:J,D12,'TK COI THI TOT NGHIEP'!L:L)) -> 0 | M12: =IF(D12="","",SUMIF('TK COI THI TOT NGHIEP'!B:B,D12,'TK COI THI TOT NGHIEP'!C:C)+SUMIF('TK COI THI TOT NGHIEP'!E:E,D12,'TK COI THI TOT NGHIEP'!F:F)+SUMIF('TK COI THI TOT NGHIEP'!H:H,D12,'TK COI THI TOT NGHIEP'!I:I)+SUMIF('TK COI THI TOT NGHIEP'!K:K,D12,'TK COI THI TOT NGHIEP'!L:L)) -> 0 | N12: =IF(D12="","",SUM(J12:M12)) -> 0 | O12: =IF(D12="","",SUMIF('TK CHAMTHI'!A:A,D12,'TK CHAMTHI'!C:C)) -> 0 | P12: =IF(D12="","",SUMIF('TK CHAMTHI'!B:B,D12,'TK CHAMTHI'!C:C)) -> 0 | Q12: =IF(D12="","",SUMIF('CHAM NV'!B:B,D12,'CHAM NV'!C:C)) -> 0 | R12: =IF(D12="","",(SUM(O12:P12)-Q12)/20) -> 0 | S12: =IF(D12="","",SUMIF('TK CHAMTHI'!D:D,D12,'TK CHAMTHI'!F:F)) -> 0 | T12: =IF(D12="","",SUMIF('TK CHAMTHI'!E:E,D12,'TK CHAMTHI'!F:F)) -> 0 | U12: =IF(D12="","",SUMIF('CHAM NV'!E:E,D12,'CHAM NV'!F:F)) -> 0 | V12: =IF(D12="","",(SUM(S12:T12)-U12)/10) -> 0 | W12: =IF(D12="","",SUMIF('TK CHAMTHI'!G:G,D12,'TK CHAMTHI'!I:I)) -> 0 | X12: =IF(D12="","",SUMIF('TK CHAMTHI'!H:H,D12,'TK CHAMTHI'!I:I)) -> 0 | Y12: =IF(D12="","",SUM(W12:X12)/14) -> 0 | Z12: =IF(D12="","",SUMIF('TK CHAMTHI'!J:J,D12,'TK CHAMTHI'!L:L)) -> 0 | AA12: =IF(D12="","",SUMIF('TK CHAMTHI'!K:K,D12,'TK CHAMTHI'!L:L)) -> 0 | AB12: =IF(D12="","",SUM(Z12:AA12)/10) -> 0 | AC12: =IF(D12="","",SUMIF('TK CHAMTHI'!M:M,D12,'TK CHAMTHI'!O:O)) -> 0 | AD12: =IF(D12="","",SUMIF('TK CHAMTHI'!N:N,D12,'TK CHAMTHI'!O:O)) -> 0 | AE12: =IF(D12="","",SUM(AC12:AD12)/20) -> 0 | AF12: =IF(D12="","",ROUND(SUMIF('QL THI'!G:G,D12,'QL THI'!H:H),1)) -> 0 | AG12: =IF(D12="","",ROUND(SUMIF('QL THI'!E:E,D12,'QL THI'!F:F),1)) -> 0 | AH12: =IF(D12="","",ROUND(I12+N12+R12+V12+Y12+AB12+AE12+SUM(AF12:AG12),1)) -> 0
A13: =IF(D13="","",SUBTOTAL(3,$D$5:D13)) -> 1 | B13: 01012017 | C13: Khoa CN Cơ khí | D13: Nguyễn Ngọc Quỳnh(CK) | E13: =IF(D13="","",SUMIF('TK DETHI'!A:A,D13,'TK DETHI'!B:B)) -> 0 | F13: =IF(D13="","",SUMIF('TK DETHI'!C:C,D13,'TK DETHI'!D:D)) -> 0 | G13: =IF(D13="","",SUMIF('TK DETHI'!E:E,D13,'TK DETHI'!F:F)) -> 0 | H13: =IF(D13="","",SUMIF('TK DETHI'!G:G,D13,'TK DETHI'!H:H)) -> 0 | I13: =IF(D13="","",(E13+F13*2+G13*3+H13*2)) -> 0 | J13: =IF(D13="","",SUMIF('TK COITHI KTHP'!A:A,D13,'TK COITHI KTHP'!C:C)+SUMIF('TK COITHI KTHP'!D:D,D13,'TK COITHI KTHP'!F:F)+SUMIF('TK COITHI KTHP'!G:G,D13,'TK COITHI KTHP'!I:I)+SUMIF('TK COITHI KTHP'!J:J,D13,'TK COITHI KTHP'!L:L)) -> 0 | K13: =IF(D13="","",SUMIF('TK COITHI KTHP'!B:B,D13,'TK COITHI KTHP'!C:C)+SUMIF('TK COITHI KTHP'!E:E,D13,'TK COITHI KTHP'!F:F)+SUMIF('TK COITHI KTHP'!H:H,D13,'TK COITHI KTHP'!I:I)+SUMIF('TK COITHI KTHP'!K:K,D13,'TK COITHI KTHP'!L:L)) -> 0 | L13: =IF(D13="","",SUMIF('TK COI THI TOT NGHIEP'!A:A,D13,'TK COI THI TOT NGHIEP'!C:C)+SUMIF('TK COI THI TOT NGHIEP'!D:D,D13,'TK COI THI TOT NGHIEP'!F:F)+SUMIF('TK COI THI TOT NGHIEP'!G:G,D13,'TK COI THI TOT NGHIEP'!I:I)+SUMIF('TK COI THI TOT NGHIEP'!J:J,D13,'TK COI THI TOT NGHIEP'!L:L)) -> 0 | M13: =IF(D13="","",SUMIF('TK COI THI TOT NGHIEP'!B:B,D13,'TK COI THI TOT NGHIEP'!C:C)+SUMIF('TK COI THI TOT NGHIEP'!E:E,D13,'TK COI THI TOT NGHIEP'!F:F)+SUMIF('TK COI THI TOT NGHIEP'!H:H,D13,'TK COI THI TOT NGHIEP'!I:I)+SUMIF('TK COI THI TOT NGHIEP'!K:K,D13,'TK COI THI TOT NGHIEP'!L:L)) -> 0 | N13: =IF(D13="","",SUM(J13:M13)) -> 0 | O13: =IF(D13="","",SUMIF('TK CHAMTHI'!A:A,D13,'TK CHAMTHI'!C:C)) -> 0 | P13: =IF(D13="","",SUMIF('TK CHAMTHI'!B:B,D13,'TK CHAMTHI'!C:C)) -> 0 | Q13: =IF(D13="","",SUMIF('CHAM NV'!B:B,D13,'CHAM NV'!C:C)) -> 0 | R13: =IF(D13="","",(SUM(O13:P13)-Q13)/20) -> 0 | S13: =IF(D13="","",SUMIF('TK CHAMTHI'!D:D,D13,'TK CHAMTHI'!F:F)) -> 0 | T13: =IF(D13="","",SUMIF('TK CHAMTHI'!E:E,D13,'TK CHAMTHI'!F:F)) -> 0 | U13: =IF(D13="","",SUMIF('CHAM NV'!E:E,D13,'CHAM NV'!F:F)) -> 0 | V13: =IF(D13="","",(SUM(S13:T13)-U13)/10) -> 0 | W13: =IF(D13="","",SUMIF('TK CHAMTHI'!G:G,D13,'TK CHAMTHI'!I:I)) -> 0 | X13: =IF(D13="","",SUMIF('TK CHAMTHI'!H:H,D13,'TK CHAMTHI'!I:I)) -> 0 | Y13: =IF(D13="","",SUM(W13:X13)/14) -> 0 | Z13: =IF(D13="","",SUMIF('TK CHAMTHI'!J:J,D13,'TK CHAMTHI'!L:L)) -> 0 | AA13: =IF(D13="","",SUMIF('TK CHAMTHI'!K:K,D13,'TK CHAMTHI'!L:L)) -> 0 | AB13: =IF(D13="","",SUM(Z13:AA13)/10) -> 0 | AC13: =IF(D13="","",SUMIF('TK CHAMTHI'!M:M,D13,'TK CHAMTHI'!O:O)) -> 0 | AD13: =IF(D13="","",SUMIF('TK CHAMTHI'!N:N,D13,'TK CHAMTHI'!O:O)) -> 0 | AE13: =IF(D13="","",SUM(AC13:AD13)/20) -> 0 | AF13: =IF(D13="","",ROUND(SUMIF('QL THI'!G:G,D13,'QL THI'!H:H),1)) -> 0 | AG13: =IF(D13="","",ROUND(SUMIF('QL THI'!E:E,D13,'QL THI'!F:F),1)) -> 0 | AH13: =IF(D13="","",ROUND(I13+N13+R13+V13+Y13+AB13+AE13+SUM(AF13:AG13),1)) -> 0
A14: =IF(D14="","",SUBTOTAL(3,$D$5:D14)) -> 1 | B14: 01012002 | C14: Khoa CN Cơ khí | D14: Nguyễn Tam Cương | E14: =IF(D14="","",SUMIF('TK DETHI'!A:A,D14,'TK DETHI'!B:B)) -> 0 | F14: =IF(D14="","",SUMIF('TK DETHI'!C:C,D14,'TK DETHI'!D:D)) -> 0 | G14: =IF(D14="","",SUMIF('TK DETHI'!E:E,D14,'TK DETHI'!F:F)) -> 0 | H14: =IF(D14="","",SUMIF('TK DETHI'!G:G,D14,'TK DETHI'!H:H)) -> 0 | I14: =IF(D14="","",(E14+F14*2+G14*3+H14*2)) -> 0 | J14: =IF(D14="","",SUMIF('TK COITHI KTHP'!A:A,D14,'TK COITHI KTHP'!C:C)+SUMIF('TK COITHI KTHP'!D:D,D14,'TK COITHI KTHP'!F:F)+SUMIF('TK COITHI KTHP'!G:G,D14,'TK COITHI KTHP'!I:I)+SUMIF('TK COITHI KTHP'!J:J,D14,'TK COITHI KTHP'!L:L)) -> 0 | K14: =IF(D14="","",SUMIF('TK COITHI KTHP'!B:B,D14,'TK COITHI KTHP'!C:C)+SUMIF('TK COITHI KTHP'!E:E,D14,'TK COITHI KTHP'!F:F)+SUMIF('TK COITHI KTHP'!H:H,D14,'TK COITHI KTHP'!I:I)+SUMIF('TK COITHI KTHP'!K:K,D14,'TK COITHI KTHP'!L:L)) -> 0 | L14: =IF(D14="","",SUMIF('TK COI THI TOT NGHIEP'!A:A,D14,'TK COI THI TOT NGHIEP'!C:C)+SUMIF('TK COI THI TOT NGHIEP'!D:D,D14,'TK COI THI TOT NGHIEP'!F:F)+SUMIF('TK COI THI TOT NGHIEP'!G:G,D14,'TK COI THI TOT NGHIEP'!I:I)+SUMIF('TK COI THI TOT NGHIEP'!J:J,D14,'TK COI THI TOT NGHIEP'!L:L)) -> 0 | M14: =IF(D14="","",SUMIF('TK COI THI TOT NGHIEP'!B:B,D14,'TK COI THI TOT NGHIEP'!C:C)+SUMIF('TK COI THI TOT NGHIEP'!E:E,D14,'TK COI THI TOT NGHIEP'!F:F)+SUMIF('TK COI THI TOT NGHIEP'!H:H,D14,'TK COI THI TOT NGHIEP'!I:I)+SUMIF('TK COI THI TOT NGHIEP'!K:K,D14,'TK COI THI TOT NGHIEP'!L:L)) -> 0 | N14: =IF(D14="","",SUM(J14:M14)) -> 0 | O14: =IF(D14="","",SUMIF('TK CHAMTHI'!A:A,D14,'TK CHAMTHI'!C:C)) -> 0 | P14: =IF(D14="","",SUMIF('TK CHAMTHI'!B:B,D14,'TK CHAMTHI'!C:C)) -> 0 | Q14: =IF(D14="","",SUMIF('CHAM NV'!B:B,D14,'CHAM NV'!C:C)) -> 0 | R14: =IF(D14="","",(SUM(O14:P14)-Q14)/20) -> 0 | S14: =IF(D14="","",SUMIF('TK CHAMTHI'!D:D,D14,'TK CHAMTHI'!F:F)) -> 0 | T14: =IF(D14="","",SUMIF('TK CHAMTHI'!E:E,D14,'TK CHAMTHI'!F:F)) -> 0 | U14: =IF(D14="","",SUMIF('CHAM NV'!E:E,D14,'CHAM NV'!F:F)) -> 0 | V14: =IF(D14="","",(SUM(S14:T14)-U14)/10) -> 0 | W14: =IF(D14="","",SUMIF('TK CHAMTHI'!G:G,D14,'TK CHAMTHI'!I:I)) -> 0 | X14: =IF(D14="","",SUMIF('TK CHAMTHI'!H:H,D14,'TK CHAMTHI'!I:I)) -> 0 | Y14: =IF(D14="","",SUM(W14:X14)/14) -> 0 | Z14: =IF(D14="","",SUMIF('TK CHAMTHI'!J:J,D14,'TK CHAMTHI'!L:L)) -> 0 | AA14: =IF(D14="","",SUMIF('TK CHAMTHI'!K:K,D14,'TK CHAMTHI'!L:L)) -> 0 | AB14: =IF(D14="","",SUM(Z14:AA14)/10) -> 0 | AC14: =IF(D14="","",SUMIF('TK CHAMTHI'!M:M,D14,'TK CHAMTHI'!O:O)) -> 0 | AD14: =IF(D14="","",SUMIF('TK CHAMTHI'!N:N,D14,'TK CHAMTHI'!O:O)) -> 0 | AE14: =IF(D14="","",SUM(AC14:AD14)/20) -> 0 | AF14: =IF(D14="","",ROUND(SUMIF('QL THI'!G:G,D14,'QL THI'!H:H),1)) -> 0 | AG14: =IF(D14="","",ROUND(SUMIF('QL THI'!E:E,D14,'QL THI'!F:F),1)) -> 0 | AH14: =IF(D14="","",ROUND(I14+N14+R14+V14+Y14+AB14+AE14+SUM(AF14:AG14),1)) -> 0
A15: =IF(D15="","",SUBTOTAL(3,$D$5:D15)) -> 1 | B15: 01012018 | C15: Khoa CN Cơ khí | D15: Nguyễn Thành Long | E15: =IF(D15="","",SUMIF('TK DETHI'!A:A,D15,'TK DETHI'!B:B)) -> 0 | F15: =IF(D15="","",SUMIF('TK DETHI'!C:C,D15,'TK DETHI'!D:D)) -> 0 | G15: =IF(D15="","",SUMIF('TK DETHI'!E:E,D15,'TK DETHI'!F:F)) -> 0 | H15: =IF(D15="","",SUMIF('TK DETHI'!G:G,D15,'TK DETHI'!H:H)) -> 0 | I15: =IF(D15="","",(E15+F15*2+G15*3+H15*2)) -> 0 | J15: =IF(D15="","",SUMIF('TK COITHI KTHP'!A:A,D15,'TK COITHI KTHP'!C:C)+SUMIF('TK COITHI KTHP'!D:D,D15,'TK COITHI KTHP'!F:F)+SUMIF('TK COITHI KTHP'!G:G,D15,'TK COITHI KTHP'!I:I)+SUMIF('TK COITHI KTHP'!J:J,D15,'TK COITHI KTHP'!L:L)) -> 0 | K15: =IF(D15="","",SUMIF('TK COITHI KTHP'!B:B,D15,'TK COITHI KTHP'!C:C)+SUMIF('TK COITHI KTHP'!E:E,D15,'TK COITHI KTHP'!F:F)+SUMIF('TK COITHI KTHP'!H:H,D15,'TK COITHI KTHP'!I:I)+SUMIF('TK COITHI KTHP'!K:K,D15,'TK COITHI KTHP'!L:L)) -> 0 | L15: =IF(D15="","",SUMIF('TK COI THI TOT NGHIEP'!A:A,D15,'TK COI THI TOT NGHIEP'!C:C)+SUMIF('TK COI THI TOT NGHIEP'!D:D,D15,'TK COI THI TOT NGHIEP'!F:F)+SUMIF('TK COI THI TOT NGHIEP'!G:G,D15,'TK COI THI TOT NGHIEP'!I:I)+SUMIF('TK COI THI TOT NGHIEP'!J:J,D15,'TK COI THI TOT NGHIEP'!L:L)) -> 0 | M15: =IF(D15="","",SUMIF('TK COI THI TOT NGHIEP'!B:B,D15,'TK COI THI TOT NGHIEP'!C:C)+SUMIF('TK COI THI TOT NGHIEP'!E:E,D15,'TK COI THI TOT NGHIEP'!F:F)+SUMIF('TK COI THI TOT NGHIEP'!H:H,D15,'TK COI THI TOT NGHIEP'!I:I)+SUMIF('TK COI THI TOT NGHIEP'!K:K,D15,'TK COI THI TOT NGHIEP'!L:L)) -> 0 | N15: =IF(D15="","",SUM(J15:M15)) -> 0 | O15: =IF(D15="","",SUMIF('TK CHAMTHI'!A:A,D15,'TK CHAMTHI'!C:C)) -> 0 | P15: =IF(D15="","",SUMIF('TK CHAMTHI'!B:B,D15,'TK CHAMTHI'!C:C)) -> 0 | Q15: =IF(D15="","",SUMIF('CHAM NV'!B:B,D15,'CHAM NV'!C:C)) -> 0 | R15: =IF(D15="","",(SUM(O15:P15)-Q15)/20) -> 0 | S15: =IF(D15="","",SUMIF('TK CHAMTHI'!D:D,D15,'TK CHAMTHI'!F:F)) -> 0 | T15: =IF(D15="","",SUMIF('TK CHAMTHI'!E:E,D15,'TK CHAMTHI'!F:F)) -> 0 | U15: =IF(D15="","",SUMIF('CHAM NV'!E:E,D15,'CHAM NV'!F:F)) -> 0 | V15: =IF(D15="","",(SUM(S15:T15)-U15)/10) -> 0 | W15: =IF(D15="","",SUMIF('TK CHAMTHI'!G:G,D15,'TK CHAMTHI'!I:I)) -> 0 | X15: =IF(D15="","",SUMIF('TK CHAMTHI'!H:H,D15,'TK CHAMTHI'!I:I)) -> 0 | Y15: =IF(D15="","",SUM(W15:X15)/14) -> 0 | Z15: =IF(D15="","",SUMIF('TK CHAMTHI'!J:J,D15,'TK CHAMTHI'!L:L)) -> 0 | AA15: =IF(D15="","",SUMIF('TK CHAMTHI'!K:K,D15,'TK CHAMTHI'!L:L)) -> 0 | AB15: =IF(D15="","",SUM(Z15:AA15)/10) -> 0 | AC15: =IF(D15="","",SUMIF('TK CHAMTHI'!M:M,D15,'TK CHAMTHI'!O:O)) -> 0 | AD15: =IF(D15="","",SUMIF('TK CHAMTHI'!N:N,D15,'TK CHAMTHI'!O:O)) -> 0 | AE15: =IF(D15="","",SUM(AC15:AD15)/20) -> 0 | AF15: =IF(D15="","",ROUND(SUMIF('QL THI'!G:G,D15,'QL THI'!H:H),1)) -> 0 | AG15: =IF(D15="","",ROUND(SUMIF('QL THI'!E:E,D15,'QL THI'!F:F),1)) -> 0 | AH15: =IF(D15="","",ROUND(I15+N15+R15+V15+Y15+AB15+AE15+SUM(AF15:AG15),1)) -> 0
A16: =IF(D16="","",SUBTOTAL(3,$D$5:D16)) -> 1 | B16: 01012011 | C16: Khoa CN Cơ khí | D16: Nguyễn Thanh Vĩnh Phúc | E16: =IF(D16="","",SUMIF('TK DETHI'!A:A,D16,'TK DETHI'!B:B)) -> 0 | F16: =IF(D16="","",SUMIF('TK DETHI'!C:C,D16,'TK DETHI'!D:D)) -> 0 | G16: =IF(D16="","",SUMIF('TK DETHI'!E:E,D16,'TK DETHI'!F:F)) -> 0 | H16: =IF(D16="","",SUMIF('TK DETHI'!G:G,D16,'TK DETHI'!H:H)) -> 0 | I16: =IF(D16="","",(E16+F16*2+G16*3+H16*2)) -> 0 | J16: =IF(D16="","",SUMIF('TK COITHI KTHP'!A:A,D16,'TK COITHI KTHP'!C:C)+SUMIF('TK COITHI KTHP'!D:D,D16,'TK COITHI KTHP'!F:F)+SUMIF('TK COITHI KTHP'!G:G,D16,'TK COITHI KTHP'!I:I)+SUMIF('TK COITHI KTHP'!J:J,D16,'TK COITHI KTHP'!L:L)) -> 0 | K16: =IF(D16="","",SUMIF('TK COITHI KTHP'!B:B,D16,'TK COITHI KTHP'!C:C)+SUMIF('TK COITHI KTHP'!E:E,D16,'TK COITHI KTHP'!F:F)+SUMIF('TK COITHI KTHP'!H:H,D16,'TK COITHI KTHP'!I:I)+SUMIF('TK COITHI KTHP'!K:K,D16,'TK COITHI KTHP'!L:L)) -> 0 | L16: =IF(D16="","",SUMIF('TK COI THI TOT NGHIEP'!A:A,D16,'TK COI THI TOT NGHIEP'!C:C)+SUMIF('TK COI THI TOT NGHIEP'!D:D,D16,'TK COI THI TOT NGHIEP'!F:F)+SUMIF('TK COI THI TOT NGHIEP'!G:G,D16,'TK COI THI TOT NGHIEP'!I:I)+SUMIF('TK COI THI TOT NGHIEP'!J:J,D16,'TK COI THI TOT NGHIEP'!L:L)) -> 0 | M16: =IF(D16="","",SUMIF('TK COI THI TOT NGHIEP'!B:B,D16,'TK COI THI TOT NGHIEP'!C:C)+SUMIF('TK COI THI TOT NGHIEP'!E:E,D16,'TK COI THI TOT NGHIEP'!F:F)+SUMIF('TK COI THI TOT NGHIEP'!H:H,D16,'TK COI THI TOT NGHIEP'!I:I)+SUMIF('TK COI THI TOT NGHIEP'!K:K,D16,'TK COI THI TOT NGHIEP'!L:L)) -> 0 | N16: =IF(D16="","",SUM(J16:M16)) -> 0 | O16: =IF(D16="","",SUMIF('TK CHAMTHI'!A:A,D16,'TK CHAMTHI'!C:C)) -> 0 | P16: =IF(D16="","",SUMIF('TK CHAMTHI'!B:B,D16,'TK CHAMTHI'!C:C)) -> 0 | Q16: =IF(D16="","",SUMIF('CHAM NV'!B:B,D16,'CHAM NV'!C:C)) -> 0 | R16: =IF(D16="","",(SUM(O16:P16)-Q16)/20) -> 0 | S16: =IF(D16="","",SUMIF('TK CHAMTHI'!D:D,D16,'TK CHAMTHI'!F:F)) -> 0 | T16: =IF(D16="","",SUMIF('TK CHAMTHI'!E:E,D16,'TK CHAMTHI'!F:F)) -> 0 | U16: =IF(D16="","",SUMIF('CHAM NV'!E:E,D16,'CHAM NV'!F:F)) -> 0 | V16: =IF(D16="","",(SUM(S16:T16)-U16)/10) -> 0 | W16: =IF(D16="","",SUMIF('TK CHAMTHI'!G:G,D16,'TK CHAMTHI'!I:I)) -> 0 | X16: =IF(D16="","",SUMIF('TK CHAMTHI'!H:H,D16,'TK CHAMTHI'!I:I)) -> 0 | Y16: =IF(D16="","",SUM(W16:X16)/14) -> 0 | Z16: =IF(D16="","",SUMIF('TK CHAMTHI'!J:J,D16,'TK CHAMTHI'!L:L)) -> 0 | AA16: =IF(D16="","",SUMIF('TK CHAMTHI'!K:K,D16,'TK CHAMTHI'!L:L)) -> 0 | AB16: =IF(D16="","",SUM(Z16:AA16)/10) -> 0 | AC16: =IF(D16="","",SUMIF('TK CHAMTHI'!M:M,D16,'TK CHAMTHI'!O:O)) -> 0 | AD16: =IF(D16="","",SUMIF('TK CHAMTHI'!N:N,D16,'TK CHAMTHI'!O:O)) -> 0 | AE16: =IF(D16="","",SUM(AC16:AD16)/20) -> 0 | AF16: =IF(D16="","",ROUND(SUMIF('QL THI'!G:G,D16,'QL THI'!H:H),1)) -> 0 | AG16: =IF(D16="","",ROUND(SUMIF('QL THI'!E:E,D16,'QL THI'!F:F),1)) -> 0 | AH16: =IF(D16="","",ROUND(I16+N16+R16+V16+Y16+AB16+AE16+SUM(AF16:AG16),1)) -> 0
... A434: =IF(D434="","",SUBTOTAL(3,$D$5:D434)) -> 35 | B434: 01014011 | C434: Khoa CN Điện - Điện tử | D434: Nguyễn Trọng Trí | E434: =IF(D434="","",SUMIF('TK DETHI'!A:A,D434,'TK DETHI'!B:B)) -> 0 | F434: =IF(D434="","",SUMIF('TK DETHI'!C:C,D434,'TK DETHI'!D:D)) -> 0 | G434: =IF(D434="","",SUMIF('TK DETHI'!E:E,D434,'TK DETHI'!F:F)) -> 0 | H434: =IF(D434="","",SUMIF('TK DETHI'!G:G,D434,'TK DETHI'!H:H)) -> 0 | I434: =IF(D434="","",(E434+F434*2+G434*3+H434*2)) -> 0 | J434: =IF(D434="","",SUMIF('TK COITHI KTHP'!A:A,D434,'TK COITHI KTHP'!C:C)+SUMIF('TK COITHI KTHP'!D:D,D434,'TK COITHI KTHP'!F:F)+SUMIF('TK COITHI KTHP'!G:G,D434,'TK COITHI KTHP'!I:I)+SUMIF('TK COITHI KTHP'!J:J,D434,'TK COITHI KTHP'!L:L)) -> 0 | K434: =IF(D434="","",SUMIF('TK COITHI KTHP'!B:B,D434,'TK COITHI KTHP'!C:C)+SUMIF('TK COITHI KTHP'!E:E,D434,'TK COITHI KTHP'!F:F)+SUMIF('TK COITHI KTHP'!H:H,D434,'TK COITHI KTHP'!I:I)+SUMIF('TK COITHI KTHP'!K:K,D434,'TK COITHI KTHP'!L:L)) -> 0 | L434: =IF(D434="","",SUMIF('TK COI THI TOT NGHIEP'!A:A,D434,'TK COI THI TOT NGHIEP'!C:C)+SUMIF('TK COI THI TOT NGHIEP'!D:D,D434,'TK COI THI TOT NGHIEP'!F:F)+SUMIF('TK COI THI TOT NGHIEP'!G:G,D434,'TK COI THI TOT NGHIEP'!I:I)+SUMIF('TK COI THI TOT NGHIEP'!J:J,D434,'TK COI THI TOT NGHIEP'!L:L)) -> 0 | M434: =IF(D434="","",SUMIF('TK COI THI TOT NGHIEP'!B:B,D434,'TK COI THI TOT NGHIEP'!C:C)+SUMIF('TK COI THI TOT NGHIEP'!E:E,D434,'TK COI THI TOT NGHIEP'!F:F)+SUMIF('TK COI THI TOT NGHIEP'!H:H,D434,'TK COI THI TOT NGHIEP'!I:I)+SUMIF('TK COI THI TOT NGHIEP'!K:K,D434,'TK COI THI TOT NGHIEP'!L:L)) -> 0 | N434: =IF(D434="","",SUM(J434:M434)) -> 0 | O434: =IF(D434="","",SUMIF('TK CHAMTHI'!A:A,D434,'TK CHAMTHI'!C:C)) -> 0 | P434: =IF(D434="","",SUMIF('TK CHAMTHI'!B:B,D434,'TK CHAMTHI'!C:C)) -> 0 | Q434: =IF(D434="","",SUMIF('CHAM NV'!B:B,D434,'CHAM NV'!C:C)) -> 0 | R434: =IF(D434="","",(SUM(O434:P434)-Q434)/20) -> 0 | S434: =IF(D434="","",SUMIF('TK CHAMTHI'!D:D,D434,'TK CHAMTHI'!F:F)) -> 0 | T434: =IF(D434="","",SUMIF('TK CHAMTHI'!E:E,D434,'TK CHAMTHI'!F:F)) -> 0 | U434: =IF(D434="","",SUMIF('CHAM NV'!E:E,D434,'CHAM NV'!F:F)) -> 0 | V434: =IF(D434="","",(SUM(S434:T434)-U434)/10) -> 0 | W434: =IF(D434="","",SUMIF('TK CHAMTHI'!G:G,D434,'TK CHAMTHI'!I:I)) -> 0 | X434: =IF(D434="","",SUMIF('TK CHAMTHI'!H:H,D434,'TK CHAMTHI'!I:I)) -> 0 | Y434: =IF(D434="","",SUM(W434:X434)/14) -> 0 | Z434: =IF(D434="","",SUMIF('TK CHAMTHI'!J:J,D434,'TK CHAMTHI'!L:L)) -> 0 | AA434: =IF(D434="","",SUMIF('TK CHAMTHI'!K:K,D434,'TK CHAMTHI'!L:L)) -> 0 | AB434: =IF(D434="","",SUM(Z434:AA434)/10) -> 0 | AC434: =IF(D434="","",SUMIF('TK CHAMTHI'!M:M,D434,'TK CHAMTHI'!O:O)) -> 0 | AD434: =IF(D434="","",SUMIF('TK CHAMTHI'!N:N,D434,'TK CHAMTHI'!O:O)) -> 0 | AE434: =IF(D434="","",SUM(AC434:AD434)/20) -> 0 | AF434: =IF(D434="","",ROUND(SUMIF('QL THI'!G:G,D434,'QL THI'!H:H),1)) -> 0 | AG434: =IF(D434="","",ROUND(SUMIF('QL THI'!E:E,D434,'QL THI'!F:F),1)) -> 0 | AH434: =IF(D434="","",ROUND(I434+N434+R434+V434+Y434+AB434+AE434+SUM(AF434:AG434),1)) -> 0
