Workbook

Sheet Viết tắt
A1: CHÚ Ý QUAN TRỌNG: KHÔNG ĐƯỢC XÓA BẤT KỲ HÀNG HAY CỘT TRONG TẤT CẢ CÁC SHEET
A2: Đối với bảng tính "TONG HOP"
A3: CF = Đã gửi tập tin đề thi | B3: LOẠI ĐỀ | C3: HT = Hình thức thi | D3: SLBĐ = Số lượng bộ đề
A4: R = Rồi | B4: KTHP = Kết thúc học phần | C4: LT = Lý thuyết tự luận | D4: SLĐ = Số lượng đề thi
A5: C = Chưa | B5: ThiTN = Thi tốt nghiệp | C5: TN = Lý thuyết trắc nghiệm | D5: TG THI = Thời gian thi, chú ý nhập đúng thời gian thi theo đề thi
B6: TLAI = Thi lại | C6: TL = Tiểu luận, Bài tập lớn | D6: SL CT = Số lượng bài thi chấm thực tế theo túi bài thi
B7: GiHP = Giữa học phần | C7: TH = Thực hành, thực tập | D7: SL BT = Số lượng bài thi của phòng thi theo lịch thi
A8: Các cột GIẢNG VIÊN GIẢNG DẠY, GV SOẠN ĐỀ, CB CHẤM THI 1, CB CHẤM THI 2, CB COI THI 1, CB COI THI 2, CB GIÁM SÁT, CB DỰ PHÒNG khi nhập tên giảng viên thì tìm và chép từ sheet "DSCBGVNV" để thống nhất trong toàn bộ bảng tính | D8: GHÉP, NHÓM - Nhập tên của lớp ghép chung phòng thi hoặc dấu X, chú ý chỉ nhập tên cán bộ coi thi 1 và 2 cho 1 lớp trong tất cả các lớp ghép chung phòng thi. - Nhập số thứ tự nhóm.
A9: Ngày thi = Nhập theo thứ tự năm, tháng, ngày (yyyymmdd), ví dụ thi ngày 15 tháng 3 năm 2017 thì nhập là 20170315
A10: Giờ thi = Nhập giờ bắt đầu làm bài
A11: PHÒNG THI = Nhập mã phòng thi theo phân công trong lịch thi
A12: KHỐI, LỚP = Nhập tên lớp
A13: SS DS Thi = Nhập sỉ số của lớp - cấm thi - số vắng thi - đình chỉ thi
A15: Đối với bảng tính "CƠ KHÍ"
A16: Sheet "CƠ KHÍ" là bảng tính ví dụ cho từng khoa, khi nhập thì đổi tên sheet này thành tên khoa và đổi tên ở hàng số 6. Hãy chép Mã nhân sự và Họ tên giảng viên theo khoa trong sheet DSCBGVNV, rồi kích chọn ô B11 của sheet "CƠ KHÍ" để dán thông tin vào. Các giá trị trong các ô tính sẽ tự động điền vào. Các hàng trống có thể dùng chức năng HIDE. Lưu ý các khoa nhập giảng viên kiêm chức đang giảng dạy các học phần do khoa quản lý trong bảng tính này.

Sheet TONGHOP
A1: STT | B1: Ngày thi | C1: Giờ thi | D1: PHÒNG THI | E1: KHỐI, LỚP | F1: GHÉP, NHÓM | G1: TÊN HỌC PHẦN | H1: GIẢNG VIÊN GIẢNG DẠY | I1: XDT | J1: CF | K1: GV SOẠN ĐỀ | L1: SL BĐỀ | M1: SL ĐỀ | N1: KHOA | O1: LOẠI ĐỀ | P1: HT | Q1: TG THI | R1: SS DS Thi | S1: SL BT | T1: ="CB COI THI 1 SL= "&COUNTA(T2:T2001) -> CB COI THI 1 SL= 26 | U1: ="CB COI THI 2 SL= "&COUNTA(U2:U2001) -> CB COI THI 2 SL= 26 | V1: ="CB GIÁM SÁT SL= "&COUNTA(V2:V2001) -> CB GIÁM SÁT SL= 5 | W1: ="CB DỰ PHÒNG SL= "&COUNTA(W2:W2001) -> CB DỰ PHÒNG SL= 2 | X1: ="CB CHẤM THI 1; SL = "&COUNTA(X2:X2001) -> CB CHẤM THI 1; SL = 19 | Y1: ="CB CHẤM THI 2; SL = "&COUNTA(Y2:Y2001) -> CB CHẤM THI 2; SL = 19 | Z1: SL CT | AA1: GHI CHÚ | AB1: Ktra
A2: =IF(E2="","",SUBTOTAL(3,$E$2:$E2)) -> 1 | B2: 20170814 | E2: 15TCT | F2: 1 | G2: Hóa | J2: R | K2: Nguyễn Huỳnh Mai Hạnh | N2: KHCB | O2: Thi TN | P2: LT | Q2: 90 | S2: 27 | T2: Trần Công Tiến | U2: Hoàng Thị Trang | V2: Đặng Thị Nhật Minh | W2: Trần Nguyên Bảo Trân | X2: Trần Kim Thu Liễu | Y2: Nguyễn Huỳnh Mai Hạnh | Z2: 27 | AB2: =IF(OR(P2="TN",O2="TLAI",AND(O2="KTHP",P2="TH"),E2=""),"",Z2=S2) -> TRUE
A3: =IF(E3="","",SUBTOTAL(3,$E$2:$E3)) -> 2 | B3: 20170814 | E3: 15TCT | F3: 2 | G3: Hóa | J3: R | N3: KHCB | O3: Thi TN | P3: LT | Q3: 90 | S3: 21 | T3: Đinh Thị Huyên | U3: Trịnh Khắc Vũ | X3: Trần Kim Thu Liễu | Y3: Nguyễn Huỳnh Mai Hạnh | Z3: 21 | AB3: =IF(OR(P3="TN",O3="TLAI",AND(O3="KTHP",P3="TH"),E3=""),"",Z3=S3) -> TRUE
A4: =IF(E4="","",SUBTOTAL(3,$E$2:$E4)) -> 3 | B4: 20170814 | E4: 15TCT | F4: 3 | G4: Hóa | J4: R | N4: KHCB | O4: Thi TN | P4: LT | Q4: 90 | S4: 29 | T4: Lê Nguyễn Mỹ Trâm | U4: Đinh Trần Phương Thảo | X4: Trần Kim Thu Liễu | Y4: Nguyễn Huỳnh Mai Hạnh | Z4: 29 | AB4: =IF(OR(P4="TN",O4="TLAI",AND(O4="KTHP",P4="TH"),E4=""),"",Z4=S4) -> TRUE
A5: =IF(E5="","",SUBTOTAL(3,$E$2:$E5)) -> 4 | B5: 20170814 | E5: 15TCT | F5: 4 | G5: Hóa | J5: R | N5: KHCB | O5: Thi TN | P5: LT | Q5: 90 | S5: 24 | T5: Nguyễn Thanh Tú | U5: Nguyễn Thùy Dương | X5: Trần Kim Thu Liễu | Y5: Nguyễn Huỳnh Mai Hạnh | Z5: 24 | AB5: =IF(OR(P5="TN",O5="TLAI",AND(O5="KTHP",P5="TH"),E5=""),"",Z5=S5) -> TRUE
A6: =IF(E6="","",SUBTOTAL(3,$E$2:$E6)) -> 5 | B6: 20170814 | E6: 15TCT | F6: 5 | G6: Hóa | J6: R | N6: KHCB | O6: Thi TN | P6: LT | Q6: 90 | S6: 19 | T6: Dương Đức Kiên | U6: Nguyễn Thị Thu Tâm | X6: Trần Kim Thu Liễu | Y6: Nguyễn Huỳnh Mai Hạnh | Z6: 19 | AB6: =IF(OR(P6="TN",O6="TLAI",AND(O6="KTHP",P6="TH"),E6=""),"",Z6=S6) -> TRUE
A7: =IF(E7="","",SUBTOTAL(3,$E$2:$E7)) -> 6 | B7: 20170815 | E7: 15TCT | F7: 1 | G7: Vật lý | J7: R | K7: Nguyễn Văn Đông | L7: 2 | M7: 2 | N7: KHCB | O7: Thi TN | P7: LT | Q7: 120 | S7: 27 | T7: Triệu Phú Nguyên | U7: Đinh Trần Phương Thảo | V7: Đặng Thái Sơn | W7: Nguyễn Văn Đông | AB7: =IF(OR(P7="TN",O7="TLAI",AND(O7="KTHP",P7="TH"),E7=""),"",Z7=S7) -> FALSE
A8: =IF(E8="","",SUBTOTAL(3,$E$2:$E8)) -> 7 | B8: 20170815 | E8: 15TCT | F8: 2 | G8: Vật lý | J8: R | N8: KHCB | O8: Thi TN | P8: LT | Q8: 120 | S8: 23 | T8: Lê Nguyễn Mỹ Trâm | U8: Trần Minh Tuấn | AB8: =IF(OR(P8="TN",O8="TLAI",AND(O8="KTHP",P8="TH"),E8=""),"",Z8=S8) -> FALSE
A9: =IF(E9="","",SUBTOTAL(3,$E$2:$E9)) -> 8 | B9: 20170815 | E9: 15TCT | F9: 3 | G9: Vật lý | J9: R | N9: KHCB | O9: Thi TN | P9: LT | Q9: 120 | S9: 29 | T9: Trần Công Tiến | U9: Võ Thị Lệ Trân | AB9: =IF(OR(P9="TN",O9="TLAI",AND(O9="KTHP",P9="TH"),E9=""),"",Z9=S9) -> FALSE
A10: =IF(E10="","",SUBTOTAL(3,$E$2:$E10)) -> 9 | B10: 20170815 | E10: 15TCT | F10: 4 | G10: Vật lý | J10: R | N10: KHCB | O10: Thi TN | P10: LT | Q10: 120 | S10: 25 | T10: Nguyễn Thanh Tú | U10: Dương Đức Kiên | AB10: =IF(OR(P10="TN",O10="TLAI",AND(O10="KTHP",P10="TH"),E10=""),"",Z10=S10) -> FALSE
A11: =IF(E11="","",SUBTOTAL(3,$E$2:$E11)) -> 10 | B11: 20170815 | E11: 15TCT | F11: 5 | G11: Vật lý | J11: R | N11: KHCB | O11: Thi TN | P11: LT | Q11: 120 | S11: 21 | T11: Nguyễn Tiến Nhân | U11: Nguyễn Thị Thu Tâm | AB11: =IF(OR(P11="TN",O11="TLAI",AND(O11="KTHP",P11="TH"),E11=""),"",Z11=S11) -> FALSE
A12: =IF(E12="","",SUBTOTAL(3,$E$2:$E12)) -> 11 | B12: 20170816 | E12: 15TCT | F12: 1 | G12: Toán | N12: KHCB | O12: Thi TN | P12: LT | Q12: 120 | T12: Nguyễn Văn Hậu | U12: Võ Thị Lệ Trân | V12: Đặng Thị Nhật Minh | AB12: =IF(OR(P12="TN",O12="TLAI",AND(O12="KTHP",P12="TH"),E12=""),"",Z12=S12) -> TRUE
A13: =IF(E13="","",SUBTOTAL(3,$E$2:$E13)) -> 12 | B13: 20170816 | E13: 15TCT | F13: 2 | G13: Toán | N13: KHCB | O13: Thi TN | P13: LT | Q13: 120 | T13: Dương Đức Kiên | U13: Hoàng Thị Trang | AB13: =IF(OR(P13="TN",O13="TLAI",AND(O13="KTHP",P13="TH"),E13=""),"",Z13=S13) -> TRUE
A14: =IF(E14="","",SUBTOTAL(3,$E$2:$E14)) -> 13 | B14: 20170816 | E14: 15TCT | F14: 3 | G14: Toán | N14: KHCB | O14: Thi TN | P14: LT | Q14: 120 | T14: Lê Nguyễn Mỹ Trâm | U14: Trần Văn Lượng | AB14: =IF(OR(P14="TN",O14="TLAI",AND(O14="KTHP",P14="TH"),E14=""),"",Z14=S14) -> TRUE
A15: =IF(E15="","",SUBTOTAL(3,$E$2:$E15)) -> 14 | B15: 20170816 | E15: 15TCT | F15: 4 | G15: Toán | N15: KHCB | O15: Thi TN | P15: LT | Q15: 120 | T15: Đặng Thế Huân | U15: Đinh Trần Phương Thảo | AB15: =IF(OR(P15="TN",O15="TLAI",AND(O15="KTHP",P15="TH"),E15=""),"",Z15=S15) -> TRUE
A16: =IF(E16="","",SUBTOTAL(3,$E$2:$E16)) -> 15 | B16: 20170816 | E16: 15TCT | F16: 5 | G16: Toán | N16: KHCB | O16: Thi TN | P16: LT | Q16: 120 | T16: Nguyễn Thị Thu Tâm | U16: Nguyễn Thị Thủy(CB) | AB16: =IF(OR(P16="TN",O16="TLAI",AND(O16="KTHP",P16="TH"),E16=""),"",Z16=S16) -> TRUE
A17: =IF(E17="","",SUBTOTAL(3,$E$2:$E17)) -> 16 | B17: 20170817 | E17: 15TCCN | G17: TN Thực hành nghề nghiệp điện CN&DD | J17: R | K17: Châu Văn Bảo | L17: 1 | M17: 2 | N17: Đ-ĐT | O17: ThiTN | P17: TH | S17: 13 | T17: Trần Trung Hiếu | U17: Quách Minh Thử | X17: Trần Trung Hiếu | Y17: Quách Minh Thử | Z17: 13 | AB17: =IF(OR(P17="TN",O17="TLAI",AND(O17="KTHP",P17="TH"),E17=""),"",Z17=S17) -> TRUE
A18: =IF(E18="","",SUBTOTAL(3,$E$2:$E18)) -> 17 | B18: 20170817 | E18: 15TCCN | G18: TN Thực hành nghề nghiệp điện lạnh | J18: R | K18: Đinh Đồng Hiệp | L18: 1 | M18: 1 | N18: N-LA | O18: ThiTN | P18: TH | S18: 11 | T18: Đỗ Trọng Quý | U18: Phan Văn Hòa | X18: Đỗ Trọng Quý | Y18: Phan Văn Hòa | Z18: 11 | AB18: =IF(OR(P18="TN",O18="TLAI",AND(O18="KTHP",P18="TH"),E18=""),"",Z18=S18) -> TRUE
A19: =IF(E19="","",SUBTOTAL(3,$E$2:$E19)) -> 18 | B19: 20170817 | E19: 15TCCN | G19: TN Thực hành nghề nghiệp may | J19: R | K19: Phạm Thị Thanh Thúy | L19: 1 | M19: 1 | N19: M-TT | O19: ThiTN | P19: TH | S19: 5 | T19: Bùi Thị Ngọc Sương | U19: Nguyễn Thị Hiền | X19: Bùi Thị Ngọc Sương | Y19: Nguyễn Thị Hiền | Z19: 5 | AB19: =IF(OR(P19="TN",O19="TLAI",AND(O19="KTHP",P19="TH"),E19=""),"",Z19=S19) -> TRUE
A20: =IF(E20="","",SUBTOTAL(3,$E$2:$E20)) -> 19 | B20: 20170817 | E20: 15TCCN | G20: TN Thực hành nghề nghiệp ô tô | J20: R | K20: Nguyễn Anh Tuấn | L20: 1 | M20: 5 | N20: ĐLUC | O20: ThiTN | P20: TH | S20: 13 | T20: Võ Đắc Thịnh | U20: Phan Anh Tuấn Kiệt | X20: Võ Đắc Thịnh | Y20: Phan Anh Tuấn Kiệt | Z20: 13 | AB20: =IF(OR(P20="TN",O20="TLAI",AND(O20="KTHP",P20="TH"),E20=""),"",Z20=S20) -> TRUE
A21: =IF(E21="","",SUBTOTAL(3,$E$2:$E21)) -> 20 | B21: 20170817 | E21: 15TCCN | G21: TN Thực hành nghề nghiệp phay | J21: R | K21: Chung Trần Thế Vinh | L21: 1 | M21: 1 | N21: CKHI | O21: ThiTN | P21: TH | S21: 0 | T21: Phan Văn Thành | U21: Nguyễn Duy Hải | Z21: 0 | AB21: =IF(OR(P21="TN",O21="TLAI",AND(O21="KTHP",P21="TH"),E21=""),"",Z21=S21) -> TRUE
A22: =IF(E22="","",SUBTOTAL(3,$E$2:$E22)) -> 21 | B22: 20170817 | E22: 15TCCN | G22: TN Thực hành nghề nghiệp QT mạng | J22: R | K22: Nguyễn Văn Đôn | L22: 1 | M22: 5 | N22: CNTT | O22: ThiTN | P22: TH | S22: 6 | T22: Nguyễn Văn Đôn | U22: Lê Quý Hưng Quốc | X22: Nguyễn Văn Đôn | Y22: Lê Quý Hưng Quốc | Z22: 6 | AB22: =IF(OR(P22="TN",O22="TLAI",AND(O22="KTHP",P22="TH"),E22=""),"",Z22=S22) -> TRUE
A23: =IF(E23="","",SUBTOTAL(3,$E$2:$E23)) -> 22 | B23: 20170817 | E23: 15TCCN | G23: TN Thực hành nghề nghiệp tiện | J23: R | K23: Chung Trần Thế Vinh | L23: 1 | M23: 1 | N23: CKHI | O23: ThiTN | P23: TH | S23: 12 | T23: Dương Minh Chung | U23: Vũ Đức Pháp | X23: Dương Minh Chung | Y23: Vũ Đức Pháp | Z23: 12 | AB23: =IF(OR(P23="TN",O23="TLAI",AND(O23="KTHP",P23="TH"),E23=""),"",Z23=S23) -> TRUE
A24: =IF(E24="","",SUBTOTAL(3,$E$2:$E24)) -> 23 | B24: 20170818 | C24: 08h00 | D24: C3.1 - 04 | E24: 15TCCN | F24: 1 | G24: TN Giáo dục Chính trị | J24: R | K24: Đinh Thị Huyên | L24: 2 | M24: 2 | N24: LLCT | O24: ThiTN | P24: LT | Q24: 120 | S24: 30 | T24: Đặng Thị Nhật Minh | U24: Hoàng Thị Trang | V24: Đinh Thị Huyên | X24: Nguyễn Ngọc Quỳnh(CT) | Y24: Đinh Thị Huyên | Z24: 30 | AB24: =IF(OR(P24="TN",O24="TLAI",AND(O24="KTHP",P24="TH"),E24=""),"",Z24=S24) -> TRUE
A25: =IF(E25="","",SUBTOTAL(3,$E$2:$E25)) -> 24 | B25: 20170818 | C25: 08h00 | D25: C3.1 - 05 | E25: 15TCCN | F25: 2 | G25: TN Giáo dục Chính trị | J25: R | N25: LLCT | O25: ThiTN | P25: LT | Q25: 120 | S25: 26 | T25: Phan Thị Thùy Trang | U25: Trần Thị Hồng Thu | X25: Đinh Thị Huyên | Y25: Nguyễn Ngọc Quỳnh(CT) | Z25: 26 | AB25: =IF(OR(P25="TN",O25="TLAI",AND(O25="KTHP",P25="TH"),E25=""),"",Z25=S25) -> TRUE
A26: =IF(E26="","",SUBTOTAL(3,$E$2:$E26)) -> 25 | B26: 20170819 | C26: 08h00 | D26: C3.1 - 04 | E26: 15TCCN | G26: TN Lý thuyết tổng hợp cơ khí | J26: R | K26: Chung Trần Thế Vinh | L26: 2 | M26: 2 | N26: CKHI | O26: ThiTN | P26: LT | Q26: 120 | S26: 14 | X26: Vũ Đức Pháp | Y26: Phan Văn Thành | Z26: 14 | AB26: =IF(OR(P26="TN",O26="TLAI",AND(O26="KTHP",P26="TH"),E26=""),"",Z26=S26) -> TRUE
A27: =IF(E27="","",SUBTOTAL(3,$E$2:$E27)) -> 26 | B27: 20170819 | C27: 08h00 | D27: C3.1 - 04 | E27: 15TCCN | G27: TN Lý thuyết tổng hợp ô tô | J27: R | K27: Nguyễn Anh Tuấn | L27: 2 | M27: 2 | N27: ĐLUC | O27: ThiTN | P27: LT | Q27: 120 | S27: 15 | T27: Đỗ Huỳnh Thanh Phong | U27: Trần Trung Hiếu | X27: Đặng Thái Sơn | Y27: Võ Đắc Thịnh | Z27: 15 | AB27: =IF(OR(P27="TN",O27="TLAI",AND(O27="KTHP",P27="TH"),E27=""),"",Z27=S27) -> TRUE
A28: =IF(E28="","",SUBTOTAL(3,$E$2:$E28)) -> 27 | B28: 20170819 | C28: 08h00 | D28: C3.1 - 04 | E28: 15TCCN | G28: TN Lý thuyết tổng hợp QT mạng | N28: CNTT | O28: ThiTN | P28: LT | Q28: 120 | S28: 5 | X28: Nguyễn Văn Minh(TT) | Y28: Nguyễn Văn Danh | Z28: 5 | AB28: =IF(OR(P28="TN",O28="TLAI",AND(O28="KTHP",P28="TH"),E28=""),"",Z28=S28) -> TRUE
A29: =IF(E29="","",SUBTOTAL(3,$E$2:$E29)) -> 28 | B29: 20170819 | C29: 08h00 | D29: C3.1 - 05 | E29: 15TCCN | G29: TN Lý thuyết tổng hợp điện CN&DD | J29: R | K29: Châu Văn Bảo | L29: 2 | M29: 2 | N29: Đ-ĐT | O29: ThiTN | P29: LT | Q29: 120 | S29: 13 | T29: Nguyễn Thùy Linh | U29: Trần Minh Tuấn | V29: Đặng Thị Nhật Minh | X29: Đỗ Huỳnh Thanh Phong | Y29: Nguyễn Minh Đức Cường | Z29: 13 | AB29: =IF(OR(P29="TN",O29="TLAI",AND(O29="KTHP",P29="TH"),E29=""),"",Z29=S29) -> TRUE
A30: =IF(E30="","",SUBTOTAL(3,$E$2:$E30)) -> 29 | B30: 20170819 | C30: 08h00 | D30: C3.1 - 05 | E30: 15TCCN | G30: TN Lý thuyết tổng hợp điện lạnh | J30: R | K30: Đinh Đồng Hiệp | L30: 2 | M30: 2 | N30: N-LA | O30: ThiTN | P30: LT | Q30: 120 | S30: 12 | X30: Nguyễn Vũ Xuân Thì | Y30: Võ Anh Hào | Z30: 12 | AB30: =IF(OR(P30="TN",O30="TLAI",AND(O30="KTHP",P30="TH"),E30=""),"",Z30=S30) -> TRUE
A31: =IF(E31="","",SUBTOTAL(3,$E$2:$E31)) -> 30 | B31: 20170819 | C31: 08h00 | D31: C3.1 - 05 | E31: 15TCCN | G31: TN Lý thuyết tổng hợp may | J31: R | K31: Phạm Thị Thanh Thúy | L31: 2 | M31: 2 | N31: M-TT | O31: ThiTN | P31: LT | Q31: 120 | S31: 5 | X31: Nguyễn Ngọc Thọ | Y31: Lâm Thị Phương Thùy | Z31: 5 | AB31: =IF(OR(P31="TN",O31="TLAI",AND(O31="KTHP",P31="TH"),E31=""),"",Z31=S31) -> TRUE
A32: =IF(E32="","",SUBTOTAL(3,$E$2:$E32)) | AB32: =IF(OR(P32="TN",O32="TLAI",AND(O32="KTHP",P32="TH"),E32=""),"",Z32=S32)
A33: =IF(E33="","",SUBTOTAL(3,$E$2:$E33)) | AB33: =IF(OR(P33="TN",O33="TLAI",AND(O33="KTHP",P33="TH"),E33=""),"",Z33=S33)
A34: =IF(E34="","",SUBTOTAL(3,$E$2:$E34)) | AB34: =IF(OR(P34="TN",O34="TLAI",AND(O34="KTHP",P34="TH"),E34=""),"",Z34=S34)
A35: =IF(E35="","",SUBTOTAL(3,$E$2:$E35)) | AB35: =IF(OR(P35="TN",O35="TLAI",AND(O35="KTHP",P35="TH"),E35=""),"",Z35=S35)
A36: =IF(E36="","",SUBTOTAL(3,$E$2:$E36)) | AB36: =IF(OR(P36="TN",O36="TLAI",AND(O36="KTHP",P36="TH"),E36=""),"",Z36=S36)
A37: =IF(E37="","",SUBTOTAL(3,$E$2:$E37)) | AB37: =IF(OR(P37="TN",O37="TLAI",AND(O37="KTHP",P37="TH"),E37=""),"",Z37=S37)
A38: =IF(E38="","",SUBTOTAL(3,$E$2:$E38)) | AB38: =IF(OR(P38="TN",O38="TLAI",AND(O38="KTHP",P38="TH"),E38=""),"",Z38=S38)
A39: =IF(E39="","",SUBTOTAL(3,$E$2:$E39)) | AB39: =IF(OR(P39="TN",O39="TLAI",AND(O39="KTHP",P39="TH"),E39=""),"",Z39=S39)
A40: =IF(E40="","",SUBTOTAL(3,$E$2:$E40)) | AB40: =IF(OR(P40="TN",O40="TLAI",AND(O40="KTHP",P40="TH"),E40=""),"",Z40=S40)
A41: =IF(E41="","",SUBTOTAL(3,$E$2:$E41)) | AB41: =IF(OR(P41="TN",O41="TLAI",AND(O41="KTHP",P41="TH"),E41=""),"",Z41=S41)
A42: =IF(E42="","",SUBTOTAL(3,$E$2:$E42)) | AB42: =IF(OR(P42="TN",O42="TLAI",AND(O42="KTHP",P42="TH"),E42=""),"",Z42=S42)
A43: =IF(E43="","",SUBTOTAL(3,$E$2:$E43)) | AB43: =IF(OR(P43="TN",O43="TLAI",AND(O43="KTHP",P43="TH"),E43=""),"",Z43=S43)
... A2222: =IF(E2222="","",SUBTOTAL(3,$E$2:$E2222)) | AB2222: =IF(OR(P2222="TN",O2222="TLAI",AND(O2222="KTHP",P2222="TH"),E2222=""),"",Z2222=S2222)
R2223: =SUBTOTAL(9,R2:R2222) -> 0 | S2223: =SUBTOTAL(9,S2:S2222) -> 425 | Z2223: =SUBTOTAL(9,Z2:Z2222) -> 300 | AC2223: =SUBTOTAL(9,AC2:AC2222) -> 0

Sheet QL THI
A1: KHỐI, LỚP | B1: NGÀY THI | C1: CA THI | D1: TG THI MAX | E1: CB GIÁM SÁT | F1: KL G.SÁT | G1: CB CT DỰ PHÒNG | H1: KL D.PHÒNG
A2: =IF(TONGHOP!E2="","",TONGHOP!E2) -> 15TCT | B2: =IF(TONGHOP!B2="","",TONGHOP!B2) -> 20170814 | C2: =IF(TONGHOP!C2="","",TONGHOP!C2) | D2: =IF(TONGHOP!Q2="","",TONGHOP!Q2) -> 90 | E2: =IF(TONGHOP!V2="","",IF(OR(TONGHOP!O2="KTHP",TONGHOP!O2="ThiTN"),TONGHOP!V2,"")) | F2: =IF(E2="","",IF(D2>150,2.5,IF(D2>120,2,IF(D2>90,1.6,1.2)))) | G2: =IF(TONGHOP!W2="","",IF(OR(TONGHOP!O2="KTHP",TONGHOP!O2="ThiTN"),TONGHOP!W2,"")) | H2: =IF(G2="","",IF(D2>150,2.5,IF(D2>120,2,IF(D2>90,1.6,1.2))))
A3: =IF(TONGHOP!E3="","",TONGHOP!E3) -> 15TCT | B3: =IF(TONGHOP!B3="","",TONGHOP!B3) -> 20170814 | C3: =IF(TONGHOP!C3="","",TONGHOP!C3) | D3: =IF(TONGHOP!Q3="","",TONGHOP!Q3) -> 90 | E3: =IF(TONGHOP!V3="","",IF(OR(TONGHOP!O3="KTHP",TONGHOP!O3="ThiTN"),TONGHOP!V3,"")) | F3: =IF(E3="","",IF(D3>150,2.5,IF(D3>120,2,IF(D3>90,1.6,1.2)))) | G3: =IF(TONGHOP!W3="","",IF(OR(TONGHOP!O3="KTHP",TONGHOP!O3="ThiTN"),TONGHOP!W3,"")) | H3: =IF(G3="","",IF(D3>150,2.5,IF(D3>120,2,IF(D3>90,1.6,1.2))))
A4: =IF(TONGHOP!E4="","",TONGHOP!E4) -> 15TCT | B4: =IF(TONGHOP!B4="","",TONGHOP!B4) -> 20170814 | C4: =IF(TONGHOP!C4="","",TONGHOP!C4) | D4: =IF(TONGHOP!Q4="","",TONGHOP!Q4) -> 90 | E4: =IF(TONGHOP!V4="","",IF(OR(TONGHOP!O4="KTHP",TONGHOP!O4="ThiTN"),TONGHOP!V4,"")) | F4: =IF(E4="","",IF(D4>150,2.5,IF(D4>120,2,IF(D4>90,1.6,1.2)))) | G4: =IF(TONGHOP!W4="","",IF(OR(TONGHOP!O4="KTHP",TONGHOP!O4="ThiTN"),TONGHOP!W4,"")) | H4: =IF(G4="","",IF(D4>150,2.5,IF(D4>120,2,IF(D4>90,1.6,1.2))))
A5: =IF(TONGHOP!E5="","",TONGHOP!E5) -> 15TCT | B5: =IF(TONGHOP!B5="","",TONGHOP!B5) -> 20170814 | C5: =IF(TONGHOP!C5="","",TONGHOP!C5) | D5: =IF(TONGHOP!Q5="","",TONGHOP!Q5) -> 90 | E5: =IF(TONGHOP!V5="","",IF(OR(TONGHOP!O5="KTHP",TONGHOP!O5="ThiTN"),TONGHOP!V5,"")) | F5: =IF(E5="","",IF(D5>150,2.5,IF(D5>120,2,IF(D5>90,1.6,1.2)))) | G5: =IF(TONGHOP!W5="","",IF(OR(TONGHOP!O5="KTHP",TONGHOP!O5="ThiTN"),TONGHOP!W5,"")) | H5: =IF(G5="","",IF(D5>150,2.5,IF(D5>120,2,IF(D5>90,1.6,1.2))))
A6: =IF(TONGHOP!E6="","",TONGHOP!E6) -> 15TCT | B6: =IF(TONGHOP!B6="","",TONGHOP!B6) -> 20170814 | C6: =IF(TONGHOP!C6="","",TONGHOP!C6) | D6: =IF(TONGHOP!Q6="","",TONGHOP!Q6) -> 90 | E6: =IF(TONGHOP!V6="","",IF(OR(TONGHOP!O6="KTHP",TONGHOP!O6="ThiTN"),TONGHOP!V6,"")) | F6: =IF(E6="","",IF(D6>150,2.5,IF(D6>120,2,IF(D6>90,1.6,1.2)))) | G6: =IF(TONGHOP!W6="","",IF(OR(TONGHOP!O6="KTHP",TONGHOP!O6="ThiTN"),TONGHOP!W6,"")) | H6: =IF(G6="","",IF(D6>150,2.5,IF(D6>120,2,IF(D6>90,1.6,1.2))))
A7: =IF(TONGHOP!E7="","",TONGHOP!E7) -> 15TCT | B7: =IF(TONGHOP!B7="","",TONGHOP!B7) -> 20170815 | C7: =IF(TONGHOP!C7="","",TONGHOP!C7) | D7: =IF(TONGHOP!Q7="","",TONGHOP!Q7) -> 120 | E7: =IF(TONGHOP!V7="","",IF(OR(TONGHOP!O7="KTHP",TONGHOP!O7="ThiTN"),TONGHOP!V7,"")) | F7: =IF(E7="","",IF(D7>150,2.5,IF(D7>120,2,IF(D7>90,1.6,1.2)))) | G7: =IF(TONGHOP!W7="","",IF(OR(TONGHOP!O7="KTHP",TONGHOP!O7="ThiTN"),TONGHOP!W7,"")) | H7: =IF(G7="","",IF(D7>150,2.5,IF(D7>120,2,IF(D7>90,1.6,1.2))))
A8: =IF(TONGHOP!E8="","",TONGHOP!E8) -> 15TCT | B8: =IF(TONGHOP!B8="","",TONGHOP!B8) -> 20170815 | C8: =IF(TONGHOP!C8="","",TONGHOP!C8) | D8: =IF(TONGHOP!Q8="","",TONGHOP!Q8) -> 120 | E8: =IF(TONGHOP!V8="","",IF(OR(TONGHOP!O8="KTHP",TONGHOP!O8="ThiTN"),TONGHOP!V8,"")) | F8: =IF(E8="","",IF(D8>150,2.5,IF(D8>120,2,IF(D8>90,1.6,1.2)))) | G8: =IF(TONGHOP!W8="","",IF(OR(TONGHOP!O8="KTHP",TONGHOP!O8="ThiTN"),TONGHOP!W8,"")) | H8: =IF(G8="","",IF(D8>150,2.5,IF(D8>120,2,IF(D8>90,1.6,1.2))))
A9: =IF(TONGHOP!E9="","",TONGHOP!E9) -> 15TCT | B9: =IF(TONGHOP!B9="","",TONGHOP!B9) -> 20170815 | C9: =IF(TONGHOP!C9="","",TONGHOP!C9) | D9: =IF(TONGHOP!Q9="","",TONGHOP!Q9) -> 120 | E9: =IF(TONGHOP!V9="","",IF(OR(TONGHOP!O9="KTHP",TONGHOP!O9="ThiTN"),TONGHOP!V9,"")) | F9: =IF(E9="","",IF(D9>150,2.5,IF(D9>120,2,IF(D9>90,1.6,1.2)))) | G9: =IF(TONGHOP!W9="","",IF(OR(TONGHOP!O9="KTHP",TONGHOP!O9="ThiTN"),TONGHOP!W9,"")) | H9: =IF(G9="","",IF(D9>150,2.5,IF(D9>120,2,IF(D9>90,1.6,1.2))))
A10: =IF(TONGHOP!E10="","",TONGHOP!E10) -> 15TCT | B10: =IF(TONGHOP!B10="","",TONGHOP!B10) -> 20170815 | C10: =IF(TONGHOP!C10="","",TONGHOP!C10) | D10: =IF(TONGHOP!Q10="","",TONGHOP!Q10) -> 120 | E10: =IF(TONGHOP!V10="","",IF(OR(TONGHOP!O10="KTHP",TONGHOP!O10="ThiTN"),TONGHOP!V10,"")) | F10: =IF(E10="","",IF(D10>150,2.5,IF(D10>120,2,IF(D10>90,1.6,1.2)))) | G10: =IF(TONGHOP!W10="","",IF(OR(TONGHOP!O10="KTHP",TONGHOP!O10="ThiTN"),TONGHOP!W10,"")) | H10: =IF(G10="","",IF(D10>150,2.5,IF(D10>120,2,IF(D10>90,1.6,1.2))))
A11: =IF(TONGHOP!E11="","",TONGHOP!E11) -> 15TCT | B11: =IF(TONGHOP!B11="","",TONGHOP!B11) -> 20170815 | C11: =IF(TONGHOP!C11="","",TONGHOP!C11) | D11: =IF(TONGHOP!Q11="","",TONGHOP!Q11) -> 120 | E11: =IF(TONGHOP!V11="","",IF(OR(TONGHOP!O11="KTHP",TONGHOP!O11="ThiTN"),TONGHOP!V11,"")) | F11: =IF(E11="","",IF(D11>150,2.5,IF(D11>120,2,IF(D11>90,1.6,1.2)))) | G11: =IF(TONGHOP!W11="","",IF(OR(TONGHOP!O11="KTHP",TONGHOP!O11="ThiTN"),TONGHOP!W11,"")) | H11: =IF(G11="","",IF(D11>150,2.5,IF(D11>120,2,IF(D11>90,1.6,1.2))))
A12: =IF(TONGHOP!E12="","",TONGHOP!E12) -> 15TCT | B12: =IF(TONGHOP!B12="","",TONGHOP!B12) -> 20170816 | C12: =IF(TONGHOP!C12="","",TONGHOP!C12) | D12: =IF(TONGHOP!Q12="","",TONGHOP!Q12) -> 120 | E12: =IF(TONGHOP!V12="","",IF(OR(TONGHOP!O12="KTHP",TONGHOP!O12="ThiTN"),TONGHOP!V12,"")) | F12: =IF(E12="","",IF(D12>150,2.5,IF(D12>120,2,IF(D12>90,1.6,1.2)))) | G12: =IF(TONGHOP!W12="","",IF(OR(TONGHOP!O12="KTHP",TONGHOP!O12="ThiTN"),TONGHOP!W12,"")) | H12: =IF(G12="","",IF(D12>150,2.5,IF(D12>120,2,IF(D12>90,1.6,1.2))))
A13: =IF(TONGHOP!E13="","",TONGHOP!E13) -> 15TCT | B13: =IF(TONGHOP!B13="","",TONGHOP!B13) -> 20170816 | C13: =IF(TONGHOP!C13="","",TONGHOP!C13) | D13: =IF(TONGHOP!Q13="","",TONGHOP!Q13) -> 120 | E13: =IF(TONGHOP!V13="","",IF(OR(TONGHOP!O13="KTHP",TONGHOP!O13="ThiTN"),TONGHOP!V13,"")) | F13: =IF(E13="","",IF(D13>150,2.5,IF(D13>120,2,IF(D13>90,1.6,1.2)))) | G13: =IF(TONGHOP!W13="","",IF(OR(TONGHOP!O13="KTHP",TONGHOP!O13="ThiTN"),TONGHOP!W13,"")) | H13: =IF(G13="","",IF(D13>150,2.5,IF(D13>120,2,IF(D13>90,1.6,1.2))))
... A1501: =IF(TONGHOP!E1501="","",TONGHOP!E1501) | B1501: =IF(TONGHOP!B1501="","",TONGHOP!B1501) | C1501: =IF(TONGHOP!C1501="","",TONGHOP!C1501) | D1501: =IF(TONGHOP!Q1501="","",TONGHOP!Q1501) | E1501: =IF(TONGHOP!V1501="","",IF(OR(TONGHOP!O1501="KTHP",TONGHOP!O1501="ThiTN"),TONGHOP!V1501,"")) | F1501: =IF(E1501="","",IF(D1501>150,2.5,IF(D1501>120,2,IF(D1501>90,1.6,1.2)))) | G1501: =IF(TONGHOP!W1501="","",IF(OR(TONGHOP!O1501="KTHP",TONGHOP!O1501="ThiTN"),TONGHOP!W1501,"")) | H1501: =IF(G1501="","",IF(D1501>150,2.5,IF(D1501>120,2,IF(D1501>90,1.6,1.2))))

Sheet TK KHOILUONG
E1: =SUBTOTAL(9,E3:E501) -> 0 | F1: =SUBTOTAL(9,F3:F501) -> 0 | G1: =SUBTOTAL(9,G3:G501) -> 10 | H1: =SUBTOTAL(9,H3:H501) -> 5 | I1: =SUBTOTAL(9,I3:I501) -> 40 | J1: =SUBTOTAL(9,J3:J501) -> 0 | K1: =SUBTOTAL(9,K3:K501) -> 0 | L1: =SUBTOTAL(9,L3:L501) -> 7.6 | ... AH1: =SUBTOTAL(9,AH3:AH501) -> 87.8
A2: STT | B2: Mã nhân sự | C2: Đơn vị | D2: HỌ VÀ TÊN GIẢNG VIÊN | E2: ĐỀ THI | J2: COI THI | O2: CHẤM THI KTHP | W2: CHẤM THI TỐT NGHIỆP | AF2: DỰ PHÒNG KỲ THI | AG2: GIÁM SÁT | AH2: TỔNG KHỐI LƯỢNG | AI2: =SUBTOTAL(9,AH:AH) -> 87.8
O3: LÝ THUYẾT | S3: TIỂU LUẬN | W3: LÝ THUYẾT | Z3: T.HÀNH CHUNG | AC3: T.HÀNH RIÊNG
E4: SL ĐỀ LT KTHP | F4: SL ĐỀ TN KTHP | G4: SL ĐỀ LT TN | H4: SL ĐỀ TH TN | I4: KL SOẠN ĐỀ (tiết) | J4: KTHPLT COITHI 1 | K4: KTHPLT COITHI 2 | L4: ThiTN COITHI 1 | M4: ThiTN COITHI 2 | N4: KL COITHI (tiết) | O4: SL CHẤM LT 1 | P4: SL CHẤM LT 2 | Q4: SL CHẤM LT NGHĨA VỤ | R4: KL CHẤM LT (tiết) | S4: SL CHẤM TL 1 | T4: SL CHẤM TL 2 | U4: SL CHẤM TL NGHĨA VỤ | V4: KL CHẤM TL (tiết) | W4: SL BÀI LT CHẤM 1 | X4: SL BÀI LT CHẤM 2 | Y4: KL CHẤM LT (tiết) | Z4: SL BÀI TL CHẤM 1 | AA4: SL BÀI TL CHẤM 2 | AB4: KL CHẤM TL (tiết) | AC4: SL BÀI TL CHẤM 1 | AD4: SL BÀI TL CHẤM 2 | AE4: KL CHẤM TL (tiết)
A5: =IF(D5="","",SUBTOTAL(3,$D$5:D5)) -> 0 | B5: 01001001 | C5: Ban Giám hiệu | D5: Phạm Hữu Lộc | E5: =IF(D5="","",SUMIF('TK DETHI'!A:A,D5,'TK DETHI'!B:B)) -> 0 | F5: =IF(D5="","",SUMIF('TK DETHI'!C:C,D5,'TK DETHI'!D:D)) -> 0 | G5: =IF(D5="","",SUMIF('TK DETHI'!E:E,D5,'TK DETHI'!F:F)) -> 0 | H5: =IF(D5="","",SUMIF('TK DETHI'!G:G,D5,'TK DETHI'!H:H)) -> 0 | I5: =IF(D5="","",(E5+F5*2+G5*3+H5*2)) -> 0 | J5: =IF(D5="","",SUMIF('TK COITHI KTHP'!A:A,D5,'TK COITHI KTHP'!C:C)+SUMIF('TK COITHI KTHP'!D:D,D5,'TK COITHI KTHP'!F:F)+SUMIF('TK COITHI KTHP'!G:G,D5,'TK COITHI KTHP'!I:I)+SUMIF('TK COITHI KTHP'!J:J,D5,'TK COITHI KTHP'!L:L)) -> 0 | K5: =IF(D5="","",SUMIF('TK COITHI KTHP'!B:B,D5,'TK COITHI KTHP'!C:C)+SUMIF('TK COITHI KTHP'!E:E,D5,'TK COITHI KTHP'!F:F)+SUMIF('TK COITHI KTHP'!H:H,D5,'TK COITHI KTHP'!I:I)+SUMIF('TK COITHI KTHP'!K:K,D5,'TK COITHI KTHP'!L:L)) -> 0 | L5: =IF(D5="","",SUMIF('TK COI THI TOT NGHIEP'!A:A,D5,'TK COI THI TOT NGHIEP'!C:C)+SUMIF('TK COI THI TOT NGHIEP'!D:D,D5,'TK COI THI TOT NGHIEP'!F:F)+SUMIF('TK COI THI TOT NGHIEP'!G:G,D5,'TK COI THI TOT NGHIEP'!I:I)+SUMIF('TK COI THI TOT NGHIEP'!J:J,D5,'TK COI THI TOT NGHIEP'!L:L)) -> 0 | M5: =IF(D5="","",SUMIF('TK COI THI TOT NGHIEP'!B:B,D5,'TK COI THI TOT NGHIEP'!C:C)+SUMIF('TK COI THI TOT NGHIEP'!E:E,D5,'TK COI THI TOT NGHIEP'!F:F)+SUMIF('TK COI THI TOT NGHIEP'!H:H,D5,'TK COI THI TOT NGHIEP'!I:I)+SUMIF('TK COI THI TOT NGHIEP'!K:K,D5,'TK COI THI TOT NGHIEP'!L:L)) -> 0 | N5: =IF(D5="","",SUM(J5:M5)) -> 0 | O5: =IF(D5="","",SUMIF('TK CHAMTHI'!A:A,D5,'TK CHAMTHI'!C:C)) -> 0 | P5: =IF(D5="","",SUMIF('TK CHAMTHI'!B:B,D5,'TK CHAMTHI'!C:C)) -> 0 | Q5: =IF(D5="","",SUMIF('CHAM NV'!B:B,D5,'CHAM NV'!C:C)) -> 0 | R5: =IF(D5="","",(SUM(O5:P5)-Q5)/20) -> 0 | S5: =IF(D5="","",SUMIF('TK CHAMTHI'!D:D,D5,'TK CHAMTHI'!F:F)) -> 0 | T5: =IF(D5="","",SUMIF('TK CHAMTHI'!E:E,D5,'TK CHAMTHI'!F:F)) -> 0 | U5: =IF(D5="","",SUMIF('CHAM NV'!E:E,D5,'CHAM NV'!F:F)) -> 0 | V5: =IF(D5="","",(SUM(S5:T5)-U5)/10) -> 0 | W5: =IF(D5="","",SUMIF('TK CHAMTHI'!G:G,D5,'TK CHAMTHI'!I:I)) -> 0 | X5: =IF(D5="","",SUMIF('TK CHAMTHI'!H:H,D5,'TK CHAMTHI'!I:I)) -> 0 | Y5: =IF(D5="","",SUM(W5:X5)/14) -> 0 | Z5: =IF(D5="","",SUMIF('TK CHAMTHI'!J:J,D5,'TK CHAMTHI'!L:L)) -> 0 | AA5: =IF(D5="","",SUMIF('TK CHAMTHI'!K:K,D5,'TK CHAMTHI'!L:L)) -> 0 | AB5: =IF(D5="","",SUM(Z5:AA5)/10) -> 0 | AC5: =IF(D5="","",SUMIF('TK CHAMTHI'!M:M,D5,'TK CHAMTHI'!O:O)) -> 0 | AD5: =IF(D5="","",SUMIF('TK CHAMTHI'!N:N,D5,'TK CHAMTHI'!O:O)) -> 0 | AE5: =IF(D5="","",SUM(AC5:AD5)/20) -> 0 | AF5: =IF(D5="","",ROUND(SUMIF('QL THI'!G:G,D5,'QL THI'!H:H),1)) -> 0 | AG5: =IF(D5="","",ROUND(SUMIF('QL THI'!E:E,D5,'QL THI'!F:F),1)) -> 0 | AH5: =IF(D5="","",ROUND(I5+N5+R5+V5+Y5+AB5+AE5+SUM(AF5:AG5),1)) -> 0
A6: =IF(D6="","",SUBTOTAL(3,$D$5:D6)) -> 0 | B6: 01002001 | C6: Ban Giám hiệu | D6: Đinh Hồng Minh | E6: =IF(D6="","",SUMIF('TK DETHI'!A:A,D6,'TK DETHI'!B:B)) -> 0 | F6: =IF(D6="","",SUMIF('TK DETHI'!C:C,D6,'TK DETHI'!D:D)) -> 0 | G6: =IF(D6="","",SUMIF('TK DETHI'!E:E,D6,'TK DETHI'!F:F)) -> 0 | H6: =IF(D6="","",SUMIF('TK DETHI'!G:G,D6,'TK DETHI'!H:H)) -> 0 | I6: =IF(D6="","",(E6+F6*2+G6*3+H6*2)) -> 0 | J6: =IF(D6="","",SUMIF('TK COITHI KTHP'!A:A,D6,'TK COITHI KTHP'!C:C)+SUMIF('TK COITHI KTHP'!D:D,D6,'TK COITHI KTHP'!F:F)+SUMIF('TK COITHI KTHP'!G:G,D6,'TK COITHI KTHP'!I:I)+SUMIF('TK COITHI KTHP'!J:J,D6,'TK COITHI KTHP'!L:L)) -> 0 | K6: =IF(D6="","",SUMIF('TK COITHI KTHP'!B:B,D6,'TK COITHI KTHP'!C:C)+SUMIF('TK COITHI KTHP'!E:E,D6,'TK COITHI KTHP'!F:F)+SUMIF('TK COITHI KTHP'!H:H,D6,'TK COITHI KTHP'!I:I)+SUMIF('TK COITHI KTHP'!K:K,D6,'TK COITHI KTHP'!L:L)) -> 0 | L6: =IF(D6="","",SUMIF('TK COI THI TOT NGHIEP'!A:A,D6,'TK COI THI TOT NGHIEP'!C:C)+SUMIF('TK COI THI TOT NGHIEP'!D:D,D6,'TK COI THI TOT NGHIEP'!F:F)+SUMIF('TK COI THI TOT NGHIEP'!G:G,D6,'TK COI THI TOT NGHIEP'!I:I)+SUMIF('TK COI THI TOT NGHIEP'!J:J,D6,'TK COI THI TOT NGHIEP'!L:L)) -> 0 | M6: =IF(D6="","",SUMIF('TK COI THI TOT NGHIEP'!B:B,D6,'TK COI THI TOT NGHIEP'!C:C)+SUMIF('TK COI THI TOT NGHIEP'!E:E,D6,'TK COI THI TOT NGHIEP'!F:F)+SUMIF('TK COI THI TOT NGHIEP'!H:H,D6,'TK COI THI TOT NGHIEP'!I:I)+SUMIF('TK COI THI TOT NGHIEP'!K:K,D6,'TK COI THI TOT NGHIEP'!L:L)) -> 0 | N6: =IF(D6="","",SUM(J6:M6)) -> 0 | O6: =IF(D6="","",SUMIF('TK CHAMTHI'!A:A,D6,'TK CHAMTHI'!C:C)) -> 0 | P6: =IF(D6="","",SUMIF('TK CHAMTHI'!B:B,D6,'TK CHAMTHI'!C:C)) -> 0 | Q6: =IF(D6="","",SUMIF('CHAM NV'!B:B,D6,'CHAM NV'!C:C)) -> 0 | R6: =IF(D6="","",(SUM(O6:P6)-Q6)/20) -> 0 | S6: =IF(D6="","",SUMIF('TK CHAMTHI'!D:D,D6,'TK CHAMTHI'!F:F)) -> 0 | T6: =IF(D6="","",SUMIF('TK CHAMTHI'!E:E,D6,'TK CHAMTHI'!F:F)) -> 0 | U6: =IF(D6="","",SUMIF('CHAM NV'!E:E,D6,'CHAM NV'!F:F)) -> 0 | V6: =IF(D6="","",(SUM(S6:T6)-U6)/10) -> 0 | W6: =IF(D6="","",SUMIF('TK CHAMTHI'!G:G,D6,'TK CHAMTHI'!I:I)) -> 0 | X6: =IF(D6="","",SUMIF('TK CHAMTHI'!H:H,D6,'TK CHAMTHI'!I:I)) -> 0 | Y6: =IF(D6="","",SUM(W6:X6)/14) -> 0 | Z6: =IF(D6="","",SUMIF('TK CHAMTHI'!J:J,D6,'TK CHAMTHI'!L:L)) -> 0 | AA6: =IF(D6="","",SUMIF('TK CHAMTHI'!K:K,D6,'TK CHAMTHI'!L:L)) -> 0 | AB6: =IF(D6="","",SUM(Z6:AA6)/10) -> 0 | AC6: =IF(D6="","",SUMIF('TK CHAMTHI'!M:M,D6,'TK CHAMTHI'!O:O)) -> 0 | AD6: =IF(D6="","",SUMIF('TK CHAMTHI'!N:N,D6,'TK CHAMTHI'!O:O)) -> 0 | AE6: =IF(D6="","",SUM(AC6:AD6)/20) -> 0 | AF6: =IF(D6="","",ROUND(SUMIF('QL THI'!G:G,D6,'QL THI'!H:H),1)) -> 0 | AG6: =IF(D6="","",ROUND(SUMIF('QL THI'!E:E,D6,'QL THI'!F:F),1)) -> 0 | AH6: =IF(D6="","",ROUND(I6+N6+R6+V6+Y6+AB6+AE6+SUM(AF6:AG6),1)) -> 0
A7: =IF(D7="","",SUBTOTAL(3,$D$5:D7)) -> 0 | B7: 01001006 | C7: Ban Giám hiệu | D7: Đinh Văn Đệ | E7: =IF(D7="","",SUMIF('TK DETHI'!A:A,D7,'TK DETHI'!B:B)) -> 0 | F7: =IF(D7="","",SUMIF('TK DETHI'!C:C,D7,'TK DETHI'!D:D)) -> 0 | G7: =IF(D7="","",SUMIF('TK DETHI'!E:E,D7,'TK DETHI'!F:F)) -> 0 | H7: =IF(D7="","",SUMIF('TK DETHI'!G:G,D7,'TK DETHI'!H:H)) -> 0 | I7: =IF(D7="","",(E7+F7*2+G7*3+H7*2)) -> 0 | J7: =IF(D7="","",SUMIF('TK COITHI KTHP'!A:A,D7,'TK COITHI KTHP'!C:C)+SUMIF('TK COITHI KTHP'!D:D,D7,'TK COITHI KTHP'!F:F)+SUMIF('TK COITHI KTHP'!G:G,D7,'TK COITHI KTHP'!I:I)+SUMIF('TK COITHI KTHP'!J:J,D7,'TK COITHI KTHP'!L:L)) -> 0 | K7: =IF(D7="","",SUMIF('TK COITHI KTHP'!B:B,D7,'TK COITHI KTHP'!C:C)+SUMIF('TK COITHI KTHP'!E:E,D7,'TK COITHI KTHP'!F:F)+SUMIF('TK COITHI KTHP'!H:H,D7,'TK COITHI KTHP'!I:I)+SUMIF('TK COITHI KTHP'!K:K,D7,'TK COITHI KTHP'!L:L)) -> 0 | L7: =IF(D7="","",SUMIF('TK COI THI TOT NGHIEP'!A:A,D7,'TK COI THI TOT NGHIEP'!C:C)+SUMIF('TK COI THI TOT NGHIEP'!D:D,D7,'TK COI THI TOT NGHIEP'!F:F)+SUMIF('TK COI THI TOT NGHIEP'!G:G,D7,'TK COI THI TOT NGHIEP'!I:I)+SUMIF('TK COI THI TOT NGHIEP'!J:J,D7,'TK COI THI TOT NGHIEP'!L:L)) -> 0 | M7: =IF(D7="","",SUMIF('TK COI THI TOT NGHIEP'!B:B,D7,'TK COI THI TOT NGHIEP'!C:C)+SUMIF('TK COI THI TOT NGHIEP'!E:E,D7,'TK COI THI TOT NGHIEP'!F:F)+SUMIF('TK COI THI TOT NGHIEP'!H:H,D7,'TK COI THI TOT NGHIEP'!I:I)+SUMIF('TK COI THI TOT NGHIEP'!K:K,D7,'TK COI THI TOT NGHIEP'!L:L)) -> 0 | N7: =IF(D7="","",SUM(J7:M7)) -> 0 | O7: =IF(D7="","",SUMIF('TK CHAMTHI'!A:A,D7,'TK CHAMTHI'!C:C)) -> 0 | P7: =IF(D7="","",SUMIF('TK CHAMTHI'!B:B,D7,'TK CHAMTHI'!C:C)) -> 0 | Q7: =IF(D7="","",SUMIF('CHAM NV'!B:B,D7,'CHAM NV'!C:C)) -> 0 | R7: =IF(D7="","",(SUM(O7:P7)-Q7)/20) -> 0 | S7: =IF(D7="","",SUMIF('TK CHAMTHI'!D:D,D7,'TK CHAMTHI'!F:F)) -> 0 | T7: =IF(D7="","",SUMIF('TK CHAMTHI'!E:E,D7,'TK CHAMTHI'!F:F)) -> 0 | U7: =IF(D7="","",SUMIF('CHAM NV'!E:E,D7,'CHAM NV'!F:F)) -> 0 | V7: =IF(D7="","",(SUM(S7:T7)-U7)/10) -> 0 | W7: =IF(D7="","",SUMIF('TK CHAMTHI'!G:G,D7,'TK CHAMTHI'!I:I)) -> 0 | X7: =IF(D7="","",SUMIF('TK CHAMTHI'!H:H,D7,'TK CHAMTHI'!I:I)) -> 0 | Y7: =IF(D7="","",SUM(W7:X7)/14) -> 0 | Z7: =IF(D7="","",SUMIF('TK CHAMTHI'!J:J,D7,'TK CHAMTHI'!L:L)) -> 0 | AA7: =IF(D7="","",SUMIF('TK CHAMTHI'!K:K,D7,'TK CHAMTHI'!L:L)) -> 0 | AB7: =IF(D7="","",SUM(Z7:AA7)/10) -> 0 | AC7: =IF(D7="","",SUMIF('TK CHAMTHI'!M:M,D7,'TK CHAMTHI'!O:O)) -> 0 | AD7: =IF(D7="","",SUMIF('TK CHAMTHI'!N:N,D7,'TK CHAMTHI'!O:O)) -> 0 | AE7: =IF(D7="","",SUM(AC7:AD7)/20) -> 0 | AF7: =IF(D7="","",ROUND(SUMIF('QL THI'!G:G,D7,'QL THI'!H:H),1)) -> 0 | AG7: =IF(D7="","",ROUND(SUMIF('QL THI'!E:E,D7,'QL THI'!F:F),1)) -> 0 | AH7: =IF(D7="","",ROUND(I7+N7+R7+V7+Y7+AB7+AE7+SUM(AF7:AG7),1)) -> 0
A8: =IF(D8="","",SUBTOTAL(3,$D$5:D8)) -> 0 | B8: 01001003 | C8: Ban Giám hiệu | D8: Nguyễn Văn Dũng | E8: =IF(D8="","",SUMIF('TK DETHI'!A:A,D8,'TK DETHI'!B:B)) -> 0 | F8: =IF(D8="","",SUMIF('TK DETHI'!C:C,D8,'TK DETHI'!D:D)) -> 0 | G8: =IF(D8="","",SUMIF('TK DETHI'!E:E,D8,'TK DETHI'!F:F)) -> 0 | H8: =IF(D8="","",SUMIF('TK DETHI'!G:G,D8,'TK DETHI'!H:H)) -> 0 | I8: =IF(D8="","",(E8+F8*2+G8*3+H8*2)) -> 0 | J8: =IF(D8="","",SUMIF('TK COITHI KTHP'!A:A,D8,'TK COITHI KTHP'!C:C)+SUMIF('TK COITHI KTHP'!D:D,D8,'TK COITHI KTHP'!F:F)+SUMIF('TK COITHI KTHP'!G:G,D8,'TK COITHI KTHP'!I:I)+SUMIF('TK COITHI KTHP'!J:J,D8,'TK COITHI KTHP'!L:L)) -> 0 | K8: =IF(D8="","",SUMIF('TK COITHI KTHP'!B:B,D8,'TK COITHI KTHP'!C:C)+SUMIF('TK COITHI KTHP'!E:E,D8,'TK COITHI KTHP'!F:F)+SUMIF('TK COITHI KTHP'!H:H,D8,'TK COITHI KTHP'!I:I)+SUMIF('TK COITHI KTHP'!K:K,D8,'TK COITHI KTHP'!L:L)) -> 0 | L8: =IF(D8="","",SUMIF('TK COI THI TOT NGHIEP'!A:A,D8,'TK COI THI TOT NGHIEP'!C:C)+SUMIF('TK COI THI TOT NGHIEP'!D:D,D8,'TK COI THI TOT NGHIEP'!F:F)+SUMIF('TK COI THI TOT NGHIEP'!G:G,D8,'TK COI THI TOT NGHIEP'!I:I)+SUMIF('TK COI THI TOT NGHIEP'!J:J,D8,'TK COI THI TOT NGHIEP'!L:L)) -> 0 | M8: =IF(D8="","",SUMIF('TK COI THI TOT NGHIEP'!B:B,D8,'TK COI THI TOT NGHIEP'!C:C)+SUMIF('TK COI THI TOT NGHIEP'!E:E,D8,'TK COI THI TOT NGHIEP'!F:F)+SUMIF('TK COI THI TOT NGHIEP'!H:H,D8,'TK COI THI TOT NGHIEP'!I:I)+SUMIF('TK COI THI TOT NGHIEP'!K:K,D8,'TK COI THI TOT NGHIEP'!L:L)) -> 0 | N8: =IF(D8="","",SUM(J8:M8)) -> 0 | O8: =IF(D8="","",SUMIF('TK CHAMTHI'!A:A,D8,'TK CHAMTHI'!C:C)) -> 0 | P8: =IF(D8="","",SUMIF('TK CHAMTHI'!B:B,D8,'TK CHAMTHI'!C:C)) -> 0 | Q8: =IF(D8="","",SUMIF('CHAM NV'!B:B,D8,'CHAM NV'!C:C)) -> 0 | R8: =IF(D8="","",(SUM(O8:P8)-Q8)/20) -> 0 | S8: =IF(D8="","",SUMIF('TK CHAMTHI'!D:D,D8,'TK CHAMTHI'!F:F)) -> 0 | T8: =IF(D8="","",SUMIF('TK CHAMTHI'!E:E,D8,'TK CHAMTHI'!F:F)) -> 0 | U8: =IF(D8="","",SUMIF('CHAM NV'!E:E,D8,'CHAM NV'!F:F)) -> 0 | V8: =IF(D8="","",(SUM(S8:T8)-U8)/10) -> 0 | W8: =IF(D8="","",SUMIF('TK CHAMTHI'!G:G,D8,'TK CHAMTHI'!I:I)) -> 0 | X8: =IF(D8="","",SUMIF('TK CHAMTHI'!H:H,D8,'TK CHAMTHI'!I:I)) -> 0 | Y8: =IF(D8="","",SUM(W8:X8)/14) -> 0 | Z8: =IF(D8="","",SUMIF('TK CHAMTHI'!J:J,D8,'TK CHAMTHI'!L:L)) -> 0 | AA8: =IF(D8="","",SUMIF('TK CHAMTHI'!K:K,D8,'TK CHAMTHI'!L:L)) -> 0 | AB8: =IF(D8="","",SUM(Z8:AA8)/10) -> 0 | AC8: =IF(D8="","",SUMIF('TK CHAMTHI'!M:M,D8,'TK CHAMTHI'!O:O)) -> 0 | AD8: =IF(D8="","",SUMIF('TK CHAMTHI'!N:N,D8,'TK CHAMTHI'!O:O)) -> 0 | AE8: =IF(D8="","",SUM(AC8:AD8)/20) -> 0 | AF8: =IF(D8="","",ROUND(SUMIF('QL THI'!G:G,D8,'QL THI'!H:H),1)) -> 0 | AG8: =IF(D8="","",ROUND(SUMIF('QL THI'!E:E,D8,'QL THI'!F:F),1)) -> 0 | AH8: =IF(D8="","",ROUND(I8+N8+R8+V8+Y8+AB8+AE8+SUM(AF8:AG8),1)) -> 0
A9: =IF(D9="","",SUBTOTAL(3,$D$5:D9)) -> 0 | B9: 01012005 | C9: Khoa CN Cơ khí | D9: Đỗ Thị Phương Khanh | E9: =IF(D9="","",SUMIF('TK DETHI'!A:A,D9,'TK DETHI'!B:B)) -> 0 | F9: =IF(D9="","",SUMIF('TK DETHI'!C:C,D9,'TK DETHI'!D:D)) -> 0 | G9: =IF(D9="","",SUMIF('TK DETHI'!E:E,D9,'TK DETHI'!F:F)) -> 0 | H9: =IF(D9="","",SUMIF('TK DETHI'!G:G,D9,'TK DETHI'!H:H)) -> 0 | I9: =IF(D9="","",(E9+F9*2+G9*3+H9*2)) -> 0 | J9: =IF(D9="","",SUMIF('TK COITHI KTHP'!A:A,D9,'TK COITHI KTHP'!C:C)+SUMIF('TK COITHI KTHP'!D:D,D9,'TK COITHI KTHP'!F:F)+SUMIF('TK COITHI KTHP'!G:G,D9,'TK COITHI KTHP'!I:I)+SUMIF('TK COITHI KTHP'!J:J,D9,'TK COITHI KTHP'!L:L)) -> 0 | K9: =IF(D9="","",SUMIF('TK COITHI KTHP'!B:B,D9,'TK COITHI KTHP'!C:C)+SUMIF('TK COITHI KTHP'!E:E,D9,'TK COITHI KTHP'!F:F)+SUMIF('TK COITHI KTHP'!H:H,D9,'TK COITHI KTHP'!I:I)+SUMIF('TK COITHI KTHP'!K:K,D9,'TK COITHI KTHP'!L:L)) -> 0 | L9: =IF(D9="","",SUMIF('TK COI THI TOT NGHIEP'!A:A,D9,'TK COI THI TOT NGHIEP'!C:C)+SUMIF('TK COI THI TOT NGHIEP'!D:D,D9,'TK COI THI TOT NGHIEP'!F:F)+SUMIF('TK COI THI TOT NGHIEP'!G:G,D9,'TK COI THI TOT NGHIEP'!I:I)+SUMIF('TK COI THI TOT NGHIEP'!J:J,D9,'TK COI THI TOT NGHIEP'!L:L)) -> 0 | M9: =IF(D9="","",SUMIF('TK COI THI TOT NGHIEP'!B:B,D9,'TK COI THI TOT NGHIEP'!C:C)+SUMIF('TK COI THI TOT NGHIEP'!E:E,D9,'TK COI THI TOT NGHIEP'!F:F)+SUMIF('TK COI THI TOT NGHIEP'!H:H,D9,'TK COI THI TOT NGHIEP'!I:I)+SUMIF('TK COI THI TOT NGHIEP'!K:K,D9,'TK COI THI TOT NGHIEP'!L:L)) -> 0 | N9: =IF(D9="","",SUM(J9:M9)) -> 0 | O9: =IF(D9="","",SUMIF('TK CHAMTHI'!A:A,D9,'TK CHAMTHI'!C:C)) -> 0 | P9: =IF(D9="","",SUMIF('TK CHAMTHI'!B:B,D9,'TK CHAMTHI'!C:C)) -> 0 | Q9: =IF(D9="","",SUMIF('CHAM NV'!B:B,D9,'CHAM NV'!C:C)) -> 0 | R9: =IF(D9="","",(SUM(O9:P9)-Q9)/20) -> 0 | S9: =IF(D9="","",SUMIF('TK CHAMTHI'!D:D,D9,'TK CHAMTHI'!F:F)) -> 0 | T9: =IF(D9="","",SUMIF('TK CHAMTHI'!E:E,D9,'TK CHAMTHI'!F:F)) -> 0 | U9: =IF(D9="","",SUMIF('CHAM NV'!E:E,D9,'CHAM NV'!F:F)) -> 0 | V9: =IF(D9="","",(SUM(S9:T9)-U9)/10) -> 0 | W9: =IF(D9="","",SUMIF('TK CHAMTHI'!G:G,D9,'TK CHAMTHI'!I:I)) -> 0 | X9: =IF(D9="","",SUMIF('TK CHAMTHI'!H:H,D9,'TK CHAMTHI'!I:I)) -> 0 | Y9: =IF(D9="","",SUM(W9:X9)/14) -> 0 | Z9: =IF(D9="","",SUMIF('TK CHAMTHI'!J:J,D9,'TK CHAMTHI'!L:L)) -> 0 | AA9: =IF(D9="","",SUMIF('TK CHAMTHI'!K:K,D9,'TK CHAMTHI'!L:L)) -> 0 | AB9: =IF(D9="","",SUM(Z9:AA9)/10) -> 0 | AC9: =IF(D9="","",SUMIF('TK CHAMTHI'!M:M,D9,'TK CHAMTHI'!O:O)) -> 0 | AD9: =IF(D9="","",SUMIF('TK CHAMTHI'!N:N,D9,'TK CHAMTHI'!O:O)) -> 0 | AE9: =IF(D9="","",SUM(AC9:AD9)/20) -> 0 | AF9: =IF(D9="","",ROUND(SUMIF('QL THI'!G:G,D9,'QL THI'!H:H),1)) -> 0 | AG9: =IF(D9="","",ROUND(SUMIF('QL THI'!E:E,D9,'QL THI'!F:F),1)) -> 0 | AH9: =IF(D9="","",ROUND(I9+N9+R9+V9+Y9+AB9+AE9+SUM(AF9:AG9),1)) -> 0
A10: =IF(D10="","",SUBTOTAL(3,$D$5:D10)) -> 1 | B10: 01012014 | C10: Khoa CN Cơ khí | D10: Dương Minh Chung | E10: =IF(D10="","",SUMIF('TK DETHI'!A:A,D10,'TK DETHI'!B:B)) -> 0 | F10: =IF(D10="","",SUMIF('TK DETHI'!C:C,D10,'TK DETHI'!D:D)) -> 0 | G10: =IF(D10="","",SUMIF('TK DETHI'!E:E,D10,'TK DETHI'!F:F)) -> 0 | H10: =IF(D10="","",SUMIF('TK DETHI'!G:G,D10,'TK DETHI'!H:H)) -> 0 | I10: =IF(D10="","",(E10+F10*2+G10*3+H10*2)) -> 0 | J10: =IF(D10="","",SUMIF('TK COITHI KTHP'!A:A,D10,'TK COITHI KTHP'!C:C)+SUMIF('TK COITHI KTHP'!D:D,D10,'TK COITHI KTHP'!F:F)+SUMIF('TK COITHI KTHP'!G:G,D10,'TK COITHI KTHP'!I:I)+SUMIF('TK COITHI KTHP'!J:J,D10,'TK COITHI KTHP'!L:L)) -> 0 | K10: =IF(D10="","",SUMIF('TK COITHI KTHP'!B:B,D10,'TK COITHI KTHP'!C:C)+SUMIF('TK COITHI KTHP'!E:E,D10,'TK COITHI KTHP'!F:F)+SUMIF('TK COITHI KTHP'!H:H,D10,'TK COITHI KTHP'!I:I)+SUMIF('TK COITHI KTHP'!K:K,D10,'TK COITHI KTHP'!L:L)) -> 0 | L10: =IF(D10="","",SUMIF('TK COI THI TOT NGHIEP'!A:A,D10,'TK COI THI TOT NGHIEP'!C:C)+SUMIF('TK COI THI TOT NGHIEP'!D:D,D10,'TK COI THI TOT NGHIEP'!F:F)+SUMIF('TK COI THI TOT NGHIEP'!G:G,D10,'TK COI THI TOT NGHIEP'!I:I)+SUMIF('TK COI THI TOT NGHIEP'!J:J,D10,'TK COI THI TOT NGHIEP'!L:L)) -> 0 | M10: =IF(D10="","",SUMIF('TK COI THI TOT NGHIEP'!B:B,D10,'TK COI THI TOT NGHIEP'!C:C)+SUMIF('TK COI THI TOT NGHIEP'!E:E,D10,'TK COI THI TOT NGHIEP'!F:F)+SUMIF('TK COI THI TOT NGHIEP'!H:H,D10,'TK COI THI TOT NGHIEP'!I:I)+SUMIF('TK COI THI TOT NGHIEP'!K:K,D10,'TK COI THI TOT NGHIEP'!L:L)) -> 0 | N10: =IF(D10="","",SUM(J10:M10)) -> 0 | O10: =IF(D10="","",SUMIF('TK CHAMTHI'!A:A,D10,'TK CHAMTHI'!C:C)) -> 0 | P10: =IF(D10="","",SUMIF('TK CHAMTHI'!B:B,D10,'TK CHAMTHI'!C:C)) -> 0 | Q10: =IF(D10="","",SUMIF('CHAM NV'!B:B,D10,'CHAM NV'!C:C)) -> 0 | R10: =IF(D10="","",(SUM(O10:P10)-Q10)/20) -> 0 | S10: =IF(D10="","",SUMIF('TK CHAMTHI'!D:D,D10,'TK CHAMTHI'!F:F)) -> 0 | T10: =IF(D10="","",SUMIF('TK CHAMTHI'!E:E,D10,'TK CHAMTHI'!F:F)) -> 0 | U10: =IF(D10="","",SUMIF('CHAM NV'!E:E,D10,'CHAM NV'!F:F)) -> 0 | V10: =IF(D10="","",(SUM(S10:T10)-U10)/10) -> 0 | W10: =IF(D10="","",SUMIF('TK CHAMTHI'!G:G,D10,'TK CHAMTHI'!I:I)) -> 0 | X10: =IF(D10="","",SUMIF('TK CHAMTHI'!H:H,D10,'TK CHAMTHI'!I:I)) -> 0 | Y10: =IF(D10="","",SUM(W10:X10)/14) -> 0 | Z10: =IF(D10="","",SUMIF('TK CHAMTHI'!J:J,D10,'TK CHAMTHI'!L:L)) -> 12 | AA10: =IF(D10="","",SUMIF('TK CHAMTHI'!K:K,D10,'TK CHAMTHI'!L:L)) -> 0 | AB10: =IF(D10="","",SUM(Z10:AA10)/10) -> 1.2 | AC10: =IF(D10="","",SUMIF('TK CHAMTHI'!M:M,D10,'TK CHAMTHI'!O:O)) -> 0 | AD10: =IF(D10="","",SUMIF('TK CHAMTHI'!N:N,D10,'TK CHAMTHI'!O:O)) -> 0 | AE10: =IF(D10="","",SUM(AC10:AD10)/20) -> 0 | AF10: =IF(D10="","",ROUND(SUMIF('QL THI'!G:G,D10,'QL THI'!H:H),1)) -> 0 | AG10: =IF(D10="","",ROUND(SUMIF('QL THI'!E:E,D10,'QL THI'!F:F),1)) -> 0 | AH10: =IF(D10="","",ROUND(I10+N10+R10+V10+Y10+AB10+AE10+SUM(AF10:AG10),1)) -> 1.2
A11: =IF(D11="","",SUBTOTAL(3,$D$5:D11)) -> 1 | B11: 01012028 | C11: Khoa CN Cơ khí | D11: Dương Thị Hồng | E11: =IF(D11="","",SUMIF('TK DETHI'!A:A,D11,'TK DETHI'!B:B)) -> 0 | F11: =IF(D11="","",SUMIF('TK DETHI'!C:C,D11,'TK DETHI'!D:D)) -> 0 | G11: =IF(D11="","",SUMIF('TK DETHI'!E:E,D11,'TK DETHI'!F:F)) -> 0 | H11: =IF(D11="","",SUMIF('TK DETHI'!G:G,D11,'TK DETHI'!H:H)) -> 0 | I11: =IF(D11="","",(E11+F11*2+G11*3+H11*2)) -> 0 | J11: =IF(D11="","",SUMIF('TK COITHI KTHP'!A:A,D11,'TK COITHI KTHP'!C:C)+SUMIF('TK COITHI KTHP'!D:D,D11,'TK COITHI KTHP'!F:F)+SUMIF('TK COITHI KTHP'!G:G,D11,'TK COITHI KTHP'!I:I)+SUMIF('TK COITHI KTHP'!J:J,D11,'TK COITHI KTHP'!L:L)) -> 0 | K11: =IF(D11="","",SUMIF('TK COITHI KTHP'!B:B,D11,'TK COITHI KTHP'!C:C)+SUMIF('TK COITHI KTHP'!E:E,D11,'TK COITHI KTHP'!F:F)+SUMIF('TK COITHI KTHP'!H:H,D11,'TK COITHI KTHP'!I:I)+SUMIF('TK COITHI KTHP'!K:K,D11,'TK COITHI KTHP'!L:L)) -> 0 | L11: =IF(D11="","",SUMIF('TK COI THI TOT NGHIEP'!A:A,D11,'TK COI THI TOT NGHIEP'!C:C)+SUMIF('TK COI THI TOT NGHIEP'!D:D,D11,'TK COI THI TOT NGHIEP'!F:F)+SUMIF('TK COI THI TOT NGHIEP'!G:G,D11,'TK COI THI TOT NGHIEP'!I:I)+SUMIF('TK COI THI TOT NGHIEP'!J:J,D11,'TK COI THI TOT NGHIEP'!L:L)) -> 0 | M11: =IF(D11="","",SUMIF('TK COI THI TOT NGHIEP'!B:B,D11,'TK COI THI TOT NGHIEP'!C:C)+SUMIF('TK COI THI TOT NGHIEP'!E:E,D11,'TK COI THI TOT NGHIEP'!F:F)+SUMIF('TK COI THI TOT NGHIEP'!H:H,D11,'TK COI THI TOT NGHIEP'!I:I)+SUMIF('TK COI THI TOT NGHIEP'!K:K,D11,'TK COI THI TOT NGHIEP'!L:L)) -> 0 | N11: =IF(D11="","",SUM(J11:M11)) -> 0 | O11: =IF(D11="","",SUMIF('TK CHAMTHI'!A:A,D11,'TK CHAMTHI'!C:C)) -> 0 | P11: =IF(D11="","",SUMIF('TK CHAMTHI'!B:B,D11,'TK CHAMTHI'!C:C)) -> 0 | Q11: =IF(D11="","",SUMIF('CHAM NV'!B:B,D11,'CHAM NV'!C:C)) -> 0 | R11: =IF(D11="","",(SUM(O11:P11)-Q11)/20) -> 0 | S11: =IF(D11="","",SUMIF('TK CHAMTHI'!D:D,D11,'TK CHAMTHI'!F:F)) -> 0 | T11: =IF(D11="","",SUMIF('TK CHAMTHI'!E:E,D11,'TK CHAMTHI'!F:F)) -> 0 | U11: =IF(D11="","",SUMIF('CHAM NV'!E:E,D11,'CHAM NV'!F:F)) -> 0 | V11: =IF(D11="","",(SUM(S11:T11)-U11)/10) -> 0 | W11: =IF(D11="","",SUMIF('TK CHAMTHI'!G:G,D11,'TK CHAMTHI'!I:I)) -> 0 | X11: =IF(D11="","",SUMIF('TK CHAMTHI'!H:H,D11,'TK CHAMTHI'!I:I)) -> 0 | Y11: =IF(D11="","",SUM(W11:X11)/14) -> 0 | Z11: =IF(D11="","",SUMIF('TK CHAMTHI'!J:J,D11,'TK CHAMTHI'!L:L)) -> 0 | AA11: =IF(D11="","",SUMIF('TK CHAMTHI'!K:K,D11,'TK CHAMTHI'!L:L)) -> 0 | AB11: =IF(D11="","",SUM(Z11:AA11)/10) -> 0 | AC11: =IF(D11="","",SUMIF('TK CHAMTHI'!M:M,D11,'TK CHAMTHI'!O:O)) -> 0 | AD11: =IF(D11="","",SUMIF('TK CHAMTHI'!N:N,D11,'TK CHAMTHI'!O:O)) -> 0 | AE11: =IF(D11="","",SUM(AC11:AD11)/20) -> 0 | AF11: =IF(D11="","",ROUND(SUMIF('QL THI'!G:G,D11,'QL THI'!H:H),1)) -> 0 | AG11: =IF(D11="","",ROUND(SUMIF('QL THI'!E:E,D11,'QL THI'!F:F),1)) -> 0 | AH11: =IF(D11="","",ROUND(I11+N11+R11+V11+Y11+AB11+AE11+SUM(AF11:AG11),1)) -> 0
A12: =IF(D12="","",SUBTOTAL(3,$D$5:D12)) -> 1 | B12: 01012016 | C12: Khoa CN Cơ khí | D12: Lư Thị Yến Vũ | E12: =IF(D12="","",SUMIF('TK DETHI'!A:A,D12,'TK DETHI'!B:B)) -> 0 | F12: =IF(D12="","",SUMIF('TK DETHI'!C:C,D12,'TK DETHI'!D:D)) -> 0 | G12: =IF(D12="","",SUMIF('TK DETHI'!E:E,D12,'TK DETHI'!F:F)) -> 0 | H12: =IF(D12="","",SUMIF('TK DETHI'!G:G,D12,'TK DETHI'!H:H)) -> 0 | I12: =IF(D12="","",(E12+F12*2+G12*3+H12*2)) -> 0 | J12: =IF(D12="","",SUMIF('TK COITHI KTHP'!A:A,D12,'TK COITHI KTHP'!C:C)+SUMIF('TK COITHI KTHP'!D:D,D12,'TK COITHI KTHP'!F:F)+SUMIF('TK COITHI KTHP'!G:G,D12,'TK COITHI KTHP'!I:I)+SUMIF('TK COITHI KTHP'!J:J,D12,'TK COITHI KTHP'!L:L)) -> 0 | K12: =IF(D12="","",SUMIF('TK COITHI KTHP'!B:B,D12,'TK COITHI KTHP'!C:C)+SUMIF('TK COITHI KTHP'!E:E,D12,'TK COITHI KTHP'!F:F)+SUMIF('TK COITHI KTHP'!H:H,D12,'TK COITHI KTHP'!I:I)+SUMIF('TK COITHI KTHP'!K:K,D12,'TK COITHI KTHP'!L:L)) -> 0 | L12: =IF(D12="","",SUMIF('TK COI THI TOT NGHIEP'!A:A,D12,'TK COI THI TOT NGHIEP'!C:C)+SUMIF('TK COI THI TOT NGHIEP'!D:D,D12,'TK COI THI TOT NGHIEP'!F:F)+SUMIF('TK COI THI TOT NGHIEP'!G:G,D12,'TK COI THI TOT NGHIEP'!I:I)+SUMIF('TK COI THI TOT NGHIEP'!J:J,D12,'TK COI THI TOT NGHIEP'!L:L)) -> 0 | M12: =IF(D12="","",SUMIF('TK COI THI TOT NGHIEP'!B:B,D12,'TK COI THI TOT NGHIEP'!C:C)+SUMIF('TK COI THI TOT NGHIEP'!E:E,D12,'TK COI THI TOT NGHIEP'!F:F)+SUMIF('TK COI THI TOT NGHIEP'!H:H,D12,'TK COI THI TOT NGHIEP'!I:I)+SUMIF('TK COI THI TOT NGHIEP'!K:K,D12,'TK COI THI TOT NGHIEP'!L:L)) -> 0 | N12: =IF(D12="","",SUM(J12:M12)) -> 0 | O12: =IF(D12="","",SUMIF('TK CHAMTHI'!A:A,D12,'TK CHAMTHI'!C:C)) -> 0 | P12: =IF(D12="","",SUMIF('TK CHAMTHI'!B:B,D12,'TK CHAMTHI'!C:C)) -> 0 | Q12: =IF(D12="","",SUMIF('CHAM NV'!B:B,D12,'CHAM NV'!C:C)) -> 0 | R12: =IF(D12="","",(SUM(O12:P12)-Q12)/20) -> 0 | S12: =IF(D12="","",SUMIF('TK CHAMTHI'!D:D,D12,'TK CHAMTHI'!F:F)) -> 0 | T12: =IF(D12="","",SUMIF('TK CHAMTHI'!E:E,D12,'TK CHAMTHI'!F:F)) -> 0 | U12: =IF(D12="","",SUMIF('CHAM NV'!E:E,D12,'CHAM NV'!F:F)) -> 0 | V12: =IF(D12="","",(SUM(S12:T12)-U12)/10) -> 0 | W12: =IF(D12="","",SUMIF('TK CHAMTHI'!G:G,D12,'TK CHAMTHI'!I:I)) -> 0 | X12: =IF(D12="","",SUMIF('TK CHAMTHI'!H:H,D12,'TK CHAMTHI'!I:I)) -> 0 | Y12: =IF(D12="","",SUM(W12:X12)/14) -> 0 | Z12: =IF(D12="","",SUMIF('TK CHAMTHI'!J:J,D12,'TK CHAMTHI'!L:L)) -> 0 | AA12: =IF(D12="","",SUMIF('TK CHAMTHI'!K:K,D12,'TK CHAMTHI'!L:L)) -> 0 | AB12: =IF(D12="","",SUM(Z12:AA12)/10) -> 0 | AC12: =IF(D12="","",SUMIF('TK CHAMTHI'!M:M,D12,'TK CHAMTHI'!O:O)) -> 0 | AD12: =IF(D12="","",SUMIF('TK CHAMTHI'!N:N,D12,'TK CHAMTHI'!O:O)) -> 0 | AE12: =IF(D12="","",SUM(AC12:AD12)/20) -> 0 | AF12: =IF(D12="","",ROUND(SUMIF('QL THI'!G:G,D12,'QL THI'!H:H),1)) -> 0 | AG12: =IF(D12="","",ROUND(SUMIF('QL THI'!E:E,D12,'QL THI'!F:F),1)) -> 0 | AH12: =IF(D12="","",ROUND(I12+N12+R12+V12+Y12+AB12+AE12+SUM(AF12:AG12),1)) -> 0
A13: =IF(D13="","",SUBTOTAL(3,$D$5:D13)) -> 1 | B13: 01012017 | C13: Khoa CN Cơ khí | D13: Nguyễn Ngọc Quỳnh(CK) | E13: =IF(D13="","",SUMIF('TK DETHI'!A:A,D13,'TK DETHI'!B:B)) -> 0 | F13: =IF(D13="","",SUMIF('TK DETHI'!C:C,D13,'TK DETHI'!D:D)) -> 0 | G13: =IF(D13="","",SUMIF('TK DETHI'!E:E,D13,'TK DETHI'!F:F)) -> 0 | H13: =IF(D13="","",SUMIF('TK DETHI'!G:G,D13,'TK DETHI'!H:H)) -> 0 | I13: =IF(D13="","",(E13+F13*2+G13*3+H13*2)) -> 0 | J13: =IF(D13="","",SUMIF('TK COITHI KTHP'!A:A,D13,'TK COITHI KTHP'!C:C)+SUMIF('TK COITHI KTHP'!D:D,D13,'TK COITHI KTHP'!F:F)+SUMIF('TK COITHI KTHP'!G:G,D13,'TK COITHI KTHP'!I:I)+SUMIF('TK COITHI KTHP'!J:J,D13,'TK COITHI KTHP'!L:L)) -> 0 | K13: =IF(D13="","",SUMIF('TK COITHI KTHP'!B:B,D13,'TK COITHI KTHP'!C:C)+SUMIF('TK COITHI KTHP'!E:E,D13,'TK COITHI KTHP'!F:F)+SUMIF('TK COITHI KTHP'!H:H,D13,'TK COITHI KTHP'!I:I)+SUMIF('TK COITHI KTHP'!K:K,D13,'TK COITHI KTHP'!L:L)) -> 0 | L13: =IF(D13="","",SUMIF('TK COI THI TOT NGHIEP'!A:A,D13,'TK COI THI TOT NGHIEP'!C:C)+SUMIF('TK COI THI TOT NGHIEP'!D:D,D13,'TK COI THI TOT NGHIEP'!F:F)+SUMIF('TK COI THI TOT NGHIEP'!G:G,D13,'TK COI THI TOT NGHIEP'!I:I)+SUMIF('TK COI THI TOT NGHIEP'!J:J,D13,'TK COI THI TOT NGHIEP'!L:L)) -> 0 | M13: =IF(D13="","",SUMIF('TK COI THI TOT NGHIEP'!B:B,D13,'TK COI THI TOT NGHIEP'!C:C)+SUMIF('TK COI THI TOT NGHIEP'!E:E,D13,'TK COI THI TOT NGHIEP'!F:F)+SUMIF('TK COI THI TOT NGHIEP'!H:H,D13,'TK COI THI TOT NGHIEP'!I:I)+SUMIF('TK COI THI TOT NGHIEP'!K:K,D13,'TK COI THI TOT NGHIEP'!L:L)) -> 0 | N13: =IF(D13="","",SUM(J13:M13)) -> 0 | O13: =IF(D13="","",SUMIF('TK CHAMTHI'!A:A,D13,'TK CHAMTHI'!C:C)) -> 0 | P13: =IF(D13="","",SUMIF('TK CHAMTHI'!B:B,D13,'TK CHAMTHI'!C:C)) -> 0 | Q13: =IF(D13="","",SUMIF('CHAM NV'!B:B,D13,'CHAM NV'!C:C)) -> 0 | R13: =IF(D13="","",(SUM(O13:P13)-Q13)/20) -> 0 | S13: =IF(D13="","",SUMIF('TK CHAMTHI'!D:D,D13,'TK CHAMTHI'!F:F)) -> 0 | T13: =IF(D13="","",SUMIF('TK CHAMTHI'!E:E,D13,'TK CHAMTHI'!F:F)) -> 0 | U13: =IF(D13="","",SUMIF('CHAM NV'!E:E,D13,'CHAM NV'!F:F)) -> 0 | V13: =IF(D13="","",(SUM(S13:T13)-U13)/10) -> 0 | W13: =IF(D13="","",SUMIF('TK CHAMTHI'!G:G,D13,'TK CHAMTHI'!I:I)) -> 0 | X13: =IF(D13="","",SUMIF('TK CHAMTHI'!H:H,D13,'TK CHAMTHI'!I:I)) -> 0 | Y13: =IF(D13="","",SUM(W13:X13)/14) -> 0 | Z13: =IF(D13="","",SUMIF('TK CHAMTHI'!J:J,D13,'TK CHAMTHI'!L:L)) -> 0 | AA13: =IF(D13="","",SUMIF('TK CHAMTHI'!K:K,D13,'TK CHAMTHI'!L:L)) -> 0 | AB13: =IF(D13="","",SUM(Z13:AA13)/10) -> 0 | AC13: =IF(D13="","",SUMIF('TK CHAMTHI'!M:M,D13,'TK CHAMTHI'!O:O)) -> 0 | AD13: =IF(D13="","",SUMIF('TK CHAMTHI'!N:N,D13,'TK CHAMTHI'!O:O)) -> 0 | AE13: =IF(D13="","",SUM(AC13:AD13)/20) -> 0 | AF13: =IF(D13="","",ROUND(SUMIF('QL THI'!G:G,D13,'QL THI'!H:H),1)) -> 0 | AG13: =IF(D13="","",ROUND(SUMIF('QL THI'!E:E,D13,'QL THI'!F:F),1)) -> 0 | AH13: =IF(D13="","",ROUND(I13+N13+R13+V13+Y13+AB13+AE13+SUM(AF13:AG13),1)) -> 0
A14: =IF(D14="","",SUBTOTAL(3,$D$5:D14)) -> 1 | B14: 01012002 | C14: Khoa CN Cơ khí | D14: Nguyễn Tam Cương | E14: =IF(D14="","",SUMIF('TK DETHI'!A:A,D14,'TK DETHI'!B:B)) -> 0 | F14: =IF(D14="","",SUMIF('TK DETHI'!C:C,D14,'TK DETHI'!D:D)) -> 0 | G14: =IF(D14="","",SUMIF('TK DETHI'!E:E,D14,'TK DETHI'!F:F)) -> 0 | H14: =IF(D14="","",SUMIF('TK DETHI'!G:G,D14,'TK DETHI'!H:H)) -> 0 | I14: =IF(D14="","",(E14+F14*2+G14*3+H14*2)) -> 0 | J14: =IF(D14="","",SUMIF('TK COITHI KTHP'!A:A,D14,'TK COITHI KTHP'!C:C)+SUMIF('TK COITHI KTHP'!D:D,D14,'TK COITHI KTHP'!F:F)+SUMIF('TK COITHI KTHP'!G:G,D14,'TK COITHI KTHP'!I:I)+SUMIF('TK COITHI KTHP'!J:J,D14,'TK COITHI KTHP'!L:L)) -> 0 | K14: =IF(D14="","",SUMIF('TK COITHI KTHP'!B:B,D14,'TK COITHI KTHP'!C:C)+SUMIF('TK COITHI KTHP'!E:E,D14,'TK COITHI KTHP'!F:F)+SUMIF('TK COITHI KTHP'!H:H,D14,'TK COITHI KTHP'!I:I)+SUMIF('TK COITHI KTHP'!K:K,D14,'TK COITHI KTHP'!L:L)) -> 0 | L14: =IF(D14="","",SUMIF('TK COI THI TOT NGHIEP'!A:A,D14,'TK COI THI TOT NGHIEP'!C:C)+SUMIF('TK COI THI TOT NGHIEP'!D:D,D14,'TK COI THI TOT NGHIEP'!F:F)+SUMIF('TK COI THI TOT NGHIEP'!G:G,D14,'TK COI THI TOT NGHIEP'!I:I)+SUMIF('TK COI THI TOT NGHIEP'!J:J,D14,'TK COI THI TOT NGHIEP'!L:L)) -> 0 | M14: =IF(D14="","",SUMIF('TK COI THI TOT NGHIEP'!B:B,D14,'TK COI THI TOT NGHIEP'!C:C)+SUMIF('TK COI THI TOT NGHIEP'!E:E,D14,'TK COI THI TOT NGHIEP'!F:F)+SUMIF('TK COI THI TOT NGHIEP'!H:H,D14,'TK COI THI TOT NGHIEP'!I:I)+SUMIF('TK COI THI TOT NGHIEP'!K:K,D14,'TK COI THI TOT NGHIEP'!L:L)) -> 0 | N14: =IF(D14="","",SUM(J14:M14)) -> 0 | O14: =IF(D14="","",SUMIF('TK CHAMTHI'!A:A,D14,'TK CHAMTHI'!C:C)) -> 0 | P14: =IF(D14="","",SUMIF('TK CHAMTHI'!B:B,D14,'TK CHAMTHI'!C:C)) -> 0 | Q14: =IF(D14="","",SUMIF('CHAM NV'!B:B,D14,'CHAM NV'!C:C)) -> 0 | R14: =IF(D14="","",(SUM(O14:P14)-Q14)/20) -> 0 | S14: =IF(D14="","",SUMIF('TK CHAMTHI'!D:D,D14,'TK CHAMTHI'!F:F)) -> 0 | T14: =IF(D14="","",SUMIF('TK CHAMTHI'!E:E,D14,'TK CHAMTHI'!F:F)) -> 0 | U14: =IF(D14="","",SUMIF('CHAM NV'!E:E,D14,'CHAM NV'!F:F)) -> 0 | V14: =IF(D14="","",(SUM(S14:T14)-U14)/10) -> 0 | W14: =IF(D14="","",SUMIF('TK CHAMTHI'!G:G,D14,'TK CHAMTHI'!I:I)) -> 0 | X14: =IF(D14="","",SUMIF('TK CHAMTHI'!H:H,D14,'TK CHAMTHI'!I:I)) -> 0 | Y14: =IF(D14="","",SUM(W14:X14)/14) -> 0 | Z14: =IF(D14="","",SUMIF('TK CHAMTHI'!J:J,D14,'TK CHAMTHI'!L:L)) -> 0 | AA14: =IF(D14="","",SUMIF('TK CHAMTHI'!K:K,D14,'TK CHAMTHI'!L:L)) -> 0 | AB14: =IF(D14="","",SUM(Z14:AA14)/10) -> 0 | AC14: =IF(D14="","",SUMIF('TK CHAMTHI'!M:M,D14,'TK CHAMTHI'!O:O)) -> 0 | AD14: =IF(D14="","",SUMIF('TK CHAMTHI'!N:N,D14,'TK CHAMTHI'!O:O)) -> 0 | AE14: =IF(D14="","",SUM(AC14:AD14)/20) -> 0 | AF14: =IF(D14="","",ROUND(SUMIF('QL THI'!G:G,D14,'QL THI'!H:H),1)) -> 0 | AG14: =IF(D14="","",ROUND(SUMIF('QL THI'!E:E,D14,'QL THI'!F:F),1)) -> 0 | AH14: =IF(D14="","",ROUND(I14+N14+R14+V14+Y14+AB14+AE14+SUM(AF14:AG14),1)) -> 0
A15: =IF(D15="","",SUBTOTAL(3,$D$5:D15)) -> 1 | B15: 01012018 | C15: Khoa CN Cơ khí | D15: Nguyễn Thành Long | E15: =IF(D15="","",SUMIF('TK DETHI'!A:A,D15,'TK DETHI'!B:B)) -> 0 | F15: =IF(D15="","",SUMIF('TK DETHI'!C:C,D15,'TK DETHI'!D:D)) -> 0 | G15: =IF(D15="","",SUMIF('TK DETHI'!E:E,D15,'TK DETHI'!F:F)) -> 0 | H15: =IF(D15="","",SUMIF('TK DETHI'!G:G,D15,'TK DETHI'!H:H)) -> 0 | I15: =IF(D15="","",(E15+F15*2+G15*3+H15*2)) -> 0 | J15: =IF(D15="","",SUMIF('TK COITHI KTHP'!A:A,D15,'TK COITHI KTHP'!C:C)+SUMIF('TK COITHI KTHP'!D:D,D15,'TK COITHI KTHP'!F:F)+SUMIF('TK COITHI KTHP'!G:G,D15,'TK COITHI KTHP'!I:I)+SUMIF('TK COITHI KTHP'!J:J,D15,'TK COITHI KTHP'!L:L)) -> 0 | K15: =IF(D15="","",SUMIF('TK COITHI KTHP'!B:B,D15,'TK COITHI KTHP'!C:C)+SUMIF('TK COITHI KTHP'!E:E,D15,'TK COITHI KTHP'!F:F)+SUMIF('TK COITHI KTHP'!H:H,D15,'TK COITHI KTHP'!I:I)+SUMIF('TK COITHI KTHP'!K:K,D15,'TK COITHI KTHP'!L:L)) -> 0 | L15: =IF(D15="","",SUMIF('TK COI THI TOT NGHIEP'!A:A,D15,'TK COI THI TOT NGHIEP'!C:C)+SUMIF('TK COI THI TOT NGHIEP'!D:D,D15,'TK COI THI TOT NGHIEP'!F:F)+SUMIF('TK COI THI TOT NGHIEP'!G:G,D15,'TK COI THI TOT NGHIEP'!I:I)+SUMIF('TK COI THI TOT NGHIEP'!J:J,D15,'TK COI THI TOT NGHIEP'!L:L)) -> 0 | M15: =IF(D15="","",SUMIF('TK COI THI TOT NGHIEP'!B:B,D15,'TK COI THI TOT NGHIEP'!C:C)+SUMIF('TK COI THI TOT NGHIEP'!E:E,D15,'TK COI THI TOT NGHIEP'!F:F)+SUMIF('TK COI THI TOT NGHIEP'!H:H,D15,'TK COI THI TOT NGHIEP'!I:I)+SUMIF('TK COI THI TOT NGHIEP'!K:K,D15,'TK COI THI TOT NGHIEP'!L:L)) -> 0 | N15: =IF(D15="","",SUM(J15:M15)) -> 0 | O15: =IF(D15="","",SUMIF('TK CHAMTHI'!A:A,D15,'TK CHAMTHI'!C:C)) -> 0 | P15: =IF(D15="","",SUMIF('TK CHAMTHI'!B:B,D15,'TK CHAMTHI'!C:C)) -> 0 | Q15: =IF(D15="","",SUMIF('CHAM NV'!B:B,D15,'CHAM NV'!C:C)) -> 0 | R15: =IF(D15="","",(SUM(O15:P15)-Q15)/20) -> 0 | S15: =IF(D15="","",SUMIF('TK CHAMTHI'!D:D,D15,'TK CHAMTHI'!F:F)) -> 0 | T15: =IF(D15="","",SUMIF('TK CHAMTHI'!E:E,D15,'TK CHAMTHI'!F:F)) -> 0 | U15: =IF(D15="","",SUMIF('CHAM NV'!E:E,D15,'CHAM NV'!F:F)) -> 0 | V15: =IF(D15="","",(SUM(S15:T15)-U15)/10) -> 0 | W15: =IF(D15="","",SUMIF('TK CHAMTHI'!G:G,D15,'TK CHAMTHI'!I:I)) -> 0 | X15: =IF(D15="","",SUMIF('TK CHAMTHI'!H:H,D15,'TK CHAMTHI'!I:I)) -> 0 | Y15: =IF(D15="","",SUM(W15:X15)/14) -> 0 | Z15: =IF(D15="","",SUMIF('TK CHAMTHI'!J:J,D15,'TK CHAMTHI'!L:L)) -> 0 | AA15: =IF(D15="","",SUMIF('TK CHAMTHI'!K:K,D15,'TK CHAMTHI'!L:L)) -> 0 | AB15: =IF(D15="","",SUM(Z15:AA15)/10) -> 0 | AC15: =IF(D15="","",SUMIF('TK CHAMTHI'!M:M,D15,'TK CHAMTHI'!O:O)) -> 0 | AD15: =IF(D15="","",SUMIF('TK CHAMTHI'!N:N,D15,'TK CHAMTHI'!O:O)) -> 0 | AE15: =IF(D15="","",SUM(AC15:AD15)/20) -> 0 | AF15: =IF(D15="","",ROUND(SUMIF('QL THI'!G:G,D15,'QL THI'!H:H),1)) -> 0 | AG15: =IF(D15="","",ROUND(SUMIF('QL THI'!E:E,D15,'QL THI'!F:F),1)) -> 0 | AH15: =IF(D15="","",ROUND(I15+N15+R15+V15+Y15+AB15+AE15+SUM(AF15:AG15),1)) -> 0
A16: =IF(D16="","",SUBTOTAL(3,$D$5:D16)) -> 1 | B16: 01012011 | C16: Khoa CN Cơ khí | D16: Nguyễn Thanh Vĩnh Phúc | E16: =IF(D16="","",SUMIF('TK DETHI'!A:A,D16,'TK DETHI'!B:B)) -> 0 | F16: =IF(D16="","",SUMIF('TK DETHI'!C:C,D16,'TK DETHI'!D:D)) -> 0 | G16: =IF(D16="","",SUMIF('TK DETHI'!E:E,D16,'TK DETHI'!F:F)) -> 0 | H16: =IF(D16="","",SUMIF('TK DETHI'!G:G,D16,'TK DETHI'!H:H)) -> 0 | I16: =IF(D16="","",(E16+F16*2+G16*3+H16*2)) -> 0 | J16: =IF(D16="","",SUMIF('TK COITHI KTHP'!A:A,D16,'TK COITHI KTHP'!C:C)+SUMIF('TK COITHI KTHP'!D:D,D16,'TK COITHI KTHP'!F:F)+SUMIF('TK COITHI KTHP'!G:G,D16,'TK COITHI KTHP'!I:I)+SUMIF('TK COITHI KTHP'!J:J,D16,'TK COITHI KTHP'!L:L)) -> 0 | K16: =IF(D16="","",SUMIF('TK COITHI KTHP'!B:B,D16,'TK COITHI KTHP'!C:C)+SUMIF('TK COITHI KTHP'!E:E,D16,'TK COITHI KTHP'!F:F)+SUMIF('TK COITHI KTHP'!H:H,D16,'TK COITHI KTHP'!I:I)+SUMIF('TK COITHI KTHP'!K:K,D16,'TK COITHI KTHP'!L:L)) -> 0 | L16: =IF(D16="","",SUMIF('TK COI THI TOT NGHIEP'!A:A,D16,'TK COI THI TOT NGHIEP'!C:C)+SUMIF('TK COI THI TOT NGHIEP'!D:D,D16,'TK COI THI TOT NGHIEP'!F:F)+SUMIF('TK COI THI TOT NGHIEP'!G:G,D16,'TK COI THI TOT NGHIEP'!I:I)+SUMIF('TK COI THI TOT NGHIEP'!J:J,D16,'TK COI THI TOT NGHIEP'!L:L)) -> 0 | M16: =IF(D16="","",SUMIF('TK COI THI TOT NGHIEP'!B:B,D16,'TK COI THI TOT NGHIEP'!C:C)+SUMIF('TK COI THI TOT NGHIEP'!E:E,D16,'TK COI THI TOT NGHIEP'!F:F)+SUMIF('TK COI THI TOT NGHIEP'!H:H,D16,'TK COI THI TOT NGHIEP'!I:I)+SUMIF('TK COI THI TOT NGHIEP'!K:K,D16,'TK COI THI TOT NGHIEP'!L:L)) -> 0 | N16: =IF(D16="","",SUM(J16:M16)) -> 0 | O16: =IF(D16="","",SUMIF('TK CHAMTHI'!A:A,D16,'TK CHAMTHI'!C:C)) -> 0 | P16: =IF(D16="","",SUMIF('TK CHAMTHI'!B:B,D16,'TK CHAMTHI'!C:C)) -> 0 | Q16: =IF(D16="","",SUMIF('CHAM NV'!B:B,D16,'CHAM NV'!C:C)) -> 0 | R16: =IF(D16="","",(SUM(O16:P16)-Q16)/20) -> 0 | S16: =IF(D16="","",SUMIF('TK CHAMTHI'!D:D,D16,'TK CHAMTHI'!F:F)) -> 0 | T16: =IF(D16="","",SUMIF('TK CHAMTHI'!E:E,D16,'TK CHAMTHI'!F:F)) -> 0 | U16: =IF(D16="","",SUMIF('CHAM NV'!E:E,D16,'CHAM NV'!F:F)) -> 0 | V16: =IF(D16="","",(SUM(S16:T16)-U16)/10) -> 0 | W16: =IF(D16="","",SUMIF('TK CHAMTHI'!G:G,D16,'TK CHAMTHI'!I:I)) -> 0 | X16: =IF(D16="","",SUMIF('TK CHAMTHI'!H:H,D16,'TK CHAMTHI'!I:I)) -> 0 | Y16: =IF(D16="","",SUM(W16:X16)/14) -> 0 | Z16: =IF(D16="","",SUMIF('TK CHAMTHI'!J:J,D16,'TK CHAMTHI'!L:L)) -> 0 | AA16: =IF(D16="","",SUMIF('TK CHAMTHI'!K:K,D16,'TK CHAMTHI'!L:L)) -> 0 | AB16: =IF(D16="","",SUM(Z16:AA16)/10) -> 0 | AC16: =IF(D16="","",SUMIF('TK CHAMTHI'!M:M,D16,'TK CHAMTHI'!O:O)) -> 0 | AD16: =IF(D16="","",SUMIF('TK CHAMTHI'!N:N,D16,'TK CHAMTHI'!O:O)) -> 0 | AE16: =IF(D16="","",SUM(AC16:AD16)/20) -> 0 | AF16: =IF(D16="","",ROUND(SUMIF('QL THI'!G:G,D16,'QL THI'!H:H),1)) -> 0 | AG16: =IF(D16="","",ROUND(SUMIF('QL THI'!E:E,D16,'QL THI'!F:F),1)) -> 0 | AH16: =IF(D16="","",ROUND(I16+N16+R16+V16+Y16+AB16+AE16+SUM(AF16:AG16),1)) -> 0
... A434: =IF(D434="","",SUBTOTAL(3,$D$5:D434)) -> 35 | B434: 01014011 | C434: Khoa CN Điện - Điện tử | D434: Nguyễn Trọng Trí | E434: =IF(D434="","",SUMIF('TK DETHI'!A:A,D434,'TK DETHI'!B:B)) -> 0 | F434: =IF(D434="","",SUMIF('TK DETHI'!C:C,D434,'TK DETHI'!D:D)) -> 0 | G434: =IF(D434="","",SUMIF('TK DETHI'!E:E,D434,'TK DETHI'!F:F)) -> 0 | H434: =IF(D434="","",SUMIF('TK DETHI'!G:G,D434,'TK DETHI'!H:H)) -> 0 | I434: =IF(D434="","",(E434+F434*2+G434*3+H434*2)) -> 0 | J434: =IF(D434="","",SUMIF('TK COITHI KTHP'!A:A,D434,'TK COITHI KTHP'!C:C)+SUMIF('TK COITHI KTHP'!D:D,D434,'TK COITHI KTHP'!F:F)+SUMIF('TK COITHI KTHP'!G:G,D434,'TK COITHI KTHP'!I:I)+SUMIF('TK COITHI KTHP'!J:J,D434,'TK COITHI KTHP'!L:L)) -> 0 | K434: =IF(D434="","",SUMIF('TK COITHI KTHP'!B:B,D434,'TK COITHI KTHP'!C:C)+SUMIF('TK COITHI KTHP'!E:E,D434,'TK COITHI KTHP'!F:F)+SUMIF('TK COITHI KTHP'!H:H,D434,'TK COITHI KTHP'!I:I)+SUMIF('TK COITHI KTHP'!K:K,D434,'TK COITHI KTHP'!L:L)) -> 0 | L434: =IF(D434="","",SUMIF('TK COI THI TOT NGHIEP'!A:A,D434,'TK COI THI TOT NGHIEP'!C:C)+SUMIF('TK COI THI TOT NGHIEP'!D:D,D434,'TK COI THI TOT NGHIEP'!F:F)+SUMIF('TK COI THI TOT NGHIEP'!G:G,D434,'TK COI THI TOT NGHIEP'!I:I)+SUMIF('TK COI THI TOT NGHIEP'!J:J,D434,'TK COI THI TOT NGHIEP'!L:L)) -> 0 | M434: =IF(D434="","",SUMIF('TK COI THI TOT NGHIEP'!B:B,D434,'TK COI THI TOT NGHIEP'!C:C)+SUMIF('TK COI THI TOT NGHIEP'!E:E,D434,'TK COI THI TOT NGHIEP'!F:F)+SUMIF('TK COI THI TOT NGHIEP'!H:H,D434,'TK COI THI TOT NGHIEP'!I:I)+SUMIF('TK COI THI TOT NGHIEP'!K:K,D434,'TK COI THI TOT NGHIEP'!L:L)) -> 0 | N434: =IF(D434="","",SUM(J434:M434)) -> 0 | O434: =IF(D434="","",SUMIF('TK CHAMTHI'!A:A,D434,'TK CHAMTHI'!C:C)) -> 0 | P434: =IF(D434="","",SUMIF('TK CHAMTHI'!B:B,D434,'TK CHAMTHI'!C:C)) -> 0 | Q434: =IF(D434="","",SUMIF('CHAM NV'!B:B,D434,'CHAM NV'!C:C)) -> 0 | R434: =IF(D434="","",(SUM(O434:P434)-Q434)/20) -> 0 | S434: =IF(D434="","",SUMIF('TK CHAMTHI'!D:D,D434,'TK CHAMTHI'!F:F)) -> 0 | T434: =IF(D434="","",SUMIF('TK CHAMTHI'!E:E,D434,'TK CHAMTHI'!F:F)) -> 0 | U434: =IF(D434="","",SUMIF('CHAM NV'!E:E,D434,'CHAM NV'!F:F)) -> 0 | V434: =IF(D434="","",(SUM(S434:T434)-U434)/10) -> 0 | W434: =IF(D434="","",SUMIF('TK CHAMTHI'!G:G,D434,'TK CHAMTHI'!I:I)) -> 0 | X434: =IF(D434="","",SUMIF('TK CHAMTHI'!H:H,D434,'TK CHAMTHI'!I:I)) -> 0 | Y434: =IF(D434="","",SUM(W434:X434)/14) -> 0 | Z434: =IF(D434="","",SUMIF('TK CHAMTHI'!J:J,D434,'TK CHAMTHI'!L:L)) -> 0 | AA434: =IF(D434="","",SUMIF('TK CHAMTHI'!K:K,D434,'TK CHAMTHI'!L:L)) -> 0 | AB434: =IF(D434="","",SUM(Z434:AA434)/10) -> 0 | AC434: =IF(D434="","",SUMIF('TK CHAMTHI'!M:M,D434,'TK CHAMTHI'!O:O)) -> 0 | AD434: =IF(D434="","",SUMIF('TK CHAMTHI'!N:N,D434,'TK CHAMTHI'!O:O)) -> 0 | AE434: =IF(D434="","",SUM(AC434:AD434)/20) -> 0 | AF434: =IF(D434="","",ROUND(SUMIF('QL THI'!G:G,D434,'QL THI'!H:H),1)) -> 0 | AG434: =IF(D434="","",ROUND(SUMIF('QL THI'!E:E,D434,'QL THI'!F:F),1)) -> 0 | AH434: =IF(D434="","",ROUND(I434+N434+R434+V434+Y434+AB434+AE434+SUM(AF434:AG434),1)) -> 0
A435: =IF(D435="","",SUBTOTAL(3,$D$5:D435)) | E435: =IF(D435="","",SUMIF('TK DETHI'!A:A,D435,'TK DETHI'!B:B)) | F435: =IF(D435="","",SUMIF('TK DETHI'!C:C,D435,'TK DETHI'!D:D)) | G435: =IF(D435="","",SUMIF('TK DETHI'!E:E,D435,'TK DETHI'!F:F)) | H435: =IF(D435="","",SUMIF('TK DETHI'!G:G,D435,'TK DETHI'!H:H)) | I435: =IF(D435="","",(E435+F435*2+G435*3+H435*2)) | J435: =IF(D435="","",SUMIF('TK COITHI KTHP'!A:A,D435,'TK COITHI KTHP'!C:C)+SUMIF('TK COITHI KTHP'!D:D,D435,'TK COITHI KTHP'!F:F)+SUMIF('TK COITHI KTHP'!G:G,D435,'TK COITHI KTHP'!I:I)+SUMIF('TK COITHI KTHP'!J:J,D435,'TK COITHI KTHP'!L:L)) | K435: =IF(D435="","",SUMIF('TK COITHI KTHP'!B:B,D435,'TK COITHI KTHP'!C:C)+SUMIF('TK COITHI KTHP'!E:E,D435,'TK COITHI KTHP'!F:F)+SUMIF('TK COITHI KTHP'!H:H,D435,'TK COITHI KTHP'!I:I)+SUMIF('TK COITHI KTHP'!K:K,D435,'TK COITHI KTHP'!L:L)) | L435: =IF(D435="","",SUMIF('TK COI THI TOT NGHIEP'!A:A,D435,'TK COI THI TOT NGHIEP'!C:C)+SUMIF('TK COI THI TOT NGHIEP'!D:D,D435,'TK COI THI TOT NGHIEP'!F:F)+SUMIF('TK COI THI TOT NGHIEP'!G:G,D435,'TK COI THI TOT NGHIEP'!I:I)+SUMIF('TK COI THI TOT NGHIEP'!J:J,D435,'TK COI THI TOT NGHIEP'!L:L)) | M435: =IF(D435="","",SUMIF('TK COI THI TOT NGHIEP'!B:B,D435,'TK COI THI TOT NGHIEP'!C:C)+SUMIF('TK COI THI TOT NGHIEP'!E:E,D435,'TK COI THI TOT NGHIEP'!F:F)+SUMIF('TK COI THI TOT NGHIEP'!H:H,D435,'TK COI THI TOT NGHIEP'!I:I)+SUMIF('TK COI THI TOT NGHIEP'!K:K,D435,'TK COI THI TOT NGHIEP'!L:L)) | N435: =IF(D435="","",SUM(J435:M435)) | O435: =IF(D435="","",SUMIF('TK CHAMTHI'!A:A,D435,'TK CHAMTHI'!C:C)) | P435: =IF(D435="","",SUMIF('TK CHAMTHI'!B:B,D435,'TK CHAMTHI'!C:C)) | Q435: =IF(D435="","",SUMIF('CHAM NV'!B:B,D435,'CHAM NV'!C:C)) | R435: =IF(D435="","",(SUM(O435:P435)-Q435)/20) | S435: =IF(D435="","",SUMIF('TK CHAMTHI'!D:D,D435,'TK CHAMTHI'!F:F)) | T435: =IF(D435="","",SUMIF('TK CHAMTHI'!E:E,D435,'TK CHAMTHI'!F:F)) | U435: =IF(D435="","",SUMIF('CHAM NV'!E:E,D435,'CHAM NV'!F:F)) | V435: =IF(D435="","",(SUM(S435:T435)-U435)/10) | W435: =IF(D435="","",SUMIF('TK CHAMTHI'!G:G,D435,'TK CHAMTHI'!I:I)) | X435: =IF(D435="","",SUMIF('TK CHAMTHI'!H:H,D435,'TK CHAMTHI'!I:I)) | Y435: =IF(D435="","",SUM(W435:X435)/14) | Z435: =IF(D435="","",SUMIF('TK CHAMTHI'!J:J,D435,'TK CHAMTHI'!L:L)) | AA435: =IF(D435="","",SUMIF('TK CHAMTHI'!K:K,D435,'TK CHAMTHI'!L:L)) | AB435: =IF(D435="","",SUM(Z435:AA435)/10) | AC435: =IF(D435="","",SUMIF('TK CHAMTHI'!M:M,D435,'TK CHAMTHI'!O:O)) | AD435: =IF(D435="","",SUMIF('TK CHAMTHI'!N:N,D435,'TK CHAMTHI'!O:O)) | AE435: =IF(D435="","",SUM(AC435:AD435)/20) | AF435: =IF(D435="","",ROUND(SUMIF('QL THI'!G:G,D435,'QL THI'!H:H),1)) | AG435: =IF(D435="","",ROUND(SUMIF('QL THI'!E:E,D435,'QL THI'!F:F),1)) | AH435: =IF(D435="","",ROUND(I435+N435+R435+V435+Y435+AB435+AE435+SUM(AF435:AG435),1))
A436: =IF(D436="","",SUBTOTAL(3,$D$5:D436)) | E436: =IF(D436="","",SUMIF('TK DETHI'!A:A,D436,'TK DETHI'!B:B)) | F436: =IF(D436="","",SUMIF('TK DETHI'!C:C,D436,'TK DETHI'!D:D)) | G436: =IF(D436="","",SUMIF('TK DETHI'!E:E,D436,'TK DETHI'!F:F)) | H436: =IF(D436="","",SUMIF('TK DETHI'!G:G,D436,'TK DETHI'!H:H)) | I436: =IF(D436="","",(E436+F436*2+G436*3+H436*2)) | J436: =IF(D436="","",SUMIF('TK COITHI KTHP'!A:A,D436,'TK COITHI KTHP'!C:C)+SUMIF('TK COITHI KTHP'!D:D,D436,'TK COITHI KTHP'!F:F)+SUMIF('TK COITHI KTHP'!G:G,D436,'TK COITHI KTHP'!I:I)+SUMIF('TK COITHI KTHP'!J:J,D436,'TK COITHI KTHP'!L:L)) | K436: =IF(D436="","",SUMIF('TK COITHI KTHP'!B:B,D436,'TK COITHI KTHP'!C:C)+SUMIF('TK COITHI KTHP'!E:E,D436,'TK COITHI KTHP'!F:F)+SUMIF('TK COITHI KTHP'!H:H,D436,'TK COITHI KTHP'!I:I)+SUMIF('TK COITHI KTHP'!K:K,D436,'TK COITHI KTHP'!L:L)) | L436: =IF(D436="","",SUMIF('TK COI THI TOT NGHIEP'!A:A,D436,'TK COI THI TOT NGHIEP'!C:C)+SUMIF('TK COI THI TOT NGHIEP'!D:D,D436,'TK COI THI TOT NGHIEP'!F:F)+SUMIF('TK COI THI TOT NGHIEP'!G:G,D436,'TK COI THI TOT NGHIEP'!I:I)+SUMIF('TK COI THI TOT NGHIEP'!J:J,D436,'TK COI THI TOT NGHIEP'!L:L)) | M436: =IF(D436="","",SUMIF('TK COI THI TOT NGHIEP'!B:B,D436,'TK COI THI TOT NGHIEP'!C:C)+SUMIF('TK COI THI TOT NGHIEP'!E:E,D436,'TK COI THI TOT NGHIEP'!F:F)+SUMIF('TK COI THI TOT NGHIEP'!H:H,D436,'TK COI THI TOT NGHIEP'!I:I)+SUMIF('TK COI THI TOT NGHIEP'!K:K,D436,'TK COI THI TOT NGHIEP'!L:L)) | N436: =IF(D436="","",SUM(J436:M436)) | O436: =IF(D436="","",SUMIF('TK CHAMTHI'!A:A,D436,'TK CHAMTHI'!C:C)) | P436: =IF(D436="","",SUMIF('TK CHAMTHI'!B:B,D436,'TK CHAMTHI'!C:C)) | Q436: =IF(D436="","",SUMIF('CHAM NV'!B:B,D436,'CHAM NV'!C:C)) | R436: =IF(D436="","",(SUM(O436:P436)-Q436)/20) | S436: =IF(D436="","",SUMIF('TK CHAMTHI'!D:D,D436,'TK CHAMTHI'!F:F)) | T436: =IF(D436="","",SUMIF('TK CHAMTHI'!E:E,D436,'TK CHAMTHI'!F:F)) | U436: =IF(D436="","",SUMIF('CHAM NV'!E:E,D436,'CHAM NV'!F:F)) | V436: =IF(D436="","",(SUM(S436:T436)-U436)/10) | W436: =IF(D436="","",SUMIF('TK CHAMTHI'!G:G,D436,'TK CHAMTHI'!I:I)) | X436: =IF(D436="","",SUMIF('TK CHAMTHI'!H:H,D436,'TK CHAMTHI'!I:I)) | Y436: =IF(D436="","",SUM(W436:X436)/14) | Z436: =IF(D436="","",SUMIF('TK CHAMTHI'!J:J,D436,'TK CHAMTHI'!L:L)) | AA436: =IF(D436="","",SUMIF('TK CHAMTHI'!K:K,D436,'TK CHAMTHI'!L:L)) | AB436: =IF(D436="","",SUM(Z436:AA436)/10) | AC436: =IF(D436="","",SUMIF('TK CHAMTHI'!M:M,D436,'TK CHAMTHI'!O:O)) | AD436: =IF(D436="","",SUMIF('TK CHAMTHI'!N:N,D436,'TK CHAMTHI'!O:O)) | AE436: =IF(D436="","",SUM(AC436:AD436)/20) | AF436: =IF(D436="","",ROUND(SUMIF('QL THI'!G:G,D436,'QL THI'!H:H),1)) | AG436: =IF(D436="","",ROUND(SUMIF('QL THI'!E:E,D436,'QL THI'!F:F),1)) | AH436: =IF(D436="","",ROUND(I436+N436+R436+V436+Y436+AB436+AE436+SUM(AF436:AG436),1))
A437: =IF(D437="","",SUBTOTAL(3,$D$5:D437)) | E437: =IF(D437="","",SUMIF('TK DETHI'!A:A,D437,'TK DETHI'!B:B)) | F437: =IF(D437="","",SUMIF('TK DETHI'!C:C,D437,'TK DETHI'!D:D)) | G437: =IF(D437="","",SUMIF('TK DETHI'!E:E,D437,'TK DETHI'!F:F)) | H437: =IF(D437="","",SUMIF('TK DETHI'!G:G,D437,'TK DETHI'!H:H)) | I437: =IF(D437="","",(E437+F437*2+G437*3+H437*2)) | J437: =IF(D437="","",SUMIF('TK COITHI KTHP'!A:A,D437,'TK COITHI KTHP'!C:C)+SUMIF('TK COITHI KTHP'!D:D,D437,'TK COITHI KTHP'!F:F)+SUMIF('TK COITHI KTHP'!G:G,D437,'TK COITHI KTHP'!I:I)+SUMIF('TK COITHI KTHP'!J:J,D437,'TK COITHI KTHP'!L:L)) | K437: =IF(D437="","",SUMIF('TK COITHI KTHP'!B:B,D437,'TK COITHI KTHP'!C:C)+SUMIF('TK COITHI KTHP'!E:E,D437,'TK COITHI KTHP'!F:F)+SUMIF('TK COITHI KTHP'!H:H,D437,'TK COITHI KTHP'!I:I)+SUMIF('TK COITHI KTHP'!K:K,D437,'TK COITHI KTHP'!L:L)) | L437: =IF(D437="","",SUMIF('TK COI THI TOT NGHIEP'!A:A,D437,'TK COI THI TOT NGHIEP'!C:C)+SUMIF('TK COI THI TOT NGHIEP'!D:D,D437,'TK COI THI TOT NGHIEP'!F:F)+SUMIF('TK COI THI TOT NGHIEP'!G:G,D437,'TK COI THI TOT NGHIEP'!I:I)+SUMIF('TK COI THI TOT NGHIEP'!J:J,D437,'TK COI THI TOT NGHIEP'!L:L)) | M437: =IF(D437="","",SUMIF('TK COI THI TOT NGHIEP'!B:B,D437,'TK COI THI TOT NGHIEP'!C:C)+SUMIF('TK COI THI TOT NGHIEP'!E:E,D437,'TK COI THI TOT NGHIEP'!F:F)+SUMIF('TK COI THI TOT NGHIEP'!H:H,D437,'TK COI THI TOT NGHIEP'!I:I)+SUMIF('TK COI THI TOT NGHIEP'!K:K,D437,'TK COI THI TOT NGHIEP'!L:L)) | N437: =IF(D437="","",SUM(J437:M437)) | O437: =IF(D437="","",SUMIF('TK CHAMTHI'!A:A,D437,'TK CHAMTHI'!C:C)) | P437: =IF(D437="","",SUMIF('TK CHAMTHI'!B:B,D437,'TK CHAMTHI'!C:C)) | Q437: =IF(D437="","",SUMIF('CHAM NV'!B:B,D437,'CHAM NV'!C:C)) | R437: =IF(D437="","",(SUM(O437:P437)-Q437)/20) | S437: =IF(D437="","",SUMIF('TK CHAMTHI'!D:D,D437,'TK CHAMTHI'!F:F)) | T437: =IF(D437="","",SUMIF('TK CHAMTHI'!E:E,D437,'TK CHAMTHI'!F:F)) | U437: =IF(D437="","",SUMIF('CHAM NV'!E:E,D437,'CHAM NV'!F:F)) | V437: =IF(D437="","",(SUM(S437:T437)-U437)/10) | W437: =IF(D437="","",SUMIF('TK CHAMTHI'!G:G,D437,'TK CHAMTHI'!I:I)) | X437: =IF(D437="","",SUMIF('TK CHAMTHI'!H:H,D437,'TK CHAMTHI'!I:I)) | Y437: =IF(D437="","",SUM(W437:X437)/14) | Z437: =IF(D437="","",SUMIF('TK CHAMTHI'!J:J,D437,'TK CHAMTHI'!L:L)) | AA437: =IF(D437="","",SUMIF('TK CHAMTHI'!K:K,D437,'TK CHAMTHI'!L:L)) | AB437: =IF(D437="","",SUM(Z437:AA437)/10) | AC437: =IF(D437="","",SUMIF('TK CHAMTHI'!M:M,D437,'TK CHAMTHI'!O:O)) | AD437: =IF(D437="","",SUMIF('TK CHAMTHI'!N:N,D437,'TK CHAMTHI'!O:O)) | AE437: =IF(D437="","",SUM(AC437:AD437)/20) | AF437: =IF(D437="","",ROUND(SUMIF('QL THI'!G:G,D437,'QL THI'!H:H),1)) | AG437: =IF(D437="","",ROUND(SUMIF('QL THI'!E:E,D437,'QL THI'!F:F),1)) | AH437: =IF(D437="","",ROUND(I437+N437+R437+V437+Y437+AB437+AE437+SUM(AF437:AG437),1))
A438: =IF(D438="","",SUBTOTAL(3,$D$5:D438)) | E438: =IF(D438="","",SUMIF('TK DETHI'!A:A,D438,'TK DETHI'!B:B)) | F438: =IF(D438="","",SUMIF('TK DETHI'!C:C,D438,'TK DETHI'!D:D)) | G438: =IF(D438="","",SUMIF('TK DETHI'!E:E,D438,'TK DETHI'!F:F)) | H438: =IF(D438="","",SUMIF('TK DETHI'!G:G,D438,'TK DETHI'!H:H)) | I438: =IF(D438="","",(E438+F438*2+G438*3+H438*2)) | J438: =IF(D438="","",SUMIF('TK COITHI KTHP'!A:A,D438,'TK COITHI KTHP'!C:C)+SUMIF('TK COITHI KTHP'!D:D,D438,'TK COITHI KTHP'!F:F)+SUMIF('TK COITHI KTHP'!G:G,D438,'TK COITHI KTHP'!I:I)+SUMIF('TK COITHI KTHP'!J:J,D438,'TK COITHI KTHP'!L:L)) | K438: =IF(D438="","",SUMIF('TK COITHI KTHP'!B:B,D438,'TK COITHI KTHP'!C:C)+SUMIF('TK COITHI KTHP'!E:E,D438,'TK COITHI KTHP'!F:F)+SUMIF('TK COITHI KTHP'!H:H,D438,'TK COITHI KTHP'!I:I)+SUMIF('TK COITHI KTHP'!K:K,D438,'TK COITHI KTHP'!L:L)) | L438: =IF(D438="","",SUMIF('TK COI THI TOT NGHIEP'!A:A,D438,'TK COI THI TOT NGHIEP'!C:C)+SUMIF('TK COI THI TOT NGHIEP'!D:D,D438,'TK COI THI TOT NGHIEP'!F:F)+SUMIF('TK COI THI TOT NGHIEP'!G:G,D438,'TK COI THI TOT NGHIEP'!I:I)+SUMIF('TK COI THI TOT NGHIEP'!J:J,D438,'TK COI THI TOT NGHIEP'!L:L)) | M438: =IF(D438="","",SUMIF('TK COI THI TOT NGHIEP'!B:B,D438,'TK COI THI TOT NGHIEP'!C:C)+SUMIF('TK COI THI TOT NGHIEP'!E:E,D438,'TK COI THI TOT NGHIEP'!F:F)+SUMIF('TK COI THI TOT NGHIEP'!H:H,D438,'TK COI THI TOT NGHIEP'!I:I)+SUMIF('TK COI THI TOT NGHIEP'!K:K,D438,'TK COI THI TOT NGHIEP'!L:L)) | N438: =IF(D438="","",SUM(J438:M438)) | O438: =IF(D438="","",SUMIF('TK CHAMTHI'!A:A,D438,'TK CHAMTHI'!C:C)) | P438: =IF(D438="","",SUMIF('TK CHAMTHI'!B:B,D438,'TK CHAMTHI'!C:C)) | Q438: =IF(D438="","",SUMIF('CHAM NV'!B:B,D438,'CHAM NV'!C:C)) | R438: =IF(D438="","",(SUM(O438:P438)-Q438)/20) | S438: =IF(D438="","",SUMIF('TK CHAMTHI'!D:D,D438,'TK CHAMTHI'!F:F)) | T438: =IF(D438="","",SUMIF('TK CHAMTHI'!E:E,D438,'TK CHAMTHI'!F:F)) | U438: =IF(D438="","",SUMIF('CHAM NV'!E:E,D438,'CHAM NV'!F:F)) | V438: =IF(D438="","",(SUM(S438:T438)-U438)/10) | W438: =IF(D438="","",SUMIF('TK CHAMTHI'!G:G,D438,'TK CHAMTHI'!I:I)) | X438: =IF(D438="","",SUMIF('TK CHAMTHI'!H:H,D438,'TK CHAMTHI'!I:I)) | Y438: =IF(D438="","",SUM(W438:X438)/14) | Z438: =IF(D438="","",SUMIF('TK CHAMTHI'!J:J,D438,'TK CHAMTHI'!L:L)) | AA438: =IF(D438="","",SUMIF('TK CHAMTHI'!K:K,D438,'TK CHAMTHI'!L:L)) | AB438: =IF(D438="","",SUM(Z438:AA438)/10) | AC438: =IF(D438="","",SUMIF('TK CHAMTHI'!M:M,D438,'TK CHAMTHI'!O:O)) | AD438: =IF(D438="","",SUMIF('TK CHAMTHI'!N:N,D438,'TK CHAMTHI'!O:O)) | AE438: =IF(D438="","",SUM(AC438:AD438)/20) | AF438: =IF(D438="","",ROUND(SUMIF('QL THI'!G:G,D438,'QL THI'!H:H),1)) | AG438: =IF(D438="","",ROUND(SUMIF('QL THI'!E:E,D438,'QL THI'!F:F),1)) | AH438: =IF(D438="","",ROUND(I438+N438+R438+V438+Y438+AB438+AE438+SUM(AF438:AG438),1))
A439: =IF(D439="","",SUBTOTAL(3,$D$5:D439)) | E439: =IF(D439="","",SUMIF('TK DETHI'!A:A,D439,'TK DETHI'!B:B)) | F439: =IF(D439="","",SUMIF('TK DETHI'!C:C,D439,'TK DETHI'!D:D)) | G439: =IF(D439="","",SUMIF('TK DETHI'!E:E,D439,'TK DETHI'!F:F)) | H439: =IF(D439="","",SUMIF('TK DETHI'!G:G,D439,'TK DETHI'!H:H)) | I439: =IF(D439="","",(E439+F439*2+G439*3+H439*2)) | J439: =IF(D439="","",SUMIF('TK COITHI KTHP'!A:A,D439,'TK COITHI KTHP'!C:C)+SUMIF('TK COITHI KTHP'!D:D,D439,'TK COITHI KTHP'!F:F)+SUMIF('TK COITHI KTHP'!G:G,D439,'TK COITHI KTHP'!I:I)+SUMIF('TK COITHI KTHP'!J:J,D439,'TK COITHI KTHP'!L:L)) | K439: =IF(D439="","",SUMIF('TK COITHI KTHP'!B:B,D439,'TK COITHI KTHP'!C:C)+SUMIF('TK COITHI KTHP'!E:E,D439,'TK COITHI KTHP'!F:F)+SUMIF('TK COITHI KTHP'!H:H,D439,'TK COITHI KTHP'!I:I)+SUMIF('TK COITHI KTHP'!K:K,D439,'TK COITHI KTHP'!L:L)) | L439: =IF(D439="","",SUMIF('TK COI THI TOT NGHIEP'!A:A,D439,'TK COI THI TOT NGHIEP'!C:C)+SUMIF('TK COI THI TOT NGHIEP'!D:D,D439,'TK COI THI TOT NGHIEP'!F:F)+SUMIF('TK COI THI TOT NGHIEP'!G:G,D439,'TK COI THI TOT NGHIEP'!I:I)+SUMIF('TK COI THI TOT NGHIEP'!J:J,D439,'TK COI THI TOT NGHIEP'!L:L)) | M439: =IF(D439="","",SUMIF('TK COI THI TOT NGHIEP'!B:B,D439,'TK COI THI TOT NGHIEP'!C:C)+SUMIF('TK COI THI TOT NGHIEP'!E:E,D439,'TK COI THI TOT NGHIEP'!F:F)+SUMIF('TK COI THI TOT NGHIEP'!H:H,D439,'TK COI THI TOT NGHIEP'!I:I)+SUMIF('TK COI THI TOT NGHIEP'!K:K,D439,'TK COI THI TOT NGHIEP'!L:L)) | N439: =IF(D439="","",SUM(J439:M439)) | O439: =IF(D439="","",SUMIF('TK CHAMTHI'!A:A,D439,'TK CHAMTHI'!C:C)) | P439: =IF(D439="","",SUMIF('TK CHAMTHI'!B:B,D439,'TK CHAMTHI'!C:C)) | Q439: =IF(D439="","",SUMIF('CHAM NV'!B:B,D439,'CHAM NV'!C:C)) | R439: =IF(D439="","",(SUM(O439:P439)-Q439)/20) | S439: =IF(D439="","",SUMIF('TK CHAMTHI'!D:D,D439,'TK CHAMTHI'!F:F)) | T439: =IF(D439="","",SUMIF('TK CHAMTHI'!E:E,D439,'TK CHAMTHI'!F:F)) | U439: =IF(D439="","",SUMIF('CHAM NV'!E:E,D439,'CHAM NV'!F:F)) | V439: =IF(D439="","",(SUM(S439:T439)-U439)/10) | W439: =IF(D439="","",SUMIF('TK CHAMTHI'!G:G,D439,'TK CHAMTHI'!I:I)) | X439: =IF(D439="","",SUMIF('TK CHAMTHI'!H:H,D439,'TK CHAMTHI'!I:I)) | Y439: =IF(D439="","",SUM(W439:X439)/14) | Z439: =IF(D439="","",SUMIF('TK CHAMTHI'!J:J,D439,'TK CHAMTHI'!L:L)) | AA439: =IF(D439="","",SUMIF('TK CHAMTHI'!K:K,D439,'TK CHAMTHI'!L:L)) | AB439: =IF(D439="","",SUM(Z439:AA439)/10) | AC439: =IF(D439="","",SUMIF('TK CHAMTHI'!M:M,D439,'TK CHAMTHI'!O:O)) | AD439: =IF(D439="","",SUMIF('TK CHAMTHI'!N:N,D439,'TK CHAMTHI'!O:O)) | AE439: =IF(D439="","",SUM(AC439:AD439)/20) | AF439: =IF(D439="","",ROUND(SUMIF('QL THI'!G:G,D439,'QL THI'!H:H),1)) | AG439: =IF(D439="","",ROUND(SUMIF('QL THI'!E:E,D439,'QL THI'!F:F),1)) | AH439: =IF(D439="","",ROUND(I439+N439+R439+V439+Y439+AB439+AE439+SUM(AF439:AG439),1))
A440: =IF(D440="","",SUBTOTAL(3,$D$5:D440)) | E440: =IF(D440="","",SUMIF('TK DETHI'!A:A,D440,'TK DETHI'!B:B)) | F440: =IF(D440="","",SUMIF('TK DETHI'!C:C,D440,'TK DETHI'!D:D)) | G440: =IF(D440="","",SUMIF('TK DETHI'!E:E,D440,'TK DETHI'!F:F)) | H440: =IF(D440="","",SUMIF('TK DETHI'!G:G,D440,'TK DETHI'!H:H)) | I440: =IF(D440="","",(E440+F440*2+G440*3+H440*2)) | J440: =IF(D440="","",SUMIF('TK COITHI KTHP'!A:A,D440,'TK COITHI KTHP'!C:C)+SUMIF('TK COITHI KTHP'!D:D,D440,'TK COITHI KTHP'!F:F)+SUMIF('TK COITHI KTHP'!G:G,D440,'TK COITHI KTHP'!I:I)+SUMIF('TK COITHI KTHP'!J:J,D440,'TK COITHI KTHP'!L:L)) | K440: =IF(D440="","",SUMIF('TK COITHI KTHP'!B:B,D440,'TK COITHI KTHP'!C:C)+SUMIF('TK COITHI KTHP'!E:E,D440,'TK COITHI KTHP'!F:F)+SUMIF('TK COITHI KTHP'!H:H,D440,'TK COITHI KTHP'!I:I)+SUMIF('TK COITHI KTHP'!K:K,D440,'TK COITHI KTHP'!L:L)) | L440: =IF(D440="","",SUMIF('TK COI THI TOT NGHIEP'!A:A,D440,'TK COI THI TOT NGHIEP'!C:C)+SUMIF('TK COI THI TOT NGHIEP'!D:D,D440,'TK COI THI TOT NGHIEP'!F:F)+SUMIF('TK COI THI TOT NGHIEP'!G:G,D440,'TK COI THI TOT NGHIEP'!I:I)+SUMIF('TK COI THI TOT NGHIEP'!J:J,D440,'TK COI THI TOT NGHIEP'!L:L)) | M440: =IF(D440="","",SUMIF('TK COI THI TOT NGHIEP'!B:B,D440,'TK COI THI TOT NGHIEP'!C:C)+SUMIF('TK COI THI TOT NGHIEP'!E:E,D440,'TK COI THI TOT NGHIEP'!F:F)+SUMIF('TK COI THI TOT NGHIEP'!H:H,D440,'TK COI THI TOT NGHIEP'!I:I)+SUMIF('TK COI THI TOT NGHIEP'!K:K,D440,'TK COI THI TOT NGHIEP'!L:L)) | N440: =IF(D440="","",SUM(J440:M440)) | O440: =IF(D440="","",SUMIF('TK CHAMTHI'!A:A,D440,'TK CHAMTHI'!C:C)) | P440: =IF(D440="","",SUMIF('TK CHAMTHI'!B:B,D440,'TK CHAMTHI'!C:C)) | Q440: =IF(D440="","",SUMIF('CHAM NV'!B:B,D440,'CHAM NV'!C:C)) | R440: =IF(D440="","",(SUM(O440:P440)-Q440)/20) | S440: =IF(D440="","",SUMIF('TK CHAMTHI'!D:D,D440,'TK CHAMTHI'!F:F)) | T440: =IF(D440="","",SUMIF('TK CHAMTHI'!E:E,D440,'TK CHAMTHI'!F:F)) | U440: =IF(D440="","",SUMIF('CHAM NV'!E:E,D440,'CHAM NV'!F:F)) | V440: =IF(D440="","",(SUM(S440:T440)-U440)/10) | W440: =IF(D440="","",SUMIF('TK CHAMTHI'!G:G,D440,'TK CHAMTHI'!I:I)) | X440: =IF(D440="","",SUMIF('TK CHAMTHI'!H:H,D440,'TK CHAMTHI'!I:I)) | Y440: =IF(D440="","",SUM(W440:X440)/14) | Z440: =IF(D440="","",SUMIF('TK CHAMTHI'!J:J,D440,'TK CHAMTHI'!L:L)) | AA440: =IF(D440="","",SUMIF('TK CHAMTHI'!K:K,D440,'TK CHAMTHI'!L:L)) | AB440: =IF(D440="","",SUM(Z440:AA440)/10) | AC440: =IF(D440="","",SUMIF('TK CHAMTHI'!M:M,D440,'TK CHAMTHI'!O:O)) | AD440: =IF(D440="","",SUMIF('TK CHAMTHI'!N:N,D440,'TK CHAMTHI'!O:O)) | AE440: =IF(D440="","",SUM(AC440:AD440)/20) | AF440: =IF(D440="","",ROUND(SUMIF('QL THI'!G:G,D440,'QL THI'!H:H),1)) | AG440: =IF(D440="","",ROUND(SUMIF('QL THI'!E:E,D440,'QL THI'!F:F),1)) | AH440: =IF(D440="","",ROUND(I440+N440+R440+V440+Y440+AB440+AE440+SUM(AF440:AG440),1))
A441: =IF(D441="","",SUBTOTAL(3,$D$5:D441)) | E441: =IF(D441="","",SUMIF('TK DETHI'!A:A,D441,'TK DETHI'!B:B)) | F441: =IF(D441="","",SUMIF('TK DETHI'!C:C,D441,'TK DETHI'!D:D)) | G441: =IF(D441="","",SUMIF('TK DETHI'!E:E,D441,'TK DETHI'!F:F)) | H441: =IF(D441="","",SUMIF('TK DETHI'!G:G,D441,'TK DETHI'!H:H)) | I441: =IF(D441="","",(E441+F441*2+G441*3+H441*2)) | J441: =IF(D441="","",SUMIF('TK COITHI KTHP'!A:A,D441,'TK COITHI KTHP'!C:C)+SUMIF('TK COITHI KTHP'!D:D,D441,'TK COITHI KTHP'!F:F)+SUMIF('TK COITHI KTHP'!G:G,D441,'TK COITHI KTHP'!I:I)+SUMIF('TK COITHI KTHP'!J:J,D441,'TK COITHI KTHP'!L:L)) | K441: =IF(D441="","",SUMIF('TK COITHI KTHP'!B:B,D441,'TK COITHI KTHP'!C:C)+SUMIF('TK COITHI KTHP'!E:E,D441,'TK COITHI KTHP'!F:F)+SUMIF('TK COITHI KTHP'!H:H,D441,'TK COITHI KTHP'!I:I)+SUMIF('TK COITHI KTHP'!K:K,D441,'TK COITHI KTHP'!L:L)) | L441: =IF(D441="","",SUMIF('TK COI THI TOT NGHIEP'!A:A,D441,'TK COI THI TOT NGHIEP'!C:C)+SUMIF('TK COI THI TOT NGHIEP'!D:D,D441,'TK COI THI TOT NGHIEP'!F:F)+SUMIF('TK COI THI TOT NGHIEP'!G:G,D441,'TK COI THI TOT NGHIEP'!I:I)+SUMIF('TK COI THI TOT NGHIEP'!J:J,D441,'TK COI THI TOT NGHIEP'!L:L)) | M441: =IF(D441="","",SUMIF('TK COI THI TOT NGHIEP'!B:B,D441,'TK COI THI TOT NGHIEP'!C:C)+SUMIF('TK COI THI TOT NGHIEP'!E:E,D441,'TK COI THI TOT NGHIEP'!F:F)+SUMIF('TK COI THI TOT NGHIEP'!H:H,D441,'TK COI THI TOT NGHIEP'!I:I)+SUMIF('TK COI THI TOT NGHIEP'!K:K,D441,'TK COI THI TOT NGHIEP'!L:L)) | N441: =IF(D441="","",SUM(J441:M441)) | O441: =IF(D441="","",SUMIF('TK CHAMTHI'!A:A,D441,'TK CHAMTHI'!C:C)) | P441: =IF(D441="","",SUMIF('TK CHAMTHI'!B:B,D441,'TK CHAMTHI'!C:C)) | Q441: =IF(D441="","",SUMIF('CHAM NV'!B:B,D441,'CHAM NV'!C:C)) | R441: =IF(D441="","",(SUM(O441:P441)-Q441)/20) | S441: =IF(D441="","",SUMIF('TK CHAMTHI'!D:D,D441,'TK CHAMTHI'!F:F)) | T441: =IF(D441="","",SUMIF('TK CHAMTHI'!E:E,D441,'TK CHAMTHI'!F:F)) | U441: =IF(D441="","",SUMIF('CHAM NV'!E:E,D441,'CHAM NV'!F:F)) | V441: =IF(D441="","",(SUM(S441:T441)-U441)/10) | W441: =IF(D441="","",SUMIF('TK CHAMTHI'!G:G,D441,'TK CHAMTHI'!I:I)) | X441: =IF(D441="","",SUMIF('TK CHAMTHI'!H:H,D441,'TK CHAMTHI'!I:I)) | Y441: =IF(D441="","",SUM(W441:X441)/14) | Z441: =IF(D441="","",SUMIF('TK CHAMTHI'!J:J,D441,'TK CHAMTHI'!L:L)) | AA441: =IF(D441="","",SUMIF('TK CHAMTHI'!K:K,D441,'TK CHAMTHI'!L:L)) | AB441: =IF(D441="","",SUM(Z441:AA441)/10) | AC441: =IF(D441="","",SUMIF('TK CHAMTHI'!M:M,D441,'TK CHAMTHI'!O:O)) | AD441: =IF(D441="","",SUMIF('TK CHAMTHI'!N:N,D441,'TK CHAMTHI'!O:O)) | AE441: =IF(D441="","",SUM(AC441:AD441)/20) | AF441: =IF(D441="","",ROUND(SUMIF('QL THI'!G:G,D441,'QL THI'!H:H),1)) | AG441: =IF(D441="","",ROUND(SUMIF('QL THI'!E:E,D441,'QL THI'!F:F),1)) | AH441: =IF(D441="","",ROUND(I441+N441+R441+V441+Y441+AB441+AE441+SUM(AF441:AG441),1))
A442: =IF(D442="","",SUBTOTAL(3,$D$5:D442)) | E442: =IF(D442="","",SUMIF('TK DETHI'!A:A,D442,'TK DETHI'!B:B)) | F442: =IF(D442="","",SUMIF('TK DETHI'!C:C,D442,'TK DETHI'!D:D)) | G442: =IF(D442="","",SUMIF('TK DETHI'!E:E,D442,'TK DETHI'!F:F)) | H442: =IF(D442="","",SUMIF('TK DETHI'!G:G,D442,'TK DETHI'!H:H)) | I442: =IF(D442="","",(E442+F442*2+G442*3+H442*2)) | J442: =IF(D442="","",SUMIF('TK COITHI KTHP'!A:A,D442,'TK COITHI KTHP'!C:C)+SUMIF('TK COITHI KTHP'!D:D,D442,'TK COITHI KTHP'!F:F)+SUMIF('TK COITHI KTHP'!G:G,D442,'TK COITHI KTHP'!I:I)+SUMIF('TK COITHI KTHP'!J:J,D442,'TK COITHI KTHP'!L:L)) | K442: =IF(D442="","",SUMIF('TK COITHI KTHP'!B:B,D442,'TK COITHI KTHP'!C:C)+SUMIF('TK COITHI KTHP'!E:E,D442,'TK COITHI KTHP'!F:F)+SUMIF('TK COITHI KTHP'!H:H,D442,'TK COITHI KTHP'!I:I)+SUMIF('TK COITHI KTHP'!K:K,D442,'TK COITHI KTHP'!L:L)) | L442: =IF(D442="","",SUMIF('TK COI THI TOT NGHIEP'!A:A,D442,'TK COI THI TOT NGHIEP'!C:C)+SUMIF('TK COI THI TOT NGHIEP'!D:D,D442,'TK COI THI TOT NGHIEP'!F:F)+SUMIF('TK COI THI TOT NGHIEP'!G:G,D442,'TK COI THI TOT NGHIEP'!I:I)+SUMIF('TK COI THI TOT NGHIEP'!J:J,D442,'TK COI THI TOT NGHIEP'!L:L)) | M442: =IF(D442="","",SUMIF('TK COI THI TOT NGHIEP'!B:B,D442,'TK COI THI TOT NGHIEP'!C:C)+SUMIF('TK COI THI TOT NGHIEP'!E:E,D442,'TK COI THI TOT NGHIEP'!F:F)+SUMIF('TK COI THI TOT NGHIEP'!H:H,D442,'TK COI THI TOT NGHIEP'!I:I)+SUMIF('TK COI THI TOT NGHIEP'!K:K,D442,'TK COI THI TOT NGHIEP'!L:L)) | N442: =IF(D442="","",SUM(J442:M442)) | O442: =IF(D442="","",SUMIF('TK CHAMTHI'!A:A,D442,'TK CHAMTHI'!C:C)) | P442: =IF(D442="","",SUMIF('TK CHAMTHI'!B:B,D442,'TK CHAMTHI'!C:C)) | Q442: =IF(D442="","",SUMIF('CHAM NV'!B:B,D442,'CHAM NV'!C:C)) | R442: =IF(D442="","",(SUM(O442:P442)-Q442)/20) | S442: =IF(D442="","",SUMIF('TK CHAMTHI'!D:D,D442,'TK CHAMTHI'!F:F)) | T442: =IF(D442="","",SUMIF('TK CHAMTHI'!E:E,D442,'TK CHAMTHI'!F:F)) | U442: =IF(D442="","",SUMIF('CHAM NV'!E:E,D442,'CHAM NV'!F:F)) | V442: =IF(D442="","",(SUM(S442:T442)-U442)/10) | W442: =IF(D442="","",SUMIF('TK CHAMTHI'!G:G,D442,'TK CHAMTHI'!I:I)) | X442: =IF(D442="","",SUMIF('TK CHAMTHI'!H:H,D442,'TK CHAMTHI'!I:I)) | Y442: =IF(D442="","",SUM(W442:X442)/14) | Z442: =IF(D442="","",SUMIF('TK CHAMTHI'!J:J,D442,'TK CHAMTHI'!L:L)) | AA442: =IF(D442="","",SUMIF('TK CHAMTHI'!K:K,D442,'TK CHAMTHI'!L:L)) | AB442: =IF(D442="","",SUM(Z442:AA442)/10) | AC442: =IF(D442="","",SUMIF('TK CHAMTHI'!M:M,D442,'TK CHAMTHI'!O:O)) | AD442: =IF(D442="","",SUMIF('TK CHAMTHI'!N:N,D442,'TK CHAMTHI'!O:O)) | AE442: =IF(D442="","",SUM(AC442:AD442)/20) | AF442: =IF(D442="","",ROUND(SUMIF('QL THI'!G:G,D442,'QL THI'!H:H),1)) | AG442: =IF(D442="","",ROUND(SUMIF('QL THI'!E:E,D442,'QL THI'!F:F),1)) | AH442: =IF(D442="","",ROUND(I442+N442+R442+V442+Y442+AB442+AE442+SUM(AF442:AG442),1))
A443: =IF(D443="","",SUBTOTAL(3,$D$5:D443)) | E443: =IF(D443="","",SUMIF('TK DETHI'!A:A,D443,'TK DETHI'!B:B)) | F443: =IF(D443="","",SUMIF('TK DETHI'!C:C,D443,'TK DETHI'!D:D)) | G443: =IF(D443="","",SUMIF('TK DETHI'!E:E,D443,'TK DETHI'!F:F)) | H443: =IF(D443="","",SUMIF('TK DETHI'!G:G,D443,'TK DETHI'!H:H)) | I443: =IF(D443="","",(E443+F443*2+G443*3+H443*2)) | J443: =IF(D443="","",SUMIF('TK COITHI KTHP'!A:A,D443,'TK COITHI KTHP'!C:C)+SUMIF('TK COITHI KTHP'!D:D,D443,'TK COITHI KTHP'!F:F)+SUMIF('TK COITHI KTHP'!G:G,D443,'TK COITHI KTHP'!I:I)+SUMIF('TK COITHI KTHP'!J:J,D443,'TK COITHI KTHP'!L:L)) | K443: =IF(D443="","",SUMIF('TK COITHI KTHP'!B:B,D443,'TK COITHI KTHP'!C:C)+SUMIF('TK COITHI KTHP'!E:E,D443,'TK COITHI KTHP'!F:F)+SUMIF('TK COITHI KTHP'!H:H,D443,'TK COITHI KTHP'!I:I)+SUMIF('TK COITHI KTHP'!K:K,D443,'TK COITHI KTHP'!L:L)) | L443: =IF(D443="","",SUMIF('TK COI THI TOT NGHIEP'!A:A,D443,'TK COI THI TOT NGHIEP'!C:C)+SUMIF('TK COI THI TOT NGHIEP'!D:D,D443,'TK COI THI TOT NGHIEP'!F:F)+SUMIF('TK COI THI TOT NGHIEP'!G:G,D443,'TK COI THI TOT NGHIEP'!I:I)+SUMIF('TK COI THI TOT NGHIEP'!J:J,D443,'TK COI THI TOT NGHIEP'!L:L)) | M443: =IF(D443="","",SUMIF('TK COI THI TOT NGHIEP'!B:B,D443,'TK COI THI TOT NGHIEP'!C:C)+SUMIF('TK COI THI TOT NGHIEP'!E:E,D443,'TK COI THI TOT NGHIEP'!F:F)+SUMIF('TK COI THI TOT NGHIEP'!H:H,D443,'TK COI THI TOT NGHIEP'!I:I)+SUMIF('TK COI THI TOT NGHIEP'!K:K,D443,'TK COI THI TOT NGHIEP'!L:L)) | N443: =IF(D443="","",SUM(J443:M443)) | O443: =IF(D443="","",SUMIF('TK CHAMTHI'!A:A,D443,'TK CHAMTHI'!C:C)) | P443: =IF(D443="","",SUMIF('TK CHAMTHI'!B:B,D443,'TK CHAMTHI'!C:C)) | Q443: =IF(D443="","",SUMIF('CHAM NV'!B:B,D443,'CHAM NV'!C:C)) | R443: =IF(D443="","",(SUM(O443:P443)-Q443)/20) | S443: =IF(D443="","",SUMIF('TK CHAMTHI'!D:D,D443,'TK CHAMTHI'!F:F)) | T443: =IF(D443="","",SUMIF('TK CHAMTHI'!E:E,D443,'TK CHAMTHI'!F:F)) | U443: =IF(D443="","",SUMIF('CHAM NV'!E:E,D443,'CHAM NV'!F:F)) | V443: =IF(D443="","",(SUM(S443:T443)-U443)/10) | W443: =IF(D443="","",SUMIF('TK CHAMTHI'!G:G,D443,'TK CHAMTHI'!I:I)) | X443: =IF(D443="","",SUMIF('TK CHAMTHI'!H:H,D443,'TK CHAMTHI'!I:I)) | Y443: =IF(D443="","",SUM(W443:X443)/14) | Z443: =IF(D443="","",SUMIF('TK CHAMTHI'!J:J,D443,'TK CHAMTHI'!L:L)) | AA443: =IF(D443="","",SUMIF('TK CHAMTHI'!K:K,D443,'TK CHAMTHI'!L:L)) | AB443: =IF(D443="","",SUM(Z443:AA443)/10) | AC443: =IF(D443="","",SUMIF('TK CHAMTHI'!M:M,D443,'TK CHAMTHI'!O:O)) | AD443: =IF(D443="","",SUMIF('TK CHAMTHI'!N:N,D443,'TK CHAMTHI'!O:O)) | AE443: =IF(D443="","",SUM(AC443:AD443)/20) | AF443: =IF(D443="","",ROUND(SUMIF('QL THI'!G:G,D443,'QL THI'!H:H),1)) | AG443: =IF(D443="","",ROUND(SUMIF('QL THI'!E:E,D443,'QL THI'!F:F),1)) | AH443: =IF(D443="","",ROUND(I443+N443+R443+V443+Y443+AB443+AE443+SUM(AF443:AG443),1))
A444: =IF(D444="","",SUBTOTAL(3,$D$5:D444)) | E444: =IF(D444="","",SUMIF('TK DETHI'!A:A,D444,'TK DETHI'!B:B)) | F444: =IF(D444="","",SUMIF('TK DETHI'!C:C,D444,'TK DETHI'!D:D)) | G444: =IF(D444="","",SUMIF('TK DETHI'!E:E,D444,'TK DETHI'!F:F)) | H444: =IF(D444="","",SUMIF('TK DETHI'!G:G,D444,'TK DETHI'!H:H)) | I444: =IF(D444="","",(E444+F444*2+G444*3+H444*2)) | J444: =IF(D444="","",SUMIF('TK COITHI KTHP'!A:A,D444,'TK COITHI KTHP'!C:C)+SUMIF('TK COITHI KTHP'!D:D,D444,'TK COITHI KTHP'!F:F)+SUMIF('TK COITHI KTHP'!G:G,D444,'TK COITHI KTHP'!I:I)+SUMIF('TK COITHI KTHP'!J:J,D444,'TK COITHI KTHP'!L:L)) | K444: =IF(D444="","",SUMIF('TK COITHI KTHP'!B:B,D444,'TK COITHI KTHP'!C:C)+SUMIF('TK COITHI KTHP'!E:E,D444,'TK COITHI KTHP'!F:F)+SUMIF('TK COITHI KTHP'!H:H,D444,'TK COITHI KTHP'!I:I)+SUMIF('TK COITHI KTHP'!K:K,D444,'TK COITHI KTHP'!L:L)) | L444: =IF(D444="","",SUMIF('TK COI THI TOT NGHIEP'!A:A,D444,'TK COI THI TOT NGHIEP'!C:C)+SUMIF('TK COI THI TOT NGHIEP'!D:D,D444,'TK COI THI TOT NGHIEP'!F:F)+SUMIF('TK COI THI TOT NGHIEP'!G:G,D444,'TK COI THI TOT NGHIEP'!I:I)+SUMIF('TK COI THI TOT NGHIEP'!J:J,D444,'TK COI THI TOT NGHIEP'!L:L)) | M444: =IF(D444="","",SUMIF('TK COI THI TOT NGHIEP'!B:B,D444,'TK COI THI TOT NGHIEP'!C:C)+SUMIF('TK COI THI TOT NGHIEP'!E:E,D444,'TK COI THI TOT NGHIEP'!F:F)+SUMIF('TK COI THI TOT NGHIEP'!H:H,D444,'TK COI THI TOT NGHIEP'!I:I)+SUMIF('TK COI THI TOT NGHIEP'!K:K,D444,'TK COI THI TOT NGHIEP'!L:L)) | N444: =IF(D444="","",SUM(J444:M444)) | O444: =IF(D444="","",SUMIF('TK CHAMTHI'!A:A,D444,'TK CHAMTHI'!C:C)) | P444: =IF(D444="","",SUMIF('TK CHAMTHI'!B:B,D444,'TK CHAMTHI'!C:C)) | Q444: =IF(D444="","",SUMIF('CHAM NV'!B:B,D444,'CHAM NV'!C:C)) | R444: =IF(D444="","",(SUM(O444:P444)-Q444)/20) | S444: =IF(D444="","",SUMIF('TK CHAMTHI'!D:D,D444,'TK CHAMTHI'!F:F)) | T444: =IF(D444="","",SUMIF('TK CHAMTHI'!E:E,D444,'TK CHAMTHI'!F:F)) | U444: =IF(D444="","",SUMIF('CHAM NV'!E:E,D444,'CHAM NV'!F:F)) | V444: =IF(D444="","",(SUM(S444:T444)-U444)/10) | W444: =IF(D444="","",SUMIF('TK CHAMTHI'!G:G,D444,'TK CHAMTHI'!I:I)) | X444: =IF(D444="","",SUMIF('TK CHAMTHI'!H:H,D444,'TK CHAMTHI'!I:I)) | Y444: =IF(D444="","",SUM(W444:X444)/14) | Z444: =IF(D444="","",SUMIF('TK CHAMTHI'!J:J,D444,'TK CHAMTHI'!L:L)) | AA444: =IF(D444="","",SUMIF('TK CHAMTHI'!K:K,D444,'TK CHAMTHI'!L:L)) | AB444: =IF(D444="","",SUM(Z444:AA444)/10) | AC444: =IF(D444="","",SUMIF('TK CHAMTHI'!M:M,D444,'TK CHAMTHI'!O:O)) | AD444: =IF(D444="","",SUMIF('TK CHAMTHI'!N:N,D444,'TK CHAMTHI'!O:O)) | AE444: =IF(D444="","",SUM(AC444:AD444)/20) | AF444: =IF(D444="","",ROUND(SUMIF('QL THI'!G:G,D444,'QL THI'!H:H),1)) | AG444: =IF(D444="","",ROUND(SUMIF('QL THI'!E:E,D444,'QL THI'!F:F),1)) | AH444: =IF(D444="","",ROUND(I444+N444+R444+V444+Y444+AB444+AE444+SUM(AF444:AG444),1))
A445: =IF(D445="","",SUBTOTAL(3,$D$5:D445)) | E445: =IF(D445="","",SUMIF('TK DETHI'!A:A,D445,'TK DETHI'!B:B)) | F445: =IF(D445="","",SUMIF('TK DETHI'!C:C,D445,'TK DETHI'!D:D)) | G445: =IF(D445="","",SUMIF('TK DETHI'!E:E,D445,'TK DETHI'!F:F)) | H445: =IF(D445="","",SUMIF('TK DETHI'!G:G,D445,'TK DETHI'!H:H)) | I445: =IF(D445="","",(E445+F445*2+G445*3+H445*2)) | J445: =IF(D445="","",SUMIF('TK COITHI KTHP'!A:A,D445,'TK COITHI KTHP'!C:C)+SUMIF('TK COITHI KTHP'!D:D,D445,'TK COITHI KTHP'!F:F)+SUMIF('TK COITHI KTHP'!G:G,D445,'TK COITHI KTHP'!I:I)+SUMIF('TK COITHI KTHP'!J:J,D445,'TK COITHI KTHP'!L:L)) | K445: =IF(D445="","",SUMIF('TK COITHI KTHP'!B:B,D445,'TK COITHI KTHP'!C:C)+SUMIF('TK COITHI KTHP'!E:E,D445,'TK COITHI KTHP'!F:F)+SUMIF('TK COITHI KTHP'!H:H,D445,'TK COITHI KTHP'!I:I)+SUMIF('TK COITHI KTHP'!K:K,D445,'TK COITHI KTHP'!L:L)) | L445: =IF(D445="","",SUMIF('TK COI THI TOT NGHIEP'!A:A,D445,'TK COI THI TOT NGHIEP'!C:C)+SUMIF('TK COI THI TOT NGHIEP'!D:D,D445,'TK COI THI TOT NGHIEP'!F:F)+SUMIF('TK COI THI TOT NGHIEP'!G:G,D445,'TK COI THI TOT NGHIEP'!I:I)+SUMIF('TK COI THI TOT NGHIEP'!J:J,D445,'TK COI THI TOT NGHIEP'!L:L)) | M445: =IF(D445="","",SUMIF('TK COI THI TOT NGHIEP'!B:B,D445,'TK COI THI TOT NGHIEP'!C:C)+SUMIF('TK COI THI TOT NGHIEP'!E:E,D445,'TK COI THI TOT NGHIEP'!F:F)+SUMIF('TK COI THI TOT NGHIEP'!H:H,D445,'TK COI THI TOT NGHIEP'!I:I)+SUMIF('TK COI THI TOT NGHIEP'!K:K,D445,'TK COI THI TOT NGHIEP'!L:L)) | N445: =IF(D445="","",SUM(J445:M445)) | O445: =IF(D445="","",SUMIF('TK CHAMTHI'!A:A,D445,'TK CHAMTHI'!C:C)) | P445: =IF(D445="","",SUMIF('TK CHAMTHI'!B:B,D445,'TK CHAMTHI'!C:C)) | Q445: =IF(D445="","",SUMIF('CHAM NV'!B:B,D445,'CHAM NV'!C:C)) | R445: =IF(D445="","",(SUM(O445:P445)-Q445)/20) | S445: =IF(D445="","",SUMIF('TK CHAMTHI'!D:D,D445,'TK CHAMTHI'!F:F)) | T445: =IF(D445="","",SUMIF('TK CHAMTHI'!E:E,D445,'TK CHAMTHI'!F:F)) | U445: =IF(D445="","",SUMIF('CHAM NV'!E:E,D445,'CHAM NV'!F:F)) | V445: =IF(D445="","",(SUM(S445:T445)-U445)/10) | W445: =IF(D445="","",SUMIF('TK CHAMTHI'!G:G,D445,'TK CHAMTHI'!I:I)) | X445: =IF(D445="","",SUMIF('TK CHAMTHI'!H:H,D445,'TK CHAMTHI'!I:I)) | Y445: =IF(D445="","",SUM(W445:X445)/14) | Z445: =IF(D445="","",SUMIF('TK CHAMTHI'!J:J,D445,'TK CHAMTHI'!L:L)) | AA445: =IF(D445="","",SUMIF('TK CHAMTHI'!K:K,D445,'TK CHAMTHI'!L:L)) | AB445: =IF(D445="","",SUM(Z445:AA445)/10) | AC445: =IF(D445="","",SUMIF('TK CHAMTHI'!M:M,D445,'TK CHAMTHI'!O:O)) | AD445: =IF(D445="","",SUMIF('TK CHAMTHI'!N:N,D445,'TK CHAMTHI'!O:O)) | AE445: =IF(D445="","",SUM(AC445:AD445)/20) | AF445: =IF(D445="","",ROUND(SUMIF('QL THI'!G:G,D445,'QL THI'!H:H),1)) | AG445: =IF(D445="","",ROUND(SUMIF('QL THI'!E:E,D445,'QL THI'!F:F),1)) | AH445: =IF(D445="","",ROUND(I445+N445+R445+V445+Y445+AB445+AE445+SUM(AF445:AG445),1))
A446: =IF(D446="","",SUBTOTAL(3,$D$5:D446)) | E446: =IF(D446="","",SUMIF('TK DETHI'!A:A,D446,'TK DETHI'!B:B)) | F446: =IF(D446="","",SUMIF('TK DETHI'!C:C,D446,'TK DETHI'!D:D)) | G446: =IF(D446="","",SUMIF('TK DETHI'!E:E,D446,'TK DETHI'!F:F)) | H446: =IF(D446="","",SUMIF('TK DETHI'!G:G,D446,'TK DETHI'!H:H)) | I446: =IF(D446="","",(E446+F446*2+G446*3+H446*2)) | J446: =IF(D446="","",SUMIF('TK COITHI KTHP'!A:A,D446,'TK COITHI KTHP'!C:C)+SUMIF('TK COITHI KTHP'!D:D,D446,'TK COITHI KTHP'!F:F)+SUMIF('TK COITHI KTHP'!G:G,D446,'TK COITHI KTHP'!I:I)+SUMIF('TK COITHI KTHP'!J:J,D446,'TK COITHI KTHP'!L:L)) | K446: =IF(D446="","",SUMIF('TK COITHI KTHP'!B:B,D446,'TK COITHI KTHP'!C:C)+SUMIF('TK COITHI KTHP'!E:E,D446,'TK COITHI KTHP'!F:F)+SUMIF('TK COITHI KTHP'!H:H,D446,'TK COITHI KTHP'!I:I)+SUMIF('TK COITHI KTHP'!K:K,D446,'TK COITHI KTHP'!L:L)) | L446: =IF(D446="","",SUMIF('TK COI THI TOT NGHIEP'!A:A,D446,'TK COI THI TOT NGHIEP'!C:C)+SUMIF('TK COI THI TOT NGHIEP'!D:D,D446,'TK COI THI TOT NGHIEP'!F:F)+SUMIF('TK COI THI TOT NGHIEP'!G:G,D446,'TK COI THI TOT NGHIEP'!I:I)+SUMIF('TK COI THI TOT NGHIEP'!J:J,D446,'TK COI THI TOT NGHIEP'!L:L)) | M446: =IF(D446="","",SUMIF('TK COI THI TOT NGHIEP'!B:B,D446,'TK COI THI TOT NGHIEP'!C:C)+SUMIF('TK COI THI TOT NGHIEP'!E:E,D446,'TK COI THI TOT NGHIEP'!F:F)+SUMIF('TK COI THI TOT NGHIEP'!H:H,D446,'TK COI THI TOT NGHIEP'!I:I)+SUMIF('TK COI THI TOT NGHIEP'!K:K,D446,'TK COI THI TOT NGHIEP'!L:L)) | N446: =IF(D446="","",SUM(J446:M446)) | O446: =IF(D446="","",SUMIF('TK CHAMTHI'!A:A,D446,'TK CHAMTHI'!C:C)) | P446: =IF(D446="","",SUMIF('TK CHAMTHI'!B:B,D446,'TK CHAMTHI'!C:C)) | Q446: =IF(D446="","",SUMIF('CHAM NV'!B:B,D446,'CHAM NV'!C:C)) | R446: =IF(D446="","",(SUM(O446:P446)-Q446)/20) | S446: =IF(D446="","",SUMIF('TK CHAMTHI'!D:D,D446,'TK CHAMTHI'!F:F)) | T446: =IF(D446="","",SUMIF('TK CHAMTHI'!E:E,D446,'TK CHAMTHI'!F:F)) | U446: =IF(D446="","",SUMIF('CHAM NV'!E:E,D446,'CHAM NV'!F:F)) | V446: =IF(D446="","",(SUM(S446:T446)-U446)/10) | W446: =IF(D446="","",SUMIF('TK CHAMTHI'!G:G,D446,'TK CHAMTHI'!I:I)) | X446: =IF(D446="","",SUMIF('TK CHAMTHI'!H:H,D446,'TK CHAMTHI'!I:I)) | Y446: =IF(D446="","",SUM(W446:X446)/14) | Z446: =IF(D446="","",SUMIF('TK CHAMTHI'!J:J,D446,'TK CHAMTHI'!L:L)) | AA446: =IF(D446="","",SUMIF('TK CHAMTHI'!K:K,D446,'TK CHAMTHI'!L:L)) | AB446: =IF(D446="","",SUM(Z446:AA446)/10) | AC446: =IF(D446="","",SUMIF('TK CHAMTHI'!M:M,D446,'TK CHAMTHI'!O:O)) | AD446: =IF(D446="","",SUMIF('TK CHAMTHI'!N:N,D446,'TK CHAMTHI'!O:O)) | AE446: =IF(D446="","",SUM(AC446:AD446)/20) | AF446: =IF(D446="","",ROUND(SUMIF('QL THI'!G:G,D446,'QL THI'!H:H),1)) | AG446: =IF(D446="","",ROUND(SUMIF('QL THI'!E:E,D446,'QL THI'!F:F),1)) | AH446: =IF(D446="","",ROUND(I446+N446+R446+V446+Y446+AB446+AE446+SUM(AF446:AG446),1))
... A501: =IF(D501="","",SUBTOTAL(3,$D$5:D501)) | E501: =IF(D501="","",SUMIF('TK DETHI'!A:A,D501,'TK DETHI'!B:B)) | F501: =IF(D501="","",SUMIF('TK DETHI'!C:C,D501,'TK DETHI'!D:D)) | G501: =IF(D501="","",SUMIF('TK DETHI'!E:E,D501,'TK DETHI'!F:F)) | H501: =IF(D501="","",SUMIF('TK DETHI'!G:G,D501,'TK DETHI'!H:H)) | I501: =IF(D501="","",(E501+F501*2+G501*3+H501*2)) | J501: =IF(D501="","",SUMIF('TK COITHI KTHP'!A:A,D501,'TK COITHI KTHP'!C:C)+SUMIF('TK COITHI KTHP'!D:D,D501,'TK COITHI KTHP'!F:F)+SUMIF('TK COITHI KTHP'!G:G,D501,'TK COITHI KTHP'!I:I)+SUMIF('TK COITHI KTHP'!J:J,D501,'TK COITHI KTHP'!L:L)) | K501: =IF(D501="","",SUMIF('TK COITHI KTHP'!B:B,D501,'TK COITHI KTHP'!C:C)+SUMIF('TK COITHI KTHP'!E:E,D501,'TK COITHI KTHP'!F:F)+SUMIF('TK COITHI KTHP'!H:H,D501,'TK COITHI KTHP'!I:I)+SUMIF('TK COITHI KTHP'!K:K,D501,'TK COITHI KTHP'!L:L)) | L501: =IF(D501="","",SUMIF('TK COI THI TOT NGHIEP'!A:A,D501,'TK COI THI TOT NGHIEP'!C:C)+SUMIF('TK COI THI TOT NGHIEP'!D:D,D501,'TK COI THI TOT NGHIEP'!F:F)+SUMIF('TK COI THI TOT NGHIEP'!G:G,D501,'TK COI THI TOT NGHIEP'!I:I)+SUMIF('TK COI THI TOT NGHIEP'!J:J,D501,'TK COI THI TOT NGHIEP'!L:L)) | M501: =IF(D501="","",SUMIF('TK COI THI TOT NGHIEP'!B:B,D501,'TK COI THI TOT NGHIEP'!C:C)+SUMIF('TK COI THI TOT NGHIEP'!E:E,D501,'TK COI THI TOT NGHIEP'!F:F)+SUMIF('TK COI THI TOT NGHIEP'!H:H,D501,'TK COI THI TOT NGHIEP'!I:I)+SUMIF('TK COI THI TOT NGHIEP'!K:K,D501,'TK COI THI TOT NGHIEP'!L:L)) | N501: =IF(D501="","",SUM(J501:M501)) | O501: =IF(D501="","",SUMIF('TK CHAMTHI'!A:A,D501,'TK CHAMTHI'!C:C)) | P501: =IF(D501="","",SUMIF('TK CHAMTHI'!B:B,D501,'TK CHAMTHI'!C:C)) | Q501: =IF(D501="","",SUMIF('CHAM NV'!B:B,D501,'CHAM NV'!C:C)) | R501: =IF(D501="","",(SUM(O501:P501)-Q501)/20) | S501: =IF(D501="","",SUMIF('TK CHAMTHI'!D:D,D501,'TK CHAMTHI'!F:F)) | T501: =IF(D501="","",SUMIF('TK CHAMTHI'!E:E,D501,'TK CHAMTHI'!F:F)) | U501: =IF(D501="","",SUMIF('CHAM NV'!E:E,D501,'CHAM NV'!F:F)) | V501: =IF(D501="","",(SUM(S501:T501)-U501)/10) | W501: =IF(D501="","",SUMIF('TK CHAMTHI'!G:G,D501,'TK CHAMTHI'!I:I)) | X501: =IF(D501="","",SUMIF('TK CHAMTHI'!H:H,D501,'TK CHAMTHI'!I:I)) | Y501: =IF(D501="","",SUM(W501:X501)/14) | Z501: =IF(D501="","",SUMIF('TK CHAMTHI'!J:J,D501,'TK CHAMTHI'!L:L)) | AA501: =IF(D501="","",SUMIF('TK CHAMTHI'!K:K,D501,'TK CHAMTHI'!L:L)) | AB501: =IF(D501="","",SUM(Z501:AA501)/10) | AC501: =IF(D501="","",SUMIF('TK CHAMTHI'!M:M,D501,'TK CHAMTHI'!O:O)) | AD501: =IF(D501="","",SUMIF('TK CHAMTHI'!N:N,D501,'TK CHAMTHI'!O:O)) | AE501: =IF(D501="","",SUM(AC501:AD501)/20) | AF501: =IF(D501="","",ROUND(SUMIF('QL THI'!G:G,D501,'QL THI'!H:H),1)) | AG501: =IF(D501="","",ROUND(SUMIF('QL THI'!E:E,D501,'QL THI'!F:F),1)) | AH501: =IF(D501="","",ROUND(I501+N501+R501+V501+Y501+AB501+AE501+SUM(AF501:AG501),1))
E502: =SUBTOTAL(9,E3:E501) -> 0 | F502: =SUBTOTAL(9,F3:F501) -> 0 | G502: =SUBTOTAL(9,G3:G501) -> 10 | H502: =SUBTOTAL(9,H3:H501) -> 5 | I502: =SUBTOTAL(9,I3:I501) -> 40 | J502: =SUBTOTAL(9,J3:J501) -> 0 | K502: =SUBTOTAL(9,K3:K501) -> 0 | L502: =SUBTOTAL(9,L3:L501) -> 7.6 | ... AH502: =SUBTOTAL(9,AH3:AH501) -> 87.8

Sheet TK DETHI
A1: GV RA LT KTHP | B1: SL ĐỀ LT | C1: GV RA TN KTHP | D1: SL ĐỀ TN | E1: GV RA LT TN | F1: SL ĐỀ LT TN | G1: GV RA TH TN | H1: SL ĐỀ TH TN
A2: =IF(AND(TONGHOP!O2="KTHP",TONGHOP!P2="LT",TONGHOP!J2="R",TONGHOP!K2<>""),TONGHOP!K2,"") | B2: =IF(AND(TONGHOP!O2="KTHP",TONGHOP!P2="LT",TONGHOP!J2="R",TONGHOP!K2<>""),TONGHOP!L2,"") | C2: =IF(AND(TONGHOP!O2="KTHP",TONGHOP!P2="TN",TONGHOP!J2="R",TONGHOP!K2<>""),TONGHOP!K2,"") | D2: =IF(AND(TONGHOP!O2="KTHP",TONGHOP!P2="TN",TONGHOP!J2="R",TONGHOP!K2<>""),TONGHOP!L2,"") | E2: =IF(AND(TONGHOP!O2="ThiTN",TONGHOP!P2="LT",TONGHOP!J2="R",TONGHOP!K2<>""),TONGHOP!K2,"") | F2: =IF(AND(TONGHOP!O2="ThiTN",TONGHOP!P2="LT",TONGHOP!J2="R",TONGHOP!K2<>""),TONGHOP!L2,"") | G2: =IF(AND(TONGHOP!O2="ThiTN",TONGHOP!P2="TH",TONGHOP!J2="R",TONGHOP!K2<>""),TONGHOP!K2,"") | H2: =IF(AND(TONGHOP!O2="ThiTN",TONGHOP!P2="TH",TONGHOP!J2="R",TONGHOP!K2<>""),TONGHOP!L2,"")
A3: =IF(AND(TONGHOP!O3="KTHP",TONGHOP!P3="LT",TONGHOP!J3="R",TONGHOP!K3<>""),TONGHOP!K3,"") | B3: =IF(AND(TONGHOP!O3="KTHP",TONGHOP!P3="LT",TONGHOP!J3="R",TONGHOP!K3<>""),TONGHOP!L3,"") | C3: =IF(AND(TONGHOP!O3="KTHP",TONGHOP!P3="TN",TONGHOP!J3="R",TONGHOP!K3<>""),TONGHOP!K3,"") | D3: =IF(AND(TONGHOP!O3="KTHP",TONGHOP!P3="TN",TONGHOP!J3="R",TONGHOP!K3<>""),TONGHOP!L3,"") | E3: =IF(AND(TONGHOP!O3="ThiTN",TONGHOP!P3="LT",TONGHOP!J3="R",TONGHOP!K3<>""),TONGHOP!K3,"") | F3: =IF(AND(TONGHOP!O3="ThiTN",TONGHOP!P3="LT",TONGHOP!J3="R",TONGHOP!K3<>""),TONGHOP!L3,"") | G3: =IF(AND(TONGHOP!O3="ThiTN",TONGHOP!P3="TH",TONGHOP!J3="R",TONGHOP!K3<>""),TONGHOP!K3,"") | H3: =IF(AND(TONGHOP!O3="ThiTN",TONGHOP!P3="TH",TONGHOP!J3="R",TONGHOP!K3<>""),TONGHOP!L3,"")
A4: =IF(AND(TONGHOP!O4="KTHP",TONGHOP!P4="LT",TONGHOP!J4="R",TONGHOP!K4<>""),TONGHOP!K4,"") | B4: =IF(AND(TONGHOP!O4="KTHP",TONGHOP!P4="LT",TONGHOP!J4="R",TONGHOP!K4<>""),TONGHOP!L4,"") | C4: =IF(AND(TONGHOP!O4="KTHP",TONGHOP!P4="TN",TONGHOP!J4="R",TONGHOP!K4<>""),TONGHOP!K4,"") | D4: =IF(AND(TONGHOP!O4="KTHP",TONGHOP!P4="TN",TONGHOP!J4="R",TONGHOP!K4<>""),TONGHOP!L4,"") | E4: =IF(AND(TONGHOP!O4="ThiTN",TONGHOP!P4="LT",TONGHOP!J4="R",TONGHOP!K4<>""),TONGHOP!K4,"") | F4: =IF(AND(TONGHOP!O4="ThiTN",TONGHOP!P4="LT",TONGHOP!J4="R",TONGHOP!K4<>""),TONGHOP!L4,"") | G4: =IF(AND(TONGHOP!O4="ThiTN",TONGHOP!P4="TH",TONGHOP!J4="R",TONGHOP!K4<>""),TONGHOP!K4,"") | H4: =IF(AND(TONGHOP!O4="ThiTN",TONGHOP!P4="TH",TONGHOP!J4="R",TONGHOP!K4<>""),TONGHOP!L4,"")
A5: =IF(AND(TONGHOP!O5="KTHP",TONGHOP!P5="LT",TONGHOP!J5="R",TONGHOP!K5<>""),TONGHOP!K5,"") | B5: =IF(AND(TONGHOP!O5="KTHP",TONGHOP!P5="LT",TONGHOP!J5="R",TONGHOP!K5<>""),TONGHOP!L5,"") | C5: =IF(AND(TONGHOP!O5="KTHP",TONGHOP!P5="TN",TONGHOP!J5="R",TONGHOP!K5<>""),TONGHOP!K5,"") | D5: =IF(AND(TONGHOP!O5="KTHP",TONGHOP!P5="TN",TONGHOP!J5="R",TONGHOP!K5<>""),TONGHOP!L5,"") | E5: =IF(AND(TONGHOP!O5="ThiTN",TONGHOP!P5="LT",TONGHOP!J5="R",TONGHOP!K5<>""),TONGHOP!K5,"") | F5: =IF(AND(TONGHOP!O5="ThiTN",TONGHOP!P5="LT",TONGHOP!J5="R",TONGHOP!K5<>""),TONGHOP!L5,"") | G5: =IF(AND(TONGHOP!O5="ThiTN",TONGHOP!P5="TH",TONGHOP!J5="R",TONGHOP!K5<>""),TONGHOP!K5,"") | H5: =IF(AND(TONGHOP!O5="ThiTN",TONGHOP!P5="TH",TONGHOP!J5="R",TONGHOP!K5<>""),TONGHOP!L5,"")
A6: =IF(AND(TONGHOP!O6="KTHP",TONGHOP!P6="LT",TONGHOP!J6="R",TONGHOP!K6<>""),TONGHOP!K6,"") | B6: =IF(AND(TONGHOP!O6="KTHP",TONGHOP!P6="LT",TONGHOP!J6="R",TONGHOP!K6<>""),TONGHOP!L6,"") | C6: =IF(AND(TONGHOP!O6="KTHP",TONGHOP!P6="TN",TONGHOP!J6="R",TONGHOP!K6<>""),TONGHOP!K6,"") | D6: =IF(AND(TONGHOP!O6="KTHP",TONGHOP!P6="TN",TONGHOP!J6="R",TONGHOP!K6<>""),TONGHOP!L6,"") | E6: =IF(AND(TONGHOP!O6="ThiTN",TONGHOP!P6="LT",TONGHOP!J6="R",TONGHOP!K6<>""),TONGHOP!K6,"") | F6: =IF(AND(TONGHOP!O6="ThiTN",TONGHOP!P6="LT",TONGHOP!J6="R",TONGHOP!K6<>""),TONGHOP!L6,"") | G6: =IF(AND(TONGHOP!O6="ThiTN",TONGHOP!P6="TH",TONGHOP!J6="R",TONGHOP!K6<>""),TONGHOP!K6,"") | H6: =IF(AND(TONGHOP!O6="ThiTN",TONGHOP!P6="TH",TONGHOP!J6="R",TONGHOP!K6<>""),TONGHOP!L6,"")
A7: =IF(AND(TONGHOP!O7="KTHP",TONGHOP!P7="LT",TONGHOP!J7="R",TONGHOP!K7<>""),TONGHOP!K7,"") | B7: =IF(AND(TONGHOP!O7="KTHP",TONGHOP!P7="LT",TONGHOP!J7="R",TONGHOP!K7<>""),TONGHOP!L7,"") | C7: =IF(AND(TONGHOP!O7="KTHP",TONGHOP!P7="TN",TONGHOP!J7="R",TONGHOP!K7<>""),TONGHOP!K7,"") | D7: =IF(AND(TONGHOP!O7="KTHP",TONGHOP!P7="TN",TONGHOP!J7="R",TONGHOP!K7<>""),TONGHOP!L7,"") | E7: =IF(AND(TONGHOP!O7="ThiTN",TONGHOP!P7="LT",TONGHOP!J7="R",TONGHOP!K7<>""),TONGHOP!K7,"") | F7: =IF(AND(TONGHOP!O7="ThiTN",TONGHOP!P7="LT",TONGHOP!J7="R",TONGHOP!K7<>""),TONGHOP!L7,"") | G7: =IF(AND(TONGHOP!O7="ThiTN",TONGHOP!P7="TH",TONGHOP!J7="R",TONGHOP!K7<>""),TONGHOP!K7,"") | H7: =IF(AND(TONGHOP!O7="ThiTN",TONGHOP!P7="TH",TONGHOP!J7="R",TONGHOP!K7<>""),TONGHOP!L7,"")
A8: =IF(AND(TONGHOP!O8="KTHP",TONGHOP!P8="LT",TONGHOP!J8="R",TONGHOP!K8<>""),TONGHOP!K8,"") | B8: =IF(AND(TONGHOP!O8="KTHP",TONGHOP!P8="LT",TONGHOP!J8="R",TONGHOP!K8<>""),TONGHOP!L8,"") | C8: =IF(AND(TONGHOP!O8="KTHP",TONGHOP!P8="TN",TONGHOP!J8="R",TONGHOP!K8<>""),TONGHOP!K8,"") | D8: =IF(AND(TONGHOP!O8="KTHP",TONGHOP!P8="TN",TONGHOP!J8="R",TONGHOP!K8<>""),TONGHOP!L8,"") | E8: =IF(AND(TONGHOP!O8="ThiTN",TONGHOP!P8="LT",TONGHOP!J8="R",TONGHOP!K8<>""),TONGHOP!K8,"") | F8: =IF(AND(TONGHOP!O8="ThiTN",TONGHOP!P8="LT",TONGHOP!J8="R",TONGHOP!K8<>""),TONGHOP!L8,"") | G8: =IF(AND(TONGHOP!O8="ThiTN",TONGHOP!P8="TH",TONGHOP!J8="R",TONGHOP!K8<>""),TONGHOP!K8,"") | H8: =IF(AND(TONGHOP!O8="ThiTN",TONGHOP!P8="TH",TONGHOP!J8="R",TONGHOP!K8<>""),TONGHOP!L8,"")
A9: =IF(AND(TONGHOP!O9="KTHP",TONGHOP!P9="LT",TONGHOP!J9="R",TONGHOP!K9<>""),TONGHOP!K9,"") | B9: =IF(AND(TONGHOP!O9="KTHP",TONGHOP!P9="LT",TONGHOP!J9="R",TONGHOP!K9<>""),TONGHOP!L9,"") | C9: =IF(AND(TONGHOP!O9="KTHP",TONGHOP!P9="TN",TONGHOP!J9="R",TONGHOP!K9<>""),TONGHOP!K9,"") | D9: =IF(AND(TONGHOP!O9="KTHP",TONGHOP!P9="TN",TONGHOP!J9="R",TONGHOP!K9<>""),TONGHOP!L9,"") | E9: =IF(AND(TONGHOP!O9="ThiTN",TONGHOP!P9="LT",TONGHOP!J9="R",TONGHOP!K9<>""),TONGHOP!K9,"") | F9: =IF(AND(TONGHOP!O9="ThiTN",TONGHOP!P9="LT",TONGHOP!J9="R",TONGHOP!K9<>""),TONGHOP!L9,"") | G9: =IF(AND(TONGHOP!O9="ThiTN",TONGHOP!P9="TH",TONGHOP!J9="R",TONGHOP!K9<>""),TONGHOP!K9,"") | H9: =IF(AND(TONGHOP!O9="ThiTN",TONGHOP!P9="TH",TONGHOP!J9="R",TONGHOP!K9<>""),TONGHOP!L9,"")
A10: =IF(AND(TONGHOP!O10="KTHP",TONGHOP!P10="LT",TONGHOP!J10="R",TONGHOP!K10<>""),TONGHOP!K10,"") | B10: =IF(AND(TONGHOP!O10="KTHP",TONGHOP!P10="LT",TONGHOP!J10="R",TONGHOP!K10<>""),TONGHOP!L10,"") | C10: =IF(AND(TONGHOP!O10="KTHP",TONGHOP!P10="TN",TONGHOP!J10="R",TONGHOP!K10<>""),TONGHOP!K10,"") | D10: =IF(AND(TONGHOP!O10="KTHP",TONGHOP!P10="TN",TONGHOP!J10="R",TONGHOP!K10<>""),TONGHOP!L10,"") | E10: =IF(AND(TONGHOP!O10="ThiTN",TONGHOP!P10="LT",TONGHOP!J10="R",TONGHOP!K10<>""),TONGHOP!K10,"") | F10: =IF(AND(TONGHOP!O10="ThiTN",TONGHOP!P10="LT",TONGHOP!J10="R",TONGHOP!K10<>""),TONGHOP!L10,"") | G10: =IF(AND(TONGHOP!O10="ThiTN",TONGHOP!P10="TH",TONGHOP!J10="R",TONGHOP!K10<>""),TONGHOP!K10,"") | H10: =IF(AND(TONGHOP!O10="ThiTN",TONGHOP!P10="TH",TONGHOP!J10="R",TONGHOP!K10<>""),TONGHOP!L10,"")
A11: =IF(AND(TONGHOP!O11="KTHP",TONGHOP!P11="LT",TONGHOP!J11="R",TONGHOP!K11<>""),TONGHOP!K11,"") | B11: =IF(AND(TONGHOP!O11="KTHP",TONGHOP!P11="LT",TONGHOP!J11="R",TONGHOP!K11<>""),TONGHOP!L11,"") | C11: =IF(AND(TONGHOP!O11="KTHP",TONGHOP!P11="TN",TONGHOP!J11="R",TONGHOP!K11<>""),TONGHOP!K11,"") | D11: =IF(AND(TONGHOP!O11="KTHP",TONGHOP!P11="TN",TONGHOP!J11="R",TONGHOP!K11<>""),TONGHOP!L11,"") | E11: =IF(AND(TONGHOP!O11="ThiTN",TONGHOP!P11="LT",TONGHOP!J11="R",TONGHOP!K11<>""),TONGHOP!K11,"") | F11: =IF(AND(TONGHOP!O11="ThiTN",TONGHOP!P11="LT",TONGHOP!J11="R",TONGHOP!K11<>""),TONGHOP!L11,"") | G11: =IF(AND(TONGHOP!O11="ThiTN",TONGHOP!P11="TH",TONGHOP!J11="R",TONGHOP!K11<>""),TONGHOP!K11,"") | H11: =IF(AND(TONGHOP!O11="ThiTN",TONGHOP!P11="TH",TONGHOP!J11="R",TONGHOP!K11<>""),TONGHOP!L11,"")
A12: =IF(AND(TONGHOP!O12="KTHP",TONGHOP!P12="LT",TONGHOP!J12="R",TONGHOP!K12<>""),TONGHOP!K12,"") | B12: =IF(AND(TONGHOP!O12="KTHP",TONGHOP!P12="LT",TONGHOP!J12="R",TONGHOP!K12<>""),TONGHOP!L12,"") | C12: =IF(AND(TONGHOP!O12="KTHP",TONGHOP!P12="TN",TONGHOP!J12="R",TONGHOP!K12<>""),TONGHOP!K12,"") | D12: =IF(AND(TONGHOP!O12="KTHP",TONGHOP!P12="TN",TONGHOP!J12="R",TONGHOP!K12<>""),TONGHOP!L12,"") | E12: =IF(AND(TONGHOP!O12="ThiTN",TONGHOP!P12="LT",TONGHOP!J12="R",TONGHOP!K12<>""),TONGHOP!K12,"") | F12: =IF(AND(TONGHOP!O12="ThiTN",TONGHOP!P12="LT",TONGHOP!J12="R",TONGHOP!K12<>""),TONGHOP!L12,"") | G12: =IF(AND(TONGHOP!O12="ThiTN",TONGHOP!P12="TH",TONGHOP!J12="R",TONGHOP!K12<>""),TONGHOP!K12,"") | H12: =IF(AND(TONGHOP!O12="ThiTN",TONGHOP!P12="TH",TONGHOP!J12="R",TONGHOP!K12<>""),TONGHOP!L12,"")
A13: =IF(AND(TONGHOP!O13="KTHP",TONGHOP!P13="LT",TONGHOP!J13="R",TONGHOP!K13<>""),TONGHOP!K13,"") | B13: =IF(AND(TONGHOP!O13="KTHP",TONGHOP!P13="LT",TONGHOP!J13="R",TONGHOP!K13<>""),TONGHOP!L13,"") | C13: =IF(AND(TONGHOP!O13="KTHP",TONGHOP!P13="TN",TONGHOP!J13="R",TONGHOP!K13<>""),TONGHOP!K13,"") | D13: =IF(AND(TONGHOP!O13="KTHP",TONGHOP!P13="TN",TONGHOP!J13="R",TONGHOP!K13<>""),TONGHOP!L13,"") | E13: =IF(AND(TONGHOP!O13="ThiTN",TONGHOP!P13="LT",TONGHOP!J13="R",TONGHOP!K13<>""),TONGHOP!K13,"") | F13: =IF(AND(TONGHOP!O13="ThiTN",TONGHOP!P13="LT",TONGHOP!J13="R",TONGHOP!K13<>""),TONGHOP!L13,"") | G13: =IF(AND(TONGHOP!O13="ThiTN",TONGHOP!P13="TH",TONGHOP!J13="R",TONGHOP!K13<>""),TONGHOP!K13,"") | H13: =IF(AND(TONGHOP!O13="ThiTN",TONGHOP!P13="TH",TONGHOP!J13="R",TONGHOP!K13<>""),TONGHOP!L13,"")
... A1501: =IF(AND(TONGHOP!O1501="KTHP",TONGHOP!P1501="LT",TONGHOP!J1501="R",TONGHOP!K1501<>""),TONGHOP!K1501,"") | B1501: =IF(AND(TONGHOP!O1501="KTHP",TONGHOP!P1501="LT",TONGHOP!J1501="R",TONGHOP!K1501<>""),TONGHOP!L1501,"") | C1501: =IF(AND(TONGHOP!O1501="KTHP",TONGHOP!P1501="TN",TONGHOP!J1501="R",TONGHOP!K1501<>""),TONGHOP!K1501,"") | D1501: =IF(AND(TONGHOP!O1501="KTHP",TONGHOP!P1501="TN",TONGHOP!J1501="R",TONGHOP!K1501<>""),TONGHOP!L1501,"") | E1501: =IF(AND(TONGHOP!O1501="ThiTN",TONGHOP!P1501="LT",TONGHOP!J1501="R",TONGHOP!K1501<>""),TONGHOP!K1501,"") | F1501: =IF(AND(TONGHOP!O1501="ThiTN",TONGHOP!P1501="LT",TONGHOP!J1501="R",TONGHOP!K1501<>""),TONGHOP!L1501,"") | G1501: =IF(AND(TONGHOP!O1501="ThiTN",TONGHOP!P1501="TH",TONGHOP!J1501="R",TONGHOP!K1501<>""),TONGHOP!K1501,"") | H1501: =IF(AND(TONGHOP!O1501="ThiTN",TONGHOP!P1501="TH",TONGHOP!J1501="R",TONGHOP!K1501<>""),TONGHOP!L1501,"")

Sheet TK COITHI KTHP
A1: CT01<=120KTHP | B1: CT02<=120KTHP | C1: KLCOI<=120 | D1: 120<CT01<=150KTHP | E1: 120<CT02<=150KTHP | F1: KLCOI<=150 | G1: 150<CT01<=180KTHP | H1: 150<CT02<=180KTHP | I1: KLCOI<=180 | J1: CT01>180KTHP | K1: CT02>180KTHP | L1: KLCOI>180
A2: =IF(AND(TONGHOP!O2="KTHP",OR(TONGHOP!P2="LT",TONGHOP!P2="TN"),TONGHOP!Q2<=90),TONGHOP!T2,"") | B2: =IF(AND(TONGHOP!O2="KTHP",OR(TONGHOP!P2="LT",TONGHOP!P2="TN"),TONGHOP!Q2<=90),TONGHOP!U2,"") | C2: =IF(AND(A2="",B2=""),"",1.2) | D2: =IF(AND(TONGHOP!O2="KTHP",OR(TONGHOP!P2="LT",TONGHOP!P2="TN"),AND(TONGHOP!Q2>90,TONGHOP!Q2<=120)),TONGHOP!T2,"") | E2: =IF(AND(TONGHOP!O2="KTHP",OR(TONGHOP!P2="LT",TONGHOP!P2="TN"),AND(TONGHOP!Q2>90,TONGHOP!Q2<=120)),TONGHOP!U2,"") | F2: =IF(AND(D2="",E2=""),"",1.6) | G2: =IF(AND(TONGHOP!O2="KTHP",OR(TONGHOP!P2="LT",TONGHOP!P2="TN"),AND(TONGHOP!Q2>120,TONGHOP!Q2<=150)),TONGHOP!T2,"") | H2: =IF(AND(TONGHOP!O2="KTHP",OR(TONGHOP!P2="LT",TONGHOP!P2="TN"),AND(TONGHOP!Q2>120,TONGHOP!Q2<=150)),TONGHOP!U2,"") | I2: =IF(AND(G2="",H2=""),"",2) | J2: =IF(AND(TONGHOP!O2="KTHP",OR(TONGHOP!P2="LT",TONGHOP!P2="TN"),TONGHOP!Q2>150),TONGHOP!T2,"") | K2: =IF(AND(TONGHOP!O2="KTHP",OR(TONGHOP!P2="LT",TONGHOP!P2="TN"),TONGHOP!Q2>150),TONGHOP!U2,"") | L2: =IF(AND(J2="",K2=""),"",2.5)
A3: =IF(AND(TONGHOP!O3="KTHP",OR(TONGHOP!P3="LT",TONGHOP!P3="TN"),TONGHOP!Q3<=90),TONGHOP!T3,"") | B3: =IF(AND(TONGHOP!O3="KTHP",OR(TONGHOP!P3="LT",TONGHOP!P3="TN"),TONGHOP!Q3<=90),TONGHOP!U3,"") | C3: =IF(AND(A3="",B3=""),"",1.2) | D3: =IF(AND(TONGHOP!O3="KTHP",OR(TONGHOP!P3="LT",TONGHOP!P3="TN"),AND(TONGHOP!Q3>90,TONGHOP!Q3<=120)),TONGHOP!T3,"") | E3: =IF(AND(TONGHOP!O3="KTHP",OR(TONGHOP!P3="LT",TONGHOP!P3="TN"),AND(TONGHOP!Q3>90,TONGHOP!Q3<=120)),TONGHOP!U3,"") | F3: =IF(AND(D3="",E3=""),"",1.6) | G3: =IF(AND(TONGHOP!O3="KTHP",OR(TONGHOP!P3="LT",TONGHOP!P3="TN"),AND(TONGHOP!Q3>120,TONGHOP!Q3<=150)),TONGHOP!T3,"") | H3: =IF(AND(TONGHOP!O3="KTHP",OR(TONGHOP!P3="LT",TONGHOP!P3="TN"),AND(TONGHOP!Q3>120,TONGHOP!Q3<=150)),TONGHOP!U3,"") | I3: =IF(AND(G3="",H3=""),"",2) | J3: =IF(AND(TONGHOP!O3="KTHP",OR(TONGHOP!P3="LT",TONGHOP!P3="TN"),TONGHOP!Q3>150),TONGHOP!T3,"") | K3: =IF(AND(TONGHOP!O3="KTHP",OR(TONGHOP!P3="LT",TONGHOP!P3="TN"),TONGHOP!Q3>150),TONGHOP!U3,"") | L3: =IF(AND(J3="",K3=""),"",2.5)
A4: =IF(AND(TONGHOP!O4="KTHP",OR(TONGHOP!P4="LT",TONGHOP!P4="TN"),TONGHOP!Q4<=90),TONGHOP!T4,"") | B4: =IF(AND(TONGHOP!O4="KTHP",OR(TONGHOP!P4="LT",TONGHOP!P4="TN"),TONGHOP!Q4<=90),TONGHOP!U4,"") | C4: =IF(AND(A4="",B4=""),"",1.2) | D4: =IF(AND(TONGHOP!O4="KTHP",OR(TONGHOP!P4="LT",TONGHOP!P4="TN"),AND(TONGHOP!Q4>90,TONGHOP!Q4<=120)),TONGHOP!T4,"") | E4: =IF(AND(TONGHOP!O4="KTHP",OR(TONGHOP!P4="LT",TONGHOP!P4="TN"),AND(TONGHOP!Q4>90,TONGHOP!Q4<=120)),TONGHOP!U4,"") | F4: =IF(AND(D4="",E4=""),"",1.6) | G4: =IF(AND(TONGHOP!O4="KTHP",OR(TONGHOP!P4="LT",TONGHOP!P4="TN"),AND(TONGHOP!Q4>120,TONGHOP!Q4<=150)),TONGHOP!T4,"") | H4: =IF(AND(TONGHOP!O4="KTHP",OR(TONGHOP!P4="LT",TONGHOP!P4="TN"),AND(TONGHOP!Q4>120,TONGHOP!Q4<=150)),TONGHOP!U4,"") | I4: =IF(AND(G4="",H4=""),"",2) | J4: =IF(AND(TONGHOP!O4="KTHP",OR(TONGHOP!P4="LT",TONGHOP!P4="TN"),TONGHOP!Q4>150),TONGHOP!T4,"") | K4: =IF(AND(TONGHOP!O4="KTHP",OR(TONGHOP!P4="LT",TONGHOP!P4="TN"),TONGHOP!Q4>150),TONGHOP!U4,"") | L4: =IF(AND(J4="",K4=""),"",2.5)
A5: =IF(AND(TONGHOP!O5="KTHP",OR(TONGHOP!P5="LT",TONGHOP!P5="TN"),TONGHOP!Q5<=90),TONGHOP!T5,"") | B5: =IF(AND(TONGHOP!O5="KTHP",OR(TONGHOP!P5="LT",TONGHOP!P5="TN"),TONGHOP!Q5<=90),TONGHOP!U5,"") | C5: =IF(AND(A5="",B5=""),"",1.2) | D5: =IF(AND(TONGHOP!O5="KTHP",OR(TONGHOP!P5="LT",TONGHOP!P5="TN"),AND(TONGHOP!Q5>90,TONGHOP!Q5<=120)),TONGHOP!T5,"") | E5: =IF(AND(TONGHOP!O5="KTHP",OR(TONGHOP!P5="LT",TONGHOP!P5="TN"),AND(TONGHOP!Q5>90,TONGHOP!Q5<=120)),TONGHOP!U5,"") | F5: =IF(AND(D5="",E5=""),"",1.6) | G5: =IF(AND(TONGHOP!O5="KTHP",OR(TONGHOP!P5="LT",TONGHOP!P5="TN"),AND(TONGHOP!Q5>120,TONGHOP!Q5<=150)),TONGHOP!T5,"") | H5: =IF(AND(TONGHOP!O5="KTHP",OR(TONGHOP!P5="LT",TONGHOP!P5="TN"),AND(TONGHOP!Q5>120,TONGHOP!Q5<=150)),TONGHOP!U5,"") | I5: =IF(AND(G5="",H5=""),"",2) | J5: =IF(AND(TONGHOP!O5="KTHP",OR(TONGHOP!P5="LT",TONGHOP!P5="TN"),TONGHOP!Q5>150),TONGHOP!T5,"") | K5: =IF(AND(TONGHOP!O5="KTHP",OR(TONGHOP!P5="LT",TONGHOP!P5="TN"),TONGHOP!Q5>150),TONGHOP!U5,"") | L5: =IF(AND(J5="",K5=""),"",2.5)
A6: =IF(AND(TONGHOP!O6="KTHP",OR(TONGHOP!P6="LT",TONGHOP!P6="TN"),TONGHOP!Q6<=90),TONGHOP!T6,"") | B6: =IF(AND(TONGHOP!O6="KTHP",OR(TONGHOP!P6="LT",TONGHOP!P6="TN"),TONGHOP!Q6<=90),TONGHOP!U6,"") | C6: =IF(AND(A6="",B6=""),"",1.2) | D6: =IF(AND(TONGHOP!O6="KTHP",OR(TONGHOP!P6="LT",TONGHOP!P6="TN"),AND(TONGHOP!Q6>90,TONGHOP!Q6<=120)),TONGHOP!T6,"") | E6: =IF(AND(TONGHOP!O6="KTHP",OR(TONGHOP!P6="LT",TONGHOP!P6="TN"),AND(TONGHOP!Q6>90,TONGHOP!Q6<=120)),TONGHOP!U6,"") | F6: =IF(AND(D6="",E6=""),"",1.6) | G6: =IF(AND(TONGHOP!O6="KTHP",OR(TONGHOP!P6="LT",TONGHOP!P6="TN"),AND(TONGHOP!Q6>120,TONGHOP!Q6<=150)),TONGHOP!T6,"") | H6: =IF(AND(TONGHOP!O6="KTHP",OR(TONGHOP!P6="LT",TONGHOP!P6="TN"),AND(TONGHOP!Q6>120,TONGHOP!Q6<=150)),TONGHOP!U6,"") | I6: =IF(AND(G6="",H6=""),"",2) | J6: =IF(AND(TONGHOP!O6="KTHP",OR(TONGHOP!P6="LT",TONGHOP!P6="TN"),TONGHOP!Q6>150),TONGHOP!T6,"") | K6: =IF(AND(TONGHOP!O6="KTHP",OR(TONGHOP!P6="LT",TONGHOP!P6="TN"),TONGHOP!Q6>150),TONGHOP!U6,"") | L6: =IF(AND(J6="",K6=""),"",2.5)
A7: =IF(AND(TONGHOP!O7="KTHP",OR(TONGHOP!P7="LT",TONGHOP!P7="TN"),TONGHOP!Q7<=90),TONGHOP!T7,"") | B7: =IF(AND(TONGHOP!O7="KTHP",OR(TONGHOP!P7="LT",TONGHOP!P7="TN"),TONGHOP!Q7<=90),TONGHOP!U7,"") | C7: =IF(AND(A7="",B7=""),"",1.2) | D7: =IF(AND(TONGHOP!O7="KTHP",OR(TONGHOP!P7="LT",TONGHOP!P7="TN"),AND(TONGHOP!Q7>90,TONGHOP!Q7<=120)),TONGHOP!T7,"") | E7: =IF(AND(TONGHOP!O7="KTHP",OR(TONGHOP!P7="LT",TONGHOP!P7="TN"),AND(TONGHOP!Q7>90,TONGHOP!Q7<=120)),TONGHOP!U7,"") | F7: =IF(AND(D7="",E7=""),"",1.6) | G7: =IF(AND(TONGHOP!O7="KTHP",OR(TONGHOP!P7="LT",TONGHOP!P7="TN"),AND(TONGHOP!Q7>120,TONGHOP!Q7<=150)),TONGHOP!T7,"") | H7: =IF(AND(TONGHOP!O7="KTHP",OR(TONGHOP!P7="LT",TONGHOP!P7="TN"),AND(TONGHOP!Q7>120,TONGHOP!Q7<=150)),TONGHOP!U7,"") | I7: =IF(AND(G7="",H7=""),"",2) | J7: =IF(AND(TONGHOP!O7="KTHP",OR(TONGHOP!P7="LT",TONGHOP!P7="TN"),TONGHOP!Q7>150),TONGHOP!T7,"") | K7: =IF(AND(TONGHOP!O7="KTHP",OR(TONGHOP!P7="LT",TONGHOP!P7="TN"),TONGHOP!Q7>150),TONGHOP!U7,"") | L7: =IF(AND(J7="",K7=""),"",2.5)
A8: =IF(AND(TONGHOP!O8="KTHP",OR(TONGHOP!P8="LT",TONGHOP!P8="TN"),TONGHOP!Q8<=90),TONGHOP!T8,"") | B8: =IF(AND(TONGHOP!O8="KTHP",OR(TONGHOP!P8="LT",TONGHOP!P8="TN"),TONGHOP!Q8<=90),TONGHOP!U8,"") | C8: =IF(AND(A8="",B8=""),"",1.2) | D8: =IF(AND(TONGHOP!O8="KTHP",OR(TONGHOP!P8="LT",TONGHOP!P8="TN"),AND(TONGHOP!Q8>90,TONGHOP!Q8<=120)),TONGHOP!T8,"") | E8: =IF(AND(TONGHOP!O8="KTHP",OR(TONGHOP!P8="LT",TONGHOP!P8="TN"),AND(TONGHOP!Q8>90,TONGHOP!Q8<=120)),TONGHOP!U8,"") | F8: =IF(AND(D8="",E8=""),"",1.6) | G8: =IF(AND(TONGHOP!O8="KTHP",OR(TONGHOP!P8="LT",TONGHOP!P8="TN"),AND(TONGHOP!Q8>120,TONGHOP!Q8<=150)),TONGHOP!T8,"") | H8: =IF(AND(TONGHOP!O8="KTHP",OR(TONGHOP!P8="LT",TONGHOP!P8="TN"),AND(TONGHOP!Q8>120,TONGHOP!Q8<=150)),TONGHOP!U8,"") | I8: =IF(AND(G8="",H8=""),"",2) | J8: =IF(AND(TONGHOP!O8="KTHP",OR(TONGHOP!P8="LT",TONGHOP!P8="TN"),TONGHOP!Q8>150),TONGHOP!T8,"") | K8: =IF(AND(TONGHOP!O8="KTHP",OR(TONGHOP!P8="LT",TONGHOP!P8="TN"),TONGHOP!Q8>150),TONGHOP!U8,"") | L8: =IF(AND(J8="",K8=""),"",2.5)
A9: =IF(AND(TONGHOP!O9="KTHP",OR(TONGHOP!P9="LT",TONGHOP!P9="TN"),TONGHOP!Q9<=90),TONGHOP!T9,"") | B9: =IF(AND(TONGHOP!O9="KTHP",OR(TONGHOP!P9="LT",TONGHOP!P9="TN"),TONGHOP!Q9<=90),TONGHOP!U9,"") | C9: =IF(AND(A9="",B9=""),"",1.2) | D9: =IF(AND(TONGHOP!O9="KTHP",OR(TONGHOP!P9="LT",TONGHOP!P9="TN"),AND(TONGHOP!Q9>90,TONGHOP!Q9<=120)),TONGHOP!T9,"") | E9: =IF(AND(TONGHOP!O9="KTHP",OR(TONGHOP!P9="LT",TONGHOP!P9="TN"),AND(TONGHOP!Q9>90,TONGHOP!Q9<=120)),TONGHOP!U9,"") | F9: =IF(AND(D9="",E9=""),"",1.6) | G9: =IF(AND(TONGHOP!O9="KTHP",OR(TONGHOP!P9="LT",TONGHOP!P9="TN"),AND(TONGHOP!Q9>120,TONGHOP!Q9<=150)),TONGHOP!T9,"") | H9: =IF(AND(TONGHOP!O9="KTHP",OR(TONGHOP!P9="LT",TONGHOP!P9="TN"),AND(TONGHOP!Q9>120,TONGHOP!Q9<=150)),TONGHOP!U9,"") | I9: =IF(AND(G9="",H9=""),"",2) | J9: =IF(AND(TONGHOP!O9="KTHP",OR(TONGHOP!P9="LT",TONGHOP!P9="TN"),TONGHOP!Q9>150),TONGHOP!T9,"") | K9: =IF(AND(TONGHOP!O9="KTHP",OR(TONGHOP!P9="LT",TONGHOP!P9="TN"),TONGHOP!Q9>150),TONGHOP!U9,"") | L9: =IF(AND(J9="",K9=""),"",2.5)
A10: =IF(AND(TONGHOP!O10="KTHP",OR(TONGHOP!P10="LT",TONGHOP!P10="TN"),TONGHOP!Q10<=90),TONGHOP!T10,"") | B10: =IF(AND(TONGHOP!O10="KTHP",OR(TONGHOP!P10="LT",TONGHOP!P10="TN"),TONGHOP!Q10<=90),TONGHOP!U10,"") | C10: =IF(AND(A10="",B10=""),"",1.2) | D10: =IF(AND(TONGHOP!O10="KTHP",OR(TONGHOP!P10="LT",TONGHOP!P10="TN"),AND(TONGHOP!Q10>90,TONGHOP!Q10<=120)),TONGHOP!T10,"") | E10: =IF(AND(TONGHOP!O10="KTHP",OR(TONGHOP!P10="LT",TONGHOP!P10="TN"),AND(TONGHOP!Q10>90,TONGHOP!Q10<=120)),TONGHOP!U10,"") | F10: =IF(AND(D10="",E10=""),"",1.6) | G10: =IF(AND(TONGHOP!O10="KTHP",OR(TONGHOP!P10="LT",TONGHOP!P10="TN"),AND(TONGHOP!Q10>120,TONGHOP!Q10<=150)),TONGHOP!T10,"") | H10: =IF(AND(TONGHOP!O10="KTHP",OR(TONGHOP!P10="LT",TONGHOP!P10="TN"),AND(TONGHOP!Q10>120,TONGHOP!Q10<=150)),TONGHOP!U10,"") | I10: =IF(AND(G10="",H10=""),"",2) | J10: =IF(AND(TONGHOP!O10="KTHP",OR(TONGHOP!P10="LT",TONGHOP!P10="TN"),TONGHOP!Q10>150),TONGHOP!T10,"") | K10: =IF(AND(TONGHOP!O10="KTHP",OR(TONGHOP!P10="LT",TONGHOP!P10="TN"),TONGHOP!Q10>150),TONGHOP!U10,"") | L10: =IF(AND(J10="",K10=""),"",2.5)
A11: =IF(AND(TONGHOP!O11="KTHP",OR(TONGHOP!P11="LT",TONGHOP!P11="TN"),TONGHOP!Q11<=90),TONGHOP!T11,"") | B11: =IF(AND(TONGHOP!O11="KTHP",OR(TONGHOP!P11="LT",TONGHOP!P11="TN"),TONGHOP!Q11<=90),TONGHOP!U11,"") | C11: =IF(AND(A11="",B11=""),"",1.2) | D11: =IF(AND(TONGHOP!O11="KTHP",OR(TONGHOP!P11="LT",TONGHOP!P11="TN"),AND(TONGHOP!Q11>90,TONGHOP!Q11<=120)),TONGHOP!T11,"") | E11: =IF(AND(TONGHOP!O11="KTHP",OR(TONGHOP!P11="LT",TONGHOP!P11="TN"),AND(TONGHOP!Q11>90,TONGHOP!Q11<=120)),TONGHOP!U11,"") | F11: =IF(AND(D11="",E11=""),"",1.6) | G11: =IF(AND(TONGHOP!O11="KTHP",OR(TONGHOP!P11="LT",TONGHOP!P11="TN"),AND(TONGHOP!Q11>120,TONGHOP!Q11<=150)),TONGHOP!T11,"") | H11: =IF(AND(TONGHOP!O11="KTHP",OR(TONGHOP!P11="LT",TONGHOP!P11="TN"),AND(TONGHOP!Q11>120,TONGHOP!Q11<=150)),TONGHOP!U11,"") | I11: =IF(AND(G11="",H11=""),"",2) | J11: =IF(AND(TONGHOP!O11="KTHP",OR(TONGHOP!P11="LT",TONGHOP!P11="TN"),TONGHOP!Q11>150),TONGHOP!T11,"") | K11: =IF(AND(TONGHOP!O11="KTHP",OR(TONGHOP!P11="LT",TONGHOP!P11="TN"),TONGHOP!Q11>150),TONGHOP!U11,"") | L11: =IF(AND(J11="",K11=""),"",2.5)
A12: =IF(AND(TONGHOP!O12="KTHP",OR(TONGHOP!P12="LT",TONGHOP!P12="TN"),TONGHOP!Q12<=90),TONGHOP!T12,"") | B12: =IF(AND(TONGHOP!O12="KTHP",OR(TONGHOP!P12="LT",TONGHOP!P12="TN"),TONGHOP!Q12<=90),TONGHOP!U12,"") | C12: =IF(AND(A12="",B12=""),"",1.2) | D12: =IF(AND(TONGHOP!O12="KTHP",OR(TONGHOP!P12="LT",TONGHOP!P12="TN"),AND(TONGHOP!Q12>90,TONGHOP!Q12<=120)),TONGHOP!T12,"") | E12: =IF(AND(TONGHOP!O12="KTHP",OR(TONGHOP!P12="LT",TONGHOP!P12="TN"),AND(TONGHOP!Q12>90,TONGHOP!Q12<=120)),TONGHOP!U12,"") | F12: =IF(AND(D12="",E12=""),"",1.6) | G12: =IF(AND(TONGHOP!O12="KTHP",OR(TONGHOP!P12="LT",TONGHOP!P12="TN"),AND(TONGHOP!Q12>120,TONGHOP!Q12<=150)),TONGHOP!T12,"") | H12: =IF(AND(TONGHOP!O12="KTHP",OR(TONGHOP!P12="LT",TONGHOP!P12="TN"),AND(TONGHOP!Q12>120,TONGHOP!Q12<=150)),TONGHOP!U12,"") | I12: =IF(AND(G12="",H12=""),"",2) | J12: =IF(AND(TONGHOP!O12="KTHP",OR(TONGHOP!P12="LT",TONGHOP!P12="TN"),TONGHOP!Q12>150),TONGHOP!T12,"") | K12: =IF(AND(TONGHOP!O12="KTHP",OR(TONGHOP!P12="LT",TONGHOP!P12="TN"),TONGHOP!Q12>150),TONGHOP!U12,"") | L12: =IF(AND(J12="",K12=""),"",2.5)
A13: =IF(AND(TONGHOP!O13="KTHP",OR(TONGHOP!P13="LT",TONGHOP!P13="TN"),TONGHOP!Q13<=90),TONGHOP!T13,"") | B13: =IF(AND(TONGHOP!O13="KTHP",OR(TONGHOP!P13="LT",TONGHOP!P13="TN"),TONGHOP!Q13<=90),TONGHOP!U13,"") | C13: =IF(AND(A13="",B13=""),"",1.2) | D13: =IF(AND(TONGHOP!O13="KTHP",OR(TONGHOP!P13="LT",TONGHOP!P13="TN"),AND(TONGHOP!Q13>90,TONGHOP!Q13<=120)),TONGHOP!T13,"") | E13: =IF(AND(TONGHOP!O13="KTHP",OR(TONGHOP!P13="LT",TONGHOP!P13="TN"),AND(TONGHOP!Q13>90,TONGHOP!Q13<=120)),TONGHOP!U13,"") | F13: =IF(AND(D13="",E13=""),"",1.6) | G13: =IF(AND(TONGHOP!O13="KTHP",OR(TONGHOP!P13="LT",TONGHOP!P13="TN"),AND(TONGHOP!Q13>120,TONGHOP!Q13<=150)),TONGHOP!T13,"") | H13: =IF(AND(TONGHOP!O13="KTHP",OR(TONGHOP!P13="LT",TONGHOP!P13="TN"),AND(TONGHOP!Q13>120,TONGHOP!Q13<=150)),TONGHOP!U13,"") | I13: =IF(AND(G13="",H13=""),"",2) | J13: =IF(AND(TONGHOP!O13="KTHP",OR(TONGHOP!P13="LT",TONGHOP!P13="TN"),TONGHOP!Q13>150),TONGHOP!T13,"") | K13: =IF(AND(TONGHOP!O13="KTHP",OR(TONGHOP!P13="LT",TONGHOP!P13="TN"),TONGHOP!Q13>150),TONGHOP!U13,"") | L13: =IF(AND(J13="",K13=""),"",2.5)
... A2001: =IF(AND(TONGHOP!O2001="KTHP",OR(TONGHOP!P2001="LT",TONGHOP!P2001="TN"),TONGHOP!Q2001<=90),TONGHOP!T2001,"") | B2001: =IF(AND(TONGHOP!O2001="KTHP",OR(TONGHOP!P2001="LT",TONGHOP!P2001="TN"),TONGHOP!Q2001<=90),TONGHOP!U2001,"") | C2001: =IF(AND(A2001="",B2001=""),"",1.2) | D2001: =IF(AND(TONGHOP!O2001="KTHP",OR(TONGHOP!P2001="LT",TONGHOP!P2001="TN"),AND(TONGHOP!Q2001>90,TONGHOP!Q2001<=120)),TONGHOP!T2001,"") | E2001: =IF(AND(TONGHOP!O2001="KTHP",OR(TONGHOP!P2001="LT",TONGHOP!P2001="TN"),AND(TONGHOP!Q2001>90,TONGHOP!Q2001<=120)),TONGHOP!U2001,"") | F2001: =IF(AND(D2001="",E2001=""),"",1.6) | G2001: =IF(AND(TONGHOP!O2001="KTHP",OR(TONGHOP!P2001="LT",TONGHOP!P2001="TN"),AND(TONGHOP!Q2001>120,TONGHOP!Q2001<=150)),TONGHOP!T2001,"") | H2001: =IF(AND(TONGHOP!O2001="KTHP",OR(TONGHOP!P2001="LT",TONGHOP!P2001="TN"),AND(TONGHOP!Q2001>120,TONGHOP!Q2001<=150)),TONGHOP!U2001,"") | I2001: =IF(AND(G2001="",H2001=""),"",2) | J2001: =IF(AND(TONGHOP!O2001="KTHP",OR(TONGHOP!P2001="LT",TONGHOP!P2001="TN"),TONGHOP!Q2001>150),TONGHOP!T2001,"") | K2001: =IF(AND(TONGHOP!O2001="KTHP",OR(TONGHOP!P2001="LT",TONGHOP!P2001="TN"),TONGHOP!Q2001>150),TONGHOP!U2001,"") | L2001: =IF(AND(J2001="",K2001=""),"",2.5)

Sheet TK COI THI TOT NGHIEP
A1: CT01<=120ThiTN | B1: CT02<=120ThiTN | C1: KLCOI<=120 | D1: 120<CT01<=150ThiTN | E1: 120<CT02<=150ThiTN | F1: KLCOI<=150 | G1: 150<CT01<=180ThiTN | H1: 150<CT02<=180ThiTN | I1: KLCOI<=180 | J1: CT01>180ThiTN | K1: CT02>180ThiTN | L1: KLCOI>180
A2: =IF(AND(TONGHOP!O2="ThiTN",TONGHOP!Q2<=90,OR(TONGHOP!P2="LT",AND(TONGHOP!P2="TH",AND(TONGHOP!T2<>TONGHOP!X2,TONGHOP!T2<>TONGHOP!Y2)))),TONGHOP!T2,"") | B2: =IF(AND(TONGHOP!O2="ThiTN",TONGHOP!Q2<=90,OR(TONGHOP!P2="LT",AND(TONGHOP!P2="TH",AND(TONGHOP!U2<>TONGHOP!X2,TONGHOP!U2<>TONGHOP!Y2)))),TONGHOP!U2,"") | C2: =IF(AND(A2="",B2=""),"",1.2) | D2: =IF(AND(TONGHOP!O2="ThiTN",AND(TONGHOP!Q2>90,TONGHOP!Q2<=120),OR(TONGHOP!P2="LT",AND(TONGHOP!P2="TH",AND(TONGHOP!T2<>TONGHOP!X2,TONGHOP!T2<>TONGHOP!Y2)))),TONGHOP!T2,"") | E2: =IF(AND(TONGHOP!O2="ThiTN",AND(TONGHOP!Q2>90,TONGHOP!Q2<=120),OR(TONGHOP!P2="LT",AND(TONGHOP!P2="TH",AND(TONGHOP!U2<>TONGHOP!X2,TONGHOP!U2<>TONGHOP!Y2)))),TONGHOP!U2,"") | F2: =IF(AND(D2="",E2=""),"",1.6) | G2: =IF(AND(TONGHOP!O2="ThiTN",AND(TONGHOP!Q2>120,TONGHOP!Q2<=150),OR(TONGHOP!P2="LT",AND(TONGHOP!P2="TH",AND(TONGHOP!T2<>TONGHOP!X2,TONGHOP!T2<>TONGHOP!Y2)))),TONGHOP!T2,"") | H2: =IF(AND(TONGHOP!O2="ThiTN",AND(TONGHOP!Q2>120,TONGHOP!Q2<=150),OR(TONGHOP!P2="LT",AND(TONGHOP!P2="TH",AND(TONGHOP!U2<>TONGHOP!X2,TONGHOP!U2<>TONGHOP!Y2)))),TONGHOP!U2,"") | I2: =IF(AND(G2="",H2=""),"",2) | J2: =IF(AND(TONGHOP!O2="ThiTN",TONGHOP!Q2>150,OR(TONGHOP!P2="LT",AND(TONGHOP!P2="TH",AND(TONGHOP!T2<>TONGHOP!X2,TONGHOP!T2<>TONGHOP!Y2)))),TONGHOP!T2,"") | K2: =IF(AND(TONGHOP!O2="ThiTN",TONGHOP!Q2>150,OR(TONGHOP!P2="LT",AND(TONGHOP!P2="TH",AND(TONGHOP!U2<>TONGHOP!X2,TONGHOP!U2<>TONGHOP!Y2)))),TONGHOP!U2,"") | L2: =IF(AND(J2="",K2=""),"",2.5)
A3: =IF(AND(TONGHOP!O3="ThiTN",TONGHOP!Q3<=90,OR(TONGHOP!P3="LT",AND(TONGHOP!P3="TH",AND(TONGHOP!T3<>TONGHOP!X3,TONGHOP!T3<>TONGHOP!Y3)))),TONGHOP!T3,"") | B3: =IF(AND(TONGHOP!O3="ThiTN",TONGHOP!Q3<=90,OR(TONGHOP!P3="LT",AND(TONGHOP!P3="TH",AND(TONGHOP!U3<>TONGHOP!X3,TONGHOP!U3<>TONGHOP!Y3)))),TONGHOP!U3,"") | C3: =IF(AND(A3="",B3=""),"",1.2) | D3: =IF(AND(TONGHOP!O3="ThiTN",AND(TONGHOP!Q3>90,TONGHOP!Q3<=120),OR(TONGHOP!P3="LT",AND(TONGHOP!P3="TH",AND(TONGHOP!T3<>TONGHOP!X3,TONGHOP!T3<>TONGHOP!Y3)))),TONGHOP!T3,"") | E3: =IF(AND(TONGHOP!O3="ThiTN",AND(TONGHOP!Q3>90,TONGHOP!Q3<=120),OR(TONGHOP!P3="LT",AND(TONGHOP!P3="TH",AND(TONGHOP!U3<>TONGHOP!X3,TONGHOP!U3<>TONGHOP!Y3)))),TONGHOP!U3,"") | F3: =IF(AND(D3="",E3=""),"",1.6) | G3: =IF(AND(TONGHOP!O3="ThiTN",AND(TONGHOP!Q3>120,TONGHOP!Q3<=150),OR(TONGHOP!P3="LT",AND(TONGHOP!P3="TH",AND(TONGHOP!T3<>TONGHOP!X3,TONGHOP!T3<>TONGHOP!Y3)))),TONGHOP!T3,"") | H3: =IF(AND(TONGHOP!O3="ThiTN",AND(TONGHOP!Q3>120,TONGHOP!Q3<=150),OR(TONGHOP!P3="LT",AND(TONGHOP!P3="TH",AND(TONGHOP!U3<>TONGHOP!X3,TONGHOP!U3<>TONGHOP!Y3)))),TONGHOP!U3,"") | I3: =IF(AND(G3="",H3=""),"",2) | J3: =IF(AND(TONGHOP!O3="ThiTN",TONGHOP!Q3>150,OR(TONGHOP!P3="LT",AND(TONGHOP!P3="TH",AND(TONGHOP!T3<>TONGHOP!X3,TONGHOP!T3<>TONGHOP!Y3)))),TONGHOP!T3,"") | K3: =IF(AND(TONGHOP!O3="ThiTN",TONGHOP!Q3>150,OR(TONGHOP!P3="LT",AND(TONGHOP!P3="TH",AND(TONGHOP!U3<>TONGHOP!X3,TONGHOP!U3<>TONGHOP!Y3)))),TONGHOP!U3,"") | L3: =IF(AND(J3="",K3=""),"",2.5)
A4: =IF(AND(TONGHOP!O4="ThiTN",TONGHOP!Q4<=90,OR(TONGHOP!P4="LT",AND(TONGHOP!P4="TH",AND(TONGHOP!T4<>TONGHOP!X4,TONGHOP!T4<>TONGHOP!Y4)))),TONGHOP!T4,"") | B4: =IF(AND(TONGHOP!O4="ThiTN",TONGHOP!Q4<=90,OR(TONGHOP!P4="LT",AND(TONGHOP!P4="TH",AND(TONGHOP!U4<>TONGHOP!X4,TONGHOP!U4<>TONGHOP!Y4)))),TONGHOP!U4,"") | C4: =IF(AND(A4="",B4=""),"",1.2) | D4: =IF(AND(TONGHOP!O4="ThiTN",AND(TONGHOP!Q4>90,TONGHOP!Q4<=120),OR(TONGHOP!P4="LT",AND(TONGHOP!P4="TH",AND(TONGHOP!T4<>TONGHOP!X4,TONGHOP!T4<>TONGHOP!Y4)))),TONGHOP!T4,"") | E4: =IF(AND(TONGHOP!O4="ThiTN",AND(TONGHOP!Q4>90,TONGHOP!Q4<=120),OR(TONGHOP!P4="LT",AND(TONGHOP!P4="TH",AND(TONGHOP!U4<>TONGHOP!X4,TONGHOP!U4<>TONGHOP!Y4)))),TONGHOP!U4,"") | F4: =IF(AND(D4="",E4=""),"",1.6) | G4: =IF(AND(TONGHOP!O4="ThiTN",AND(TONGHOP!Q4>120,TONGHOP!Q4<=150),OR(TONGHOP!P4="LT",AND(TONGHOP!P4="TH",AND(TONGHOP!T4<>TONGHOP!X4,TONGHOP!T4<>TONGHOP!Y4)))),TONGHOP!T4,"") | H4: =IF(AND(TONGHOP!O4="ThiTN",AND(TONGHOP!Q4>120,TONGHOP!Q4<=150),OR(TONGHOP!P4="LT",AND(TONGHOP!P4="TH",AND(TONGHOP!U4<>TONGHOP!X4,TONGHOP!U4<>TONGHOP!Y4)))),TONGHOP!U4,"") | I4: =IF(AND(G4="",H4=""),"",2) | J4: =IF(AND(TONGHOP!O4="ThiTN",TONGHOP!Q4>150,OR(TONGHOP!P4="LT",AND(TONGHOP!P4="TH",AND(TONGHOP!T4<>TONGHOP!X4,TONGHOP!T4<>TONGHOP!Y4)))),TONGHOP!T4,"") | K4: =IF(AND(TONGHOP!O4="ThiTN",TONGHOP!Q4>150,OR(TONGHOP!P4="LT",AND(TONGHOP!P4="TH",AND(TONGHOP!U4<>TONGHOP!X4,TONGHOP!U4<>TONGHOP!Y4)))),TONGHOP!U4,"") | L4: =IF(AND(J4="",K4=""),"",2.5)
A5: =IF(AND(TONGHOP!O5="ThiTN",TONGHOP!Q5<=90,OR(TONGHOP!P5="LT",AND(TONGHOP!P5="TH",AND(TONGHOP!T5<>TONGHOP!X5,TONGHOP!T5<>TONGHOP!Y5)))),TONGHOP!T5,"") | B5: =IF(AND(TONGHOP!O5="ThiTN",TONGHOP!Q5<=90,OR(TONGHOP!P5="LT",AND(TONGHOP!P5="TH",AND(TONGHOP!U5<>TONGHOP!X5,TONGHOP!U5<>TONGHOP!Y5)))),TONGHOP!U5,"") | C5: =IF(AND(A5="",B5=""),"",1.2) | D5: =IF(AND(TONGHOP!O5="ThiTN",AND(TONGHOP!Q5>90,TONGHOP!Q5<=120),OR(TONGHOP!P5="LT",AND(TONGHOP!P5="TH",AND(TONGHOP!T5<>TONGHOP!X5,TONGHOP!T5<>TONGHOP!Y5)))),TONGHOP!T5,"") | E5: =IF(AND(TONGHOP!O5="ThiTN",AND(TONGHOP!Q5>90,TONGHOP!Q5<=120),OR(TONGHOP!P5="LT",AND(TONGHOP!P5="TH",AND(TONGHOP!U5<>TONGHOP!X5,TONGHOP!U5<>TONGHOP!Y5)))),TONGHOP!U5,"") | F5: =IF(AND(D5="",E5=""),"",1.6) | G5: =IF(AND(TONGHOP!O5="ThiTN",AND(TONGHOP!Q5>120,TONGHOP!Q5<=150),OR(TONGHOP!P5="LT",AND(TONGHOP!P5="TH",AND(TONGHOP!T5<>TONGHOP!X5,TONGHOP!T5<>TONGHOP!Y5)))),TONGHOP!T5,"") | H5: =IF(AND(TONGHOP!O5="ThiTN",AND(TONGHOP!Q5>120,TONGHOP!Q5<=150),OR(TONGHOP!P5="LT",AND(TONGHOP!P5="TH",AND(TONGHOP!U5<>TONGHOP!X5,TONGHOP!U5<>TONGHOP!Y5)))),TONGHOP!U5,"") | I5: =IF(AND(G5="",H5=""),"",2) | J5: =IF(AND(TONGHOP!O5="ThiTN",TONGHOP!Q5>150,OR(TONGHOP!P5="LT",AND(TONGHOP!P5="TH",AND(TONGHOP!T5<>TONGHOP!X5,TONGHOP!T5<>TONGHOP!Y5)))),TONGHOP!T5,"") | K5: =IF(AND(TONGHOP!O5="ThiTN",TONGHOP!Q5>150,OR(TONGHOP!P5="LT",AND(TONGHOP!P5="TH",AND(TONGHOP!U5<>TONGHOP!X5,TONGHOP!U5<>TONGHOP!Y5)))),TONGHOP!U5,"") | L5: =IF(AND(J5="",K5=""),"",2.5)
A6: =IF(AND(TONGHOP!O6="ThiTN",TONGHOP!Q6<=90,OR(TONGHOP!P6="LT",AND(TONGHOP!P6="TH",AND(TONGHOP!T6<>TONGHOP!X6,TONGHOP!T6<>TONGHOP!Y6)))),TONGHOP!T6,"") | B6: =IF(AND(TONGHOP!O6="ThiTN",TONGHOP!Q6<=90,OR(TONGHOP!P6="LT",AND(TONGHOP!P6="TH",AND(TONGHOP!U6<>TONGHOP!X6,TONGHOP!U6<>TONGHOP!Y6)))),TONGHOP!U6,"") | C6: =IF(AND(A6="",B6=""),"",1.2) | D6: =IF(AND(TONGHOP!O6="ThiTN",AND(TONGHOP!Q6>90,TONGHOP!Q6<=120),OR(TONGHOP!P6="LT",AND(TONGHOP!P6="TH",AND(TONGHOP!T6<>TONGHOP!X6,TONGHOP!T6<>TONGHOP!Y6)))),TONGHOP!T6,"") | E6: =IF(AND(TONGHOP!O6="ThiTN",AND(TONGHOP!Q6>90,TONGHOP!Q6<=120),OR(TONGHOP!P6="LT",AND(TONGHOP!P6="TH",AND(TONGHOP!U6<>TONGHOP!X6,TONGHOP!U6<>TONGHOP!Y6)))),TONGHOP!U6,"") | F6: =IF(AND(D6="",E6=""),"",1.6) | G6: =IF(AND(TONGHOP!O6="ThiTN",AND(TONGHOP!Q6>120,TONGHOP!Q6<=150),OR(TONGHOP!P6="LT",AND(TONGHOP!P6="TH",AND(TONGHOP!T6<>TONGHOP!X6,TONGHOP!T6<>TONGHOP!Y6)))),TONGHOP!T6,"") | H6: =IF(AND(TONGHOP!O6="ThiTN",AND(TONGHOP!Q6>120,TONGHOP!Q6<=150),OR(TONGHOP!P6="LT",AND(TONGHOP!P6="TH",AND(TONGHOP!U6<>TONGHOP!X6,TONGHOP!U6<>TONGHOP!Y6)))),TONGHOP!U6,"") | I6: =IF(AND(G6="",H6=""),"",2) | J6: =IF(AND(TONGHOP!O6="ThiTN",TONGHOP!Q6>150,OR(TONGHOP!P6="LT",AND(TONGHOP!P6="TH",AND(TONGHOP!T6<>TONGHOP!X6,TONGHOP!T6<>TONGHOP!Y6)))),TONGHOP!T6,"") | K6: =IF(AND(TONGHOP!O6="ThiTN",TONGHOP!Q6>150,OR(TONGHOP!P6="LT",AND(TONGHOP!P6="TH",AND(TONGHOP!U6<>TONGHOP!X6,TONGHOP!U6<>TONGHOP!Y6)))),TONGHOP!U6,"") | L6: =IF(AND(J6="",K6=""),"",2.5)
A7: =IF(AND(TONGHOP!O7="ThiTN",TONGHOP!Q7<=90,OR(TONGHOP!P7="LT",AND(TONGHOP!P7="TH",AND(TONGHOP!T7<>TONGHOP!X7,TONGHOP!T7<>TONGHOP!Y7)))),TONGHOP!T7,"") | B7: =IF(AND(TONGHOP!O7="ThiTN",TONGHOP!Q7<=90,OR(TONGHOP!P7="LT",AND(TONGHOP!P7="TH",AND(TONGHOP!U7<>TONGHOP!X7,TONGHOP!U7<>TONGHOP!Y7)))),TONGHOP!U7,"") | C7: =IF(AND(A7="",B7=""),"",1.2) | D7: =IF(AND(TONGHOP!O7="ThiTN",AND(TONGHOP!Q7>90,TONGHOP!Q7<=120),OR(TONGHOP!P7="LT",AND(TONGHOP!P7="TH",AND(TONGHOP!T7<>TONGHOP!X7,TONGHOP!T7<>TONGHOP!Y7)))),TONGHOP!T7,"") | E7: =IF(AND(TONGHOP!O7="ThiTN",AND(TONGHOP!Q7>90,TONGHOP!Q7<=120),OR(TONGHOP!P7="LT",AND(TONGHOP!P7="TH",AND(TONGHOP!U7<>TONGHOP!X7,TONGHOP!U7<>TONGHOP!Y7)))),TONGHOP!U7,"") | F7: =IF(AND(D7="",E7=""),"",1.6) | G7: =IF(AND(TONGHOP!O7="ThiTN",AND(TONGHOP!Q7>120,TONGHOP!Q7<=150),OR(TONGHOP!P7="LT",AND(TONGHOP!P7="TH",AND(TONGHOP!T7<>TONGHOP!X7,TONGHOP!T7<>TONGHOP!Y7)))),TONGHOP!T7,"") | H7: =IF(AND(TONGHOP!O7="ThiTN",AND(TONGHOP!Q7>120,TONGHOP!Q7<=150),OR(TONGHOP!P7="LT",AND(TONGHOP!P7="TH",AND(TONGHOP!U7<>TONGHOP!X7,TONGHOP!U7<>TONGHOP!Y7)))),TONGHOP!U7,"") | I7: =IF(AND(G7="",H7=""),"",2) | J7: =IF(AND(TONGHOP!O7="ThiTN",TONGHOP!Q7>150,OR(TONGHOP!P7="LT",AND(TONGHOP!P7="TH",AND(TONGHOP!T7<>TONGHOP!X7,TONGHOP!T7<>TONGHOP!Y7)))),TONGHOP!T7,"") | K7: =IF(AND(TONGHOP!O7="ThiTN",TONGHOP!Q7>150,OR(TONGHOP!P7="LT",AND(TONGHOP!P7="TH",AND(TONGHOP!U7<>TONGHOP!X7,TONGHOP!U7<>TONGHOP!Y7)))),TONGHOP!U7,"") | L7: =IF(AND(J7="",K7=""),"",2.5)
A8: =IF(AND(TONGHOP!O8="ThiTN",TONGHOP!Q8<=90,OR(TONGHOP!P8="LT",AND(TONGHOP!P8="TH",AND(TONGHOP!T8<>TONGHOP!X8,TONGHOP!T8<>TONGHOP!Y8)))),TONGHOP!T8,"") | B8: =IF(AND(TONGHOP!O8="ThiTN",TONGHOP!Q8<=90,OR(TONGHOP!P8="LT",AND(TONGHOP!P8="TH",AND(TONGHOP!U8<>TONGHOP!X8,TONGHOP!U8<>TONGHOP!Y8)))),TONGHOP!U8,"") | C8: =IF(AND(A8="",B8=""),"",1.2) | D8: =IF(AND(TONGHOP!O8="ThiTN",AND(TONGHOP!Q8>90,TONGHOP!Q8<=120),OR(TONGHOP!P8="LT",AND(TONGHOP!P8="TH",AND(TONGHOP!T8<>TONGHOP!X8,TONGHOP!T8<>TONGHOP!Y8)))),TONGHOP!T8,"") | E8: =IF(AND(TONGHOP!O8="ThiTN",AND(TONGHOP!Q8>90,TONGHOP!Q8<=120),OR(TONGHOP!P8="LT",AND(TONGHOP!P8="TH",AND(TONGHOP!U8<>TONGHOP!X8,TONGHOP!U8<>TONGHOP!Y8)))),TONGHOP!U8,"") | F8: =IF(AND(D8="",E8=""),"",1.6) | G8: =IF(AND(TONGHOP!O8="ThiTN",AND(TONGHOP!Q8>120,TONGHOP!Q8<=150),OR(TONGHOP!P8="LT",AND(TONGHOP!P8="TH",AND(TONGHOP!T8<>TONGHOP!X8,TONGHOP!T8<>TONGHOP!Y8)))),TONGHOP!T8,"") | H8: =IF(AND(TONGHOP!O8="ThiTN",AND(TONGHOP!Q8>120,TONGHOP!Q8<=150),OR(TONGHOP!P8="LT",AND(TONGHOP!P8="TH",AND(TONGHOP!U8<>TONGHOP!X8,TONGHOP!U8<>TONGHOP!Y8)))),TONGHOP!U8,"") | I8: =IF(AND(G8="",H8=""),"",2) | J8: =IF(AND(TONGHOP!O8="ThiTN",TONGHOP!Q8>150,OR(TONGHOP!P8="LT",AND(TONGHOP!P8="TH",AND(TONGHOP!T8<>TONGHOP!X8,TONGHOP!T8<>TONGHOP!Y8)))),TONGHOP!T8,"") | K8: =IF(AND(TONGHOP!O8="ThiTN",TONGHOP!Q8>150,OR(TONGHOP!P8="LT",AND(TONGHOP!P8="TH",AND(TONGHOP!U8<>TONGHOP!X8,TONGHOP!U8<>TONGHOP!Y8)))),TONGHOP!U8,"") | L8: =IF(AND(J8="",K8=""),"",2.5)
A9: =IF(AND(TONGHOP!O9="ThiTN",TONGHOP!Q9<=90,OR(TONGHOP!P9="LT",AND(TONGHOP!P9="TH",AND(TONGHOP!T9<>TONGHOP!X9,TONGHOP!T9<>TONGHOP!Y9)))),TONGHOP!T9,"") | B9: =IF(AND(TONGHOP!O9="ThiTN",TONGHOP!Q9<=90,OR(TONGHOP!P9="LT",AND(TONGHOP!P9="TH",AND(TONGHOP!U9<>TONGHOP!X9,TONGHOP!U9<>TONGHOP!Y9)))),TONGHOP!U9,"") | C9: =IF(AND(A9="",B9=""),"",1.2) | D9: =IF(AND(TONGHOP!O9="ThiTN",AND(TONGHOP!Q9>90,TONGHOP!Q9<=120),OR(TONGHOP!P9="LT",AND(TONGHOP!P9="TH",AND(TONGHOP!T9<>TONGHOP!X9,TONGHOP!T9<>TONGHOP!Y9)))),TONGHOP!T9,"") | E9: =IF(AND(TONGHOP!O9="ThiTN",AND(TONGHOP!Q9>90,TONGHOP!Q9<=120),OR(TONGHOP!P9="LT",AND(TONGHOP!P9="TH",AND(TONGHOP!U9<>TONGHOP!X9,TONGHOP!U9<>TONGHOP!Y9)))),TONGHOP!U9,"") | F9: =IF(AND(D9="",E9=""),"",1.6) | G9: =IF(AND(TONGHOP!O9="ThiTN",AND(TONGHOP!Q9>120,TONGHOP!Q9<=150),OR(TONGHOP!P9="LT",AND(TONGHOP!P9="TH",AND(TONGHOP!T9<>TONGHOP!X9,TONGHOP!T9<>TONGHOP!Y9)))),TONGHOP!T9,"") | H9: =IF(AND(TONGHOP!O9="ThiTN",AND(TONGHOP!Q9>120,TONGHOP!Q9<=150),OR(TONGHOP!P9="LT",AND(TONGHOP!P9="TH",AND(TONGHOP!U9<>TONGHOP!X9,TONGHOP!U9<>TONGHOP!Y9)))),TONGHOP!U9,"") | I9: =IF(AND(G9="",H9=""),"",2) | J9: =IF(AND(TONGHOP!O9="ThiTN",TONGHOP!Q9>150,OR(TONGHOP!P9="LT",AND(TONGHOP!P9="TH",AND(TONGHOP!T9<>TONGHOP!X9,TONGHOP!T9<>TONGHOP!Y9)))),TONGHOP!T9,"") | K9: =IF(AND(TONGHOP!O9="ThiTN",TONGHOP!Q9>150,OR(TONGHOP!P9="LT",AND(TONGHOP!P9="TH",AND(TONGHOP!U9<>TONGHOP!X9,TONGHOP!U9<>TONGHOP!Y9)))),TONGHOP!U9,"") | L9: =IF(AND(J9="",K9=""),"",2.5)
A10: =IF(AND(TONGHOP!O10="ThiTN",TONGHOP!Q10<=90,OR(TONGHOP!P10="LT",AND(TONGHOP!P10="TH",AND(TONGHOP!T10<>TONGHOP!X10,TONGHOP!T10<>TONGHOP!Y10)))),TONGHOP!T10,"") | B10: =IF(AND(TONGHOP!O10="ThiTN",TONGHOP!Q10<=90,OR(TONGHOP!P10="LT",AND(TONGHOP!P10="TH",AND(TONGHOP!U10<>TONGHOP!X10,TONGHOP!U10<>TONGHOP!Y10)))),TONGHOP!U10,"") | C10: =IF(AND(A10="",B10=""),"",1.2) | D10: =IF(AND(TONGHOP!O10="ThiTN",AND(TONGHOP!Q10>90,TONGHOP!Q10<=120),OR(TONGHOP!P10="LT",AND(TONGHOP!P10="TH",AND(TONGHOP!T10<>TONGHOP!X10,TONGHOP!T10<>TONGHOP!Y10)))),TONGHOP!T10,"") | E10: =IF(AND(TONGHOP!O10="ThiTN",AND(TONGHOP!Q10>90,TONGHOP!Q10<=120),OR(TONGHOP!P10="LT",AND(TONGHOP!P10="TH",AND(TONGHOP!U10<>TONGHOP!X10,TONGHOP!U10<>TONGHOP!Y10)))),TONGHOP!U10,"") | F10: =IF(AND(D10="",E10=""),"",1.6) | G10: =IF(AND(TONGHOP!O10="ThiTN",AND(TONGHOP!Q10>120,TONGHOP!Q10<=150),OR(TONGHOP!P10="LT",AND(TONGHOP!P10="TH",AND(TONGHOP!T10<>TONGHOP!X10,TONGHOP!T10<>TONGHOP!Y10)))),TONGHOP!T10,"") | H10: =IF(AND(TONGHOP!O10="ThiTN",AND(TONGHOP!Q10>120,TONGHOP!Q10<=150),OR(TONGHOP!P10="LT",AND(TONGHOP!P10="TH",AND(TONGHOP!U10<>TONGHOP!X10,TONGHOP!U10<>TONGHOP!Y10)))),TONGHOP!U10,"") | I10: =IF(AND(G10="",H10=""),"",2) | J10: =IF(AND(TONGHOP!O10="ThiTN",TONGHOP!Q10>150,OR(TONGHOP!P10="LT",AND(TONGHOP!P10="TH",AND(TONGHOP!T10<>TONGHOP!X10,TONGHOP!T10<>TONGHOP!Y10)))),TONGHOP!T10,"") | K10: =IF(AND(TONGHOP!O10="ThiTN",TONGHOP!Q10>150,OR(TONGHOP!P10="LT",AND(TONGHOP!P10="TH",AND(TONGHOP!U10<>TONGHOP!X10,TONGHOP!U10<>TONGHOP!Y10)))),TONGHOP!U10,"") | L10: =IF(AND(J10="",K10=""),"",2.5)
A11: =IF(AND(TONGHOP!O11="ThiTN",TONGHOP!Q11<=90,OR(TONGHOP!P11="LT",AND(TONGHOP!P11="TH",AND(TONGHOP!T11<>TONGHOP!X11,TONGHOP!T11<>TONGHOP!Y11)))),TONGHOP!T11,"") | B11: =IF(AND(TONGHOP!O11="ThiTN",TONGHOP!Q11<=90,OR(TONGHOP!P11="LT",AND(TONGHOP!P11="TH",AND(TONGHOP!U11<>TONGHOP!X11,TONGHOP!U11<>TONGHOP!Y11)))),TONGHOP!U11,"") | C11: =IF(AND(A11="",B11=""),"",1.2) | D11: =IF(AND(TONGHOP!O11="ThiTN",AND(TONGHOP!Q11>90,TONGHOP!Q11<=120),OR(TONGHOP!P11="LT",AND(TONGHOP!P11="TH",AND(TONGHOP!T11<>TONGHOP!X11,TONGHOP!T11<>TONGHOP!Y11)))),TONGHOP!T11,"") | E11: =IF(AND(TONGHOP!O11="ThiTN",AND(TONGHOP!Q11>90,TONGHOP!Q11<=120),OR(TONGHOP!P11="LT",AND(TONGHOP!P11="TH",AND(TONGHOP!U11<>TONGHOP!X11,TONGHOP!U11<>TONGHOP!Y11)))),TONGHOP!U11,"") | F11: =IF(AND(D11="",E11=""),"",1.6) | G11: =IF(AND(TONGHOP!O11="ThiTN",AND(TONGHOP!Q11>120,TONGHOP!Q11<=150),OR(TONGHOP!P11="LT",AND(TONGHOP!P11="TH",AND(TONGHOP!T11<>TONGHOP!X11,TONGHOP!T11<>TONGHOP!Y11)))),TONGHOP!T11,"") | H11: =IF(AND(TONGHOP!O11="ThiTN",AND(TONGHOP!Q11>120,TONGHOP!Q11<=150),OR(TONGHOP!P11="LT",AND(TONGHOP!P11="TH",AND(TONGHOP!U11<>TONGHOP!X11,TONGHOP!U11<>TONGHOP!Y11)))),TONGHOP!U11,"") | I11: =IF(AND(G11="",H11=""),"",2) | J11: =IF(AND(TONGHOP!O11="ThiTN",TONGHOP!Q11>150,OR(TONGHOP!P11="LT",AND(TONGHOP!P11="TH",AND(TONGHOP!T11<>TONGHOP!X11,TONGHOP!T11<>TONGHOP!Y11)))),TONGHOP!T11,"") | K11: =IF(AND(TONGHOP!O11="ThiTN",TONGHOP!Q11>150,OR(TONGHOP!P11="LT",AND(TONGHOP!P11="TH",AND(TONGHOP!U11<>TONGHOP!X11,TONGHOP!U11<>TONGHOP!Y11)))),TONGHOP!U11,"") | L11: =IF(AND(J11="",K11=""),"",2.5)
A12: =IF(AND(TONGHOP!O12="ThiTN",TONGHOP!Q12<=90,OR(TONGHOP!P12="LT",AND(TONGHOP!P12="TH",AND(TONGHOP!T12<>TONGHOP!X12,TONGHOP!T12<>TONGHOP!Y12)))),TONGHOP!T12,"") | B12: =IF(AND(TONGHOP!O12="ThiTN",TONGHOP!Q12<=90,OR(TONGHOP!P12="LT",AND(TONGHOP!P12="TH",AND(TONGHOP!U12<>TONGHOP!X12,TONGHOP!U12<>TONGHOP!Y12)))),TONGHOP!U12,"") | C12: =IF(AND(A12="",B12=""),"",1.2) | D12: =IF(AND(TONGHOP!O12="ThiTN",AND(TONGHOP!Q12>90,TONGHOP!Q12<=120),OR(TONGHOP!P12="LT",AND(TONGHOP!P12="TH",AND(TONGHOP!T12<>TONGHOP!X12,TONGHOP!T12<>TONGHOP!Y12)))),TONGHOP!T12,"") | E12: =IF(AND(TONGHOP!O12="ThiTN",AND(TONGHOP!Q12>90,TONGHOP!Q12<=120),OR(TONGHOP!P12="LT",AND(TONGHOP!P12="TH",AND(TONGHOP!U12<>TONGHOP!X12,TONGHOP!U12<>TONGHOP!Y12)))),TONGHOP!U12,"") | F12: =IF(AND(D12="",E12=""),"",1.6) | G12: =IF(AND(TONGHOP!O12="ThiTN",AND(TONGHOP!Q12>120,TONGHOP!Q12<=150),OR(TONGHOP!P12="LT",AND(TONGHOP!P12="TH",AND(TONGHOP!T12<>TONGHOP!X12,TONGHOP!T12<>TONGHOP!Y12)))),TONGHOP!T12,"") | H12: =IF(AND(TONGHOP!O12="ThiTN",AND(TONGHOP!Q12>120,TONGHOP!Q12<=150),OR(TONGHOP!P12="LT",AND(TONGHOP!P12="TH",AND(TONGHOP!U12<>TONGHOP!X12,TONGHOP!U12<>TONGHOP!Y12)))),TONGHOP!U12,"") | I12: =IF(AND(G12="",H12=""),"",2) | J12: =IF(AND(TONGHOP!O12="ThiTN",TONGHOP!Q12>150,OR(TONGHOP!P12="LT",AND(TONGHOP!P12="TH",AND(TONGHOP!T12<>TONGHOP!X12,TONGHOP!T12<>TONGHOP!Y12)))),TONGHOP!T12,"") | K12: =IF(AND(TONGHOP!O12="ThiTN",TONGHOP!Q12>150,OR(TONGHOP!P12="LT",AND(TONGHOP!P12="TH",AND(TONGHOP!U12<>TONGHOP!X12,TONGHOP!U12<>TONGHOP!Y12)))),TONGHOP!U12,"") | L12: =IF(AND(J12="",K12=""),"",2.5)
A13: =IF(AND(TONGHOP!O13="ThiTN",TONGHOP!Q13<=90,OR(TONGHOP!P13="LT",AND(TONGHOP!P13="TH",AND(TONGHOP!T13<>TONGHOP!X13,TONGHOP!T13<>TONGHOP!Y13)))),TONGHOP!T13,"") | B13: =IF(AND(TONGHOP!O13="ThiTN",TONGHOP!Q13<=90,OR(TONGHOP!P13="LT",AND(TONGHOP!P13="TH",AND(TONGHOP!U13<>TONGHOP!X13,TONGHOP!U13<>TONGHOP!Y13)))),TONGHOP!U13,"") | C13: =IF(AND(A13="",B13=""),"",1.2) | D13: =IF(AND(TONGHOP!O13="ThiTN",AND(TONGHOP!Q13>90,TONGHOP!Q13<=120),OR(TONGHOP!P13="LT",AND(TONGHOP!P13="TH",AND(TONGHOP!T13<>TONGHOP!X13,TONGHOP!T13<>TONGHOP!Y13)))),TONGHOP!T13,"") | E13: =IF(AND(TONGHOP!O13="ThiTN",AND(TONGHOP!Q13>90,TONGHOP!Q13<=120),OR(TONGHOP!P13="LT",AND(TONGHOP!P13="TH",AND(TONGHOP!U13<>TONGHOP!X13,TONGHOP!U13<>TONGHOP!Y13)))),TONGHOP!U13,"") | F13: =IF(AND(D13="",E13=""),"",1.6) | G13: =IF(AND(TONGHOP!O13="ThiTN",AND(TONGHOP!Q13>120,TONGHOP!Q13<=150),OR(TONGHOP!P13="LT",AND(TONGHOP!P13="TH",AND(TONGHOP!T13<>TONGHOP!X13,TONGHOP!T13<>TONGHOP!Y13)))),TONGHOP!T13,"") | H13: =IF(AND(TONGHOP!O13="ThiTN",AND(TONGHOP!Q13>120,TONGHOP!Q13<=150),OR(TONGHOP!P13="LT",AND(TONGHOP!P13="TH",AND(TONGHOP!U13<>TONGHOP!X13,TONGHOP!U13<>TONGHOP!Y13)))),TONGHOP!U13,"") | I13: =IF(AND(G13="",H13=""),"",2) | J13: =IF(AND(TONGHOP!O13="ThiTN",TONGHOP!Q13>150,OR(TONGHOP!P13="LT",AND(TONGHOP!P13="TH",AND(TONGHOP!T13<>TONGHOP!X13,TONGHOP!T13<>TONGHOP!Y13)))),TONGHOP!T13,"") | K13: =IF(AND(TONGHOP!O13="ThiTN",TONGHOP!Q13>150,OR(TONGHOP!P13="LT",AND(TONGHOP!P13="TH",AND(TONGHOP!U13<>TONGHOP!X13,TONGHOP!U13<>TONGHOP!Y13)))),TONGHOP!U13,"") | L13: =IF(AND(J13="",K13=""),"",2.5)
... A1501: =IF(AND(TONGHOP!O1501="ThiTN",TONGHOP!Q1501<=90,OR(TONGHOP!P1501="LT",AND(TONGHOP!P1501="TH",AND(TONGHOP!T1501<>TONGHOP!X1501,TONGHOP!T1501<>TONGHOP!Y1501)))),TONGHOP!T1501,"") | B1501: =IF(AND(TONGHOP!O1501="ThiTN",TONGHOP!Q1501<=90,OR(TONGHOP!P1501="LT",AND(TONGHOP!P1501="TH",AND(TONGHOP!U1501<>TONGHOP!X1501,TONGHOP!U1501<>TONGHOP!Y1501)))),TONGHOP!U1501,"") | C1501: =IF(AND(A1501="",B1501=""),"",1.2) | D1501: =IF(AND(TONGHOP!O1501="ThiTN",AND(TONGHOP!Q1501>90,TONGHOP!Q1501<=120),OR(TONGHOP!P1501="LT",AND(TONGHOP!P1501="TH",AND(TONGHOP!T1501<>TONGHOP!X1501,TONGHOP!T1501<>TONGHOP!Y1501)))),TONGHOP!T1501,"") | E1501: =IF(AND(TONGHOP!O1501="ThiTN",AND(TONGHOP!Q1501>90,TONGHOP!Q1501<=120),OR(TONGHOP!P1501="LT",AND(TONGHOP!P1501="TH",AND(TONGHOP!U1501<>TONGHOP!X1501,TONGHOP!U1501<>TONGHOP!Y1501)))),TONGHOP!U1501,"") | F1501: =IF(AND(D1501="",E1501=""),"",1.6) | G1501: =IF(AND(TONGHOP!O1501="ThiTN",AND(TONGHOP!Q1501>120,TONGHOP!Q1501<=150),OR(TONGHOP!P1501="LT",AND(TONGHOP!P1501="TH",AND(TONGHOP!T1501<>TONGHOP!X1501,TONGHOP!T1501<>TONGHOP!Y1501)))),TONGHOP!T1501,"") | H1501: =IF(AND(TONGHOP!O1501="ThiTN",AND(TONGHOP!Q1501>120,TONGHOP!Q1501<=150),OR(TONGHOP!P1501="LT",AND(TONGHOP!P1501="TH",AND(TONGHOP!U1501<>TONGHOP!X1501,TONGHOP!U1501<>TONGHOP!Y1501)))),TONGHOP!U1501,"") | I1501: =IF(AND(G1501="",H1501=""),"",2) | J1501: =IF(AND(TONGHOP!O1501="ThiTN",TONGHOP!Q1501>150,OR(TONGHOP!P1501="LT",AND(TONGHOP!P1501="TH",AND(TONGHOP!T1501<>TONGHOP!X1501,TONGHOP!T1501<>TONGHOP!Y1501)))),TONGHOP!T1501,"") | K1501: =IF(AND(TONGHOP!O1501="ThiTN",TONGHOP!Q1501>150,OR(TONGHOP!P1501="LT",AND(TONGHOP!P1501="TH",AND(TONGHOP!U1501<>TONGHOP!X1501,TONGHOP!U1501<>TONGHOP!Y1501)))),TONGHOP!U1501,"") | L1501: =IF(AND(J1501="",K1501=""),"",2.5)

Sheet TK CHAMTHI
A1: KTHP CHẤM LT1 | B1: KTHP CHẤM LT2 | C1: SLBÀI LT KTHP | D1: KTHP CHẤM TL1 | E1: KLHP CHẤM TL2 | F1: SLBÀI CHẤM TL KTHP | G1: ThiTN CHẤM LT1 | H1: ThiTN CHẤM LT2 | I1: SLBÀI LT ThiTN | J1: ThiTN CHẤM TH1 | K1: ThiTN CHẤM TH2 | L1: SLBÀI TH ThiTN | M1: ThiTN CHẤM THR1 | N1: ThiTN CHẤM THR2 | O1: SLBÀI THR ThiTN
A2: =IF(AND(TONGHOP!O2="KTHP",TONGHOP!P2="LT"),TONGHOP!X2,"") | B2: =IF(AND(TONGHOP!O2="KTHP",TONGHOP!P2="LT"),TONGHOP!Y2,"") | C2: =IF(AND(TONGHOP!O2="KTHP",TONGHOP!P2="LT"),TONGHOP!Z2,"") | D2: =IF(AND(TONGHOP!O2="KTHP",TONGHOP!P2="TL"),TONGHOP!X2,"") | E2: =IF(AND(TONGHOP!O2="KTHP",TONGHOP!P2="TL"),TONGHOP!Y2,"") | F2: =IF(AND(TONGHOP!O2="KTHP",TONGHOP!P2="TL"),TONGHOP!Z2,"") | G2: =IF(AND(TONGHOP!O2="ThiTN",TONGHOP!P2="LT"),TONGHOP!X2,"") | H2: =IF(AND(TONGHOP!O2="ThiTN",TONGHOP!P2="LT"),TONGHOP!Y2,"") | I2: =IF(AND(G2="",H2=""),"",IF(AND(TONGHOP!O2="ThiTN",TONGHOP!P2="LT"),TONGHOP!Z2,"")) | J2: =IF(AND(TONGHOP!O2="ThiTN",OR(TONGHOP!X2=TONGHOP!T2,TONGHOP!X2=TONGHOP!U2),TONGHOP!P2="TH"),TONGHOP!X2,"") | K2: =IF(AND(TONGHOP!O2="ThiTN",OR(TONGHOP!Y2=TONGHOP!T2,TONGHOP!Y2=TONGHOP!U2),TONGHOP!P2="TH"),TONGHOP!Y2,"") | L2: =IF(AND(J2="",K2=""),"",IF(AND(TONGHOP!O2="ThiTN",TONGHOP!P2="TH"),TONGHOP!Z2,"")) | M2: =IF(AND(TONGHOP!O2="ThiTN",AND(TONGHOP!X2<>TONGHOP!T2,TONGHOP!X2<>TONGHOP!U2),TONGHOP!P2="TH"),TONGHOP!X2,"") | N2: =IF(AND(TONGHOP!O2="ThiTN",AND(TONGHOP!Y2<>TONGHOP!T2,TONGHOP!Y2<>TONGHOP!U2),TONGHOP!P2="TH"),TONGHOP!Y2,"") | O2: =IF(AND(M2="",N2=""),"",IF(AND(TONGHOP!O2="ThiTN",TONGHOP!P2="TH"),TONGHOP!Z2,""))
A3: =IF(AND(TONGHOP!O3="KTHP",TONGHOP!P3="LT"),TONGHOP!X3,"") | B3: =IF(AND(TONGHOP!O3="KTHP",TONGHOP!P3="LT"),TONGHOP!Y3,"") | C3: =IF(AND(TONGHOP!O3="KTHP",TONGHOP!P3="LT"),TONGHOP!Z3,"") | D3: =IF(AND(TONGHOP!O3="KTHP",TONGHOP!P3="TL"),TONGHOP!X3,"") | E3: =IF(AND(TONGHOP!O3="KTHP",TONGHOP!P3="TL"),TONGHOP!Y3,"") | F3: =IF(AND(TONGHOP!O3="KTHP",TONGHOP!P3="TL"),TONGHOP!Z3,"") | G3: =IF(AND(TONGHOP!O3="ThiTN",TONGHOP!P3="LT"),TONGHOP!X3,"") | H3: =IF(AND(TONGHOP!O3="ThiTN",TONGHOP!P3="LT"),TONGHOP!Y3,"") | I3: =IF(AND(G3="",H3=""),"",IF(AND(TONGHOP!O3="ThiTN",TONGHOP!P3="LT"),TONGHOP!Z3,"")) | J3: =IF(AND(TONGHOP!O3="ThiTN",OR(TONGHOP!X3=TONGHOP!T3,TONGHOP!X3=TONGHOP!U3),TONGHOP!P3="TH"),TONGHOP!X3,"") | K3: =IF(AND(TONGHOP!O3="ThiTN",OR(TONGHOP!Y3=TONGHOP!T3,TONGHOP!Y3=TONGHOP!U3),TONGHOP!P3="TH"),TONGHOP!Y3,"") | L3: =IF(AND(J3="",K3=""),"",IF(AND(TONGHOP!O3="ThiTN",TONGHOP!P3="TH"),TONGHOP!Z3,"")) | M3: =IF(AND(TONGHOP!O3="ThiTN",AND(TONGHOP!X3<>TONGHOP!T3,TONGHOP!X3<>TONGHOP!U3),TONGHOP!P3="TH"),TONGHOP!X3,"") | N3: =IF(AND(TONGHOP!O3="ThiTN",AND(TONGHOP!Y3<>TONGHOP!T3,TONGHOP!Y3<>TONGHOP!U3),TONGHOP!P3="TH"),TONGHOP!Y3,"") | O3: =IF(AND(M3="",N3=""),"",IF(AND(TONGHOP!O3="ThiTN",TONGHOP!P3="TH"),TONGHOP!Z3,""))
A4: =IF(AND(TONGHOP!O4="KTHP",TONGHOP!P4="LT"),TONGHOP!X4,"") | B4: =IF(AND(TONGHOP!O4="KTHP",TONGHOP!P4="LT"),TONGHOP!Y4,"") | C4: =IF(AND(TONGHOP!O4="KTHP",TONGHOP!P4="LT"),TONGHOP!Z4,"") | D4: =IF(AND(TONGHOP!O4="KTHP",TONGHOP!P4="TL"),TONGHOP!X4,"") | E4: =IF(AND(TONGHOP!O4="KTHP",TONGHOP!P4="TL"),TONGHOP!Y4,"") | F4: =IF(AND(TONGHOP!O4="KTHP",TONGHOP!P4="TL"),TONGHOP!Z4,"") | G4: =IF(AND(TONGHOP!O4="ThiTN",TONGHOP!P4="LT"),TONGHOP!X4,"") | H4: =IF(AND(TONGHOP!O4="ThiTN",TONGHOP!P4="LT"),TONGHOP!Y4,"") | I4: =IF(AND(G4="",H4=""),"",IF(AND(TONGHOP!O4="ThiTN",TONGHOP!P4="LT"),TONGHOP!Z4,"")) | J4: =IF(AND(TONGHOP!O4="ThiTN",OR(TONGHOP!X4=TONGHOP!T4,TONGHOP!X4=TONGHOP!U4),TONGHOP!P4="TH"),TONGHOP!X4,"") | K4: =IF(AND(TONGHOP!O4="ThiTN",OR(TONGHOP!Y4=TONGHOP!T4,TONGHOP!Y4=TONGHOP!U4),TONGHOP!P4="TH"),TONGHOP!Y4,"") | L4: =IF(AND(J4="",K4=""),"",IF(AND(TONGHOP!O4="ThiTN",TONGHOP!P4="TH"),TONGHOP!Z4,"")) | M4: =IF(AND(TONGHOP!O4="ThiTN",AND(TONGHOP!X4<>TONGHOP!T4,TONGHOP!X4<>TONGHOP!U4),TONGHOP!P4="TH"),TONGHOP!X4,"") | N4: =IF(AND(TONGHOP!O4="ThiTN",AND(TONGHOP!Y4<>TONGHOP!T4,TONGHOP!Y4<>TONGHOP!U4),TONGHOP!P4="TH"),TONGHOP!Y4,"") | O4: =IF(AND(M4="",N4=""),"",IF(AND(TONGHOP!O4="ThiTN",TONGHOP!P4="TH"),TONGHOP!Z4,""))
A5: =IF(AND(TONGHOP!O5="KTHP",TONGHOP!P5="LT"),TONGHOP!X5,"") | B5: =IF(AND(TONGHOP!O5="KTHP",TONGHOP!P5="LT"),TONGHOP!Y5,"") | C5: =IF(AND(TONGHOP!O5="KTHP",TONGHOP!P5="LT"),TONGHOP!Z5,"") | D5: =IF(AND(TONGHOP!O5="KTHP",TONGHOP!P5="TL"),TONGHOP!X5,"") | E5: =IF(AND(TONGHOP!O5="KTHP",TONGHOP!P5="TL"),TONGHOP!Y5,"") | F5: =IF(AND(TONGHOP!O5="KTHP",TONGHOP!P5="TL"),TONGHOP!Z5,"") | G5: =IF(AND(TONGHOP!O5="ThiTN",TONGHOP!P5="LT"),TONGHOP!X5,"") | H5: =IF(AND(TONGHOP!O5="ThiTN",TONGHOP!P5="LT"),TONGHOP!Y5,"") | I5: =IF(AND(G5="",H5=""),"",IF(AND(TONGHOP!O5="ThiTN",TONGHOP!P5="LT"),TONGHOP!Z5,"")) | J5: =IF(AND(TONGHOP!O5="ThiTN",OR(TONGHOP!X5=TONGHOP!T5,TONGHOP!X5=TONGHOP!U5),TONGHOP!P5="TH"),TONGHOP!X5,"") | K5: =IF(AND(TONGHOP!O5="ThiTN",OR(TONGHOP!Y5=TONGHOP!T5,TONGHOP!Y5=TONGHOP!U5),TONGHOP!P5="TH"),TONGHOP!Y5,"") | L5: =IF(AND(J5="",K5=""),"",IF(AND(TONGHOP!O5="ThiTN",TONGHOP!P5="TH"),TONGHOP!Z5,"")) | M5: =IF(AND(TONGHOP!O5="ThiTN",AND(TONGHOP!X5<>TONGHOP!T5,TONGHOP!X5<>TONGHOP!U5),TONGHOP!P5="TH"),TONGHOP!X5,"") | N5: =IF(AND(TONGHOP!O5="ThiTN",AND(TONGHOP!Y5<>TONGHOP!T5,TONGHOP!Y5<>TONGHOP!U5),TONGHOP!P5="TH"),TONGHOP!Y5,"") | O5: =IF(AND(M5="",N5=""),"",IF(AND(TONGHOP!O5="ThiTN",TONGHOP!P5="TH"),TONGHOP!Z5,""))
A6: =IF(AND(TONGHOP!O6="KTHP",TONGHOP!P6="LT"),TONGHOP!X6,"") | B6: =IF(AND(TONGHOP!O6="KTHP",TONGHOP!P6="LT"),TONGHOP!Y6,"") | C6: =IF(AND(TONGHOP!O6="KTHP",TONGHOP!P6="LT"),TONGHOP!Z6,"") | D6: =IF(AND(TONGHOP!O6="KTHP",TONGHOP!P6="TL"),TONGHOP!X6,"") | E6: =IF(AND(TONGHOP!O6="KTHP",TONGHOP!P6="TL"),TONGHOP!Y6,"") | F6: =IF(AND(TONGHOP!O6="KTHP",TONGHOP!P6="TL"),TONGHOP!Z6,"") | G6: =IF(AND(TONGHOP!O6="ThiTN",TONGHOP!P6="LT"),TONGHOP!X6,"") | H6: =IF(AND(TONGHOP!O6="ThiTN",TONGHOP!P6="LT"),TONGHOP!Y6,"") | I6: =IF(AND(G6="",H6=""),"",IF(AND(TONGHOP!O6="ThiTN",TONGHOP!P6="LT"),TONGHOP!Z6,"")) | J6: =IF(AND(TONGHOP!O6="ThiTN",OR(TONGHOP!X6=TONGHOP!T6,TONGHOP!X6=TONGHOP!U6),TONGHOP!P6="TH"),TONGHOP!X6,"") | K6: =IF(AND(TONGHOP!O6="ThiTN",OR(TONGHOP!Y6=TONGHOP!T6,TONGHOP!Y6=TONGHOP!U6),TONGHOP!P6="TH"),TONGHOP!Y6,"") | L6: =IF(AND(J6="",K6=""),"",IF(AND(TONGHOP!O6="ThiTN",TONGHOP!P6="TH"),TONGHOP!Z6,"")) | M6: =IF(AND(TONGHOP!O6="ThiTN",AND(TONGHOP!X6<>TONGHOP!T6,TONGHOP!X6<>TONGHOP!U6),TONGHOP!P6="TH"),TONGHOP!X6,"") | N6: =IF(AND(TONGHOP!O6="ThiTN",AND(TONGHOP!Y6<>TONGHOP!T6,TONGHOP!Y6<>TONGHOP!U6),TONGHOP!P6="TH"),TONGHOP!Y6,"") | O6: =IF(AND(M6="",N6=""),"",IF(AND(TONGHOP!O6="ThiTN",TONGHOP!P6="TH"),TONGHOP!Z6,""))
A7: =IF(AND(TONGHOP!O7="KTHP",TONGHOP!P7="LT"),TONGHOP!X7,"") | B7: =IF(AND(TONGHOP!O7="KTHP",TONGHOP!P7="LT"),TONGHOP!Y7,"") | C7: =IF(AND(TONGHOP!O7="KTHP",TONGHOP!P7="LT"),TONGHOP!Z7,"") | D7: =IF(AND(TONGHOP!O7="KTHP",TONGHOP!P7="TL"),TONGHOP!X7,"") | E7: =IF(AND(TONGHOP!O7="KTHP",TONGHOP!P7="TL"),TONGHOP!Y7,"") | F7: =IF(AND(TONGHOP!O7="KTHP",TONGHOP!P7="TL"),TONGHOP!Z7,"") | G7: =IF(AND(TONGHOP!O7="ThiTN",TONGHOP!P7="LT"),TONGHOP!X7,"") | H7: =IF(AND(TONGHOP!O7="ThiTN",TONGHOP!P7="LT"),TONGHOP!Y7,"") | I7: =IF(AND(G7="",H7=""),"",IF(AND(TONGHOP!O7="ThiTN",TONGHOP!P7="LT"),TONGHOP!Z7,"")) | J7: =IF(AND(TONGHOP!O7="ThiTN",OR(TONGHOP!X7=TONGHOP!T7,TONGHOP!X7=TONGHOP!U7),TONGHOP!P7="TH"),TONGHOP!X7,"") | K7: =IF(AND(TONGHOP!O7="ThiTN",OR(TONGHOP!Y7=TONGHOP!T7,TONGHOP!Y7=TONGHOP!U7),TONGHOP!P7="TH"),TONGHOP!Y7,"") | L7: =IF(AND(J7="",K7=""),"",IF(AND(TONGHOP!O7="ThiTN",TONGHOP!P7="TH"),TONGHOP!Z7,"")) | M7: =IF(AND(TONGHOP!O7="ThiTN",AND(TONGHOP!X7<>TONGHOP!T7,TONGHOP!X7<>TONGHOP!U7),TONGHOP!P7="TH"),TONGHOP!X7,"") | N7: =IF(AND(TONGHOP!O7="ThiTN",AND(TONGHOP!Y7<>TONGHOP!T7,TONGHOP!Y7<>TONGHOP!U7),TONGHOP!P7="TH"),TONGHOP!Y7,"") | O7: =IF(AND(M7="",N7=""),"",IF(AND(TONGHOP!O7="ThiTN",TONGHOP!P7="TH"),TONGHOP!Z7,""))
A8: =IF(AND(TONGHOP!O8="KTHP",TONGHOP!P8="LT"),TONGHOP!X8,"") | B8: =IF(AND(TONGHOP!O8="KTHP",TONGHOP!P8="LT"),TONGHOP!Y8,"") | C8: =IF(AND(TONGHOP!O8="KTHP",TONGHOP!P8="LT"),TONGHOP!Z8,"") | D8: =IF(AND(TONGHOP!O8="KTHP",TONGHOP!P8="TL"),TONGHOP!X8,"") | E8: =IF(AND(TONGHOP!O8="KTHP",TONGHOP!P8="TL"),TONGHOP!Y8,"") | F8: =IF(AND(TONGHOP!O8="KTHP",TONGHOP!P8="TL"),TONGHOP!Z8,"") | G8: =IF(AND(TONGHOP!O8="ThiTN",TONGHOP!P8="LT"),TONGHOP!X8,"") | H8: =IF(AND(TONGHOP!O8="ThiTN",TONGHOP!P8="LT"),TONGHOP!Y8,"") | I8: =IF(AND(G8="",H8=""),"",IF(AND(TONGHOP!O8="ThiTN",TONGHOP!P8="LT"),TONGHOP!Z8,"")) | J8: =IF(AND(TONGHOP!O8="ThiTN",OR(TONGHOP!X8=TONGHOP!T8,TONGHOP!X8=TONGHOP!U8),TONGHOP!P8="TH"),TONGHOP!X8,"") | K8: =IF(AND(TONGHOP!O8="ThiTN",OR(TONGHOP!Y8=TONGHOP!T8,TONGHOP!Y8=TONGHOP!U8),TONGHOP!P8="TH"),TONGHOP!Y8,"") | L8: =IF(AND(J8="",K8=""),"",IF(AND(TONGHOP!O8="ThiTN",TONGHOP!P8="TH"),TONGHOP!Z8,"")) | M8: =IF(AND(TONGHOP!O8="ThiTN",AND(TONGHOP!X8<>TONGHOP!T8,TONGHOP!X8<>TONGHOP!U8),TONGHOP!P8="TH"),TONGHOP!X8,"") | N8: =IF(AND(TONGHOP!O8="ThiTN",AND(TONGHOP!Y8<>TONGHOP!T8,TONGHOP!Y8<>TONGHOP!U8),TONGHOP!P8="TH"),TONGHOP!Y8,"") | O8: =IF(AND(M8="",N8=""),"",IF(AND(TONGHOP!O8="ThiTN",TONGHOP!P8="TH"),TONGHOP!Z8,""))
A9: =IF(AND(TONGHOP!O9="KTHP",TONGHOP!P9="LT"),TONGHOP!X9,"") | B9: =IF(AND(TONGHOP!O9="KTHP",TONGHOP!P9="LT"),TONGHOP!Y9,"") | C9: =IF(AND(TONGHOP!O9="KTHP",TONGHOP!P9="LT"),TONGHOP!Z9,"") | D9: =IF(AND(TONGHOP!O9="KTHP",TONGHOP!P9="TL"),TONGHOP!X9,"") | E9: =IF(AND(TONGHOP!O9="KTHP",TONGHOP!P9="TL"),TONGHOP!Y9,"") | F9: =IF(AND(TONGHOP!O9="KTHP",TONGHOP!P9="TL"),TONGHOP!Z9,"") | G9: =IF(AND(TONGHOP!O9="ThiTN",TONGHOP!P9="LT"),TONGHOP!X9,"") | H9: =IF(AND(TONGHOP!O9="ThiTN",TONGHOP!P9="LT"),TONGHOP!Y9,"") | I9: =IF(AND(G9="",H9=""),"",IF(AND(TONGHOP!O9="ThiTN",TONGHOP!P9="LT"),TONGHOP!Z9,"")) | J9: =IF(AND(TONGHOP!O9="ThiTN",OR(TONGHOP!X9=TONGHOP!T9,TONGHOP!X9=TONGHOP!U9),TONGHOP!P9="TH"),TONGHOP!X9,"") | K9: =IF(AND(TONGHOP!O9="ThiTN",OR(TONGHOP!Y9=TONGHOP!T9,TONGHOP!Y9=TONGHOP!U9),TONGHOP!P9="TH"),TONGHOP!Y9,"") | L9: =IF(AND(J9="",K9=""),"",IF(AND(TONGHOP!O9="ThiTN",TONGHOP!P9="TH"),TONGHOP!Z9,"")) | M9: =IF(AND(TONGHOP!O9="ThiTN",AND(TONGHOP!X9<>TONGHOP!T9,TONGHOP!X9<>TONGHOP!U9),TONGHOP!P9="TH"),TONGHOP!X9,"") | N9: =IF(AND(TONGHOP!O9="ThiTN",AND(TONGHOP!Y9<>TONGHOP!T9,TONGHOP!Y9<>TONGHOP!U9),TONGHOP!P9="TH"),TONGHOP!Y9,"") | O9: =IF(AND(M9="",N9=""),"",IF(AND(TONGHOP!O9="ThiTN",TONGHOP!P9="TH"),TONGHOP!Z9,""))
A10: =IF(AND(TONGHOP!O10="KTHP",TONGHOP!P10="LT"),TONGHOP!X10,"") | B10: =IF(AND(TONGHOP!O10="KTHP",TONGHOP!P10="LT"),TONGHOP!Y10,"") | C10: =IF(AND(TONGHOP!O10="KTHP",TONGHOP!P10="LT"),TONGHOP!Z10,"") | D10: =IF(AND(TONGHOP!O10="KTHP",TONGHOP!P10="TL"),TONGHOP!X10,"") | E10: =IF(AND(TONGHOP!O10="KTHP",TONGHOP!P10="TL"),TONGHOP!Y10,"") | F10: =IF(AND(TONGHOP!O10="KTHP",TONGHOP!P10="TL"),TONGHOP!Z10,"") | G10: =IF(AND(TONGHOP!O10="ThiTN",TONGHOP!P10="LT"),TONGHOP!X10,"") | H10: =IF(AND(TONGHOP!O10="ThiTN",TONGHOP!P10="LT"),TONGHOP!Y10,"") | I10: =IF(AND(G10="",H10=""),"",IF(AND(TONGHOP!O10="ThiTN",TONGHOP!P10="LT"),TONGHOP!Z10,"")) | J10: =IF(AND(TONGHOP!O10="ThiTN",OR(TONGHOP!X10=TONGHOP!T10,TONGHOP!X10=TONGHOP!U10),TONGHOP!P10="TH"),TONGHOP!X10,"") | K10: =IF(AND(TONGHOP!O10="ThiTN",OR(TONGHOP!Y10=TONGHOP!T10,TONGHOP!Y10=TONGHOP!U10),TONGHOP!P10="TH"),TONGHOP!Y10,"") | L10: =IF(AND(J10="",K10=""),"",IF(AND(TONGHOP!O10="ThiTN",TONGHOP!P10="TH"),TONGHOP!Z10,"")) | M10: =IF(AND(TONGHOP!O10="ThiTN",AND(TONGHOP!X10<>TONGHOP!T10,TONGHOP!X10<>TONGHOP!U10),TONGHOP!P10="TH"),TONGHOP!X10,"") | N10: =IF(AND(TONGHOP!O10="ThiTN",AND(TONGHOP!Y10<>TONGHOP!T10,TONGHOP!Y10<>TONGHOP!U10),TONGHOP!P10="TH"),TONGHOP!Y10,"") | O10: =IF(AND(M10="",N10=""),"",IF(AND(TONGHOP!O10="ThiTN",TONGHOP!P10="TH"),TONGHOP!Z10,""))
A11: =IF(AND(TONGHOP!O11="KTHP",TONGHOP!P11="LT"),TONGHOP!X11,"") | B11: =IF(AND(TONGHOP!O11="KTHP",TONGHOP!P11="LT"),TONGHOP!Y11,"") | C11: =IF(AND(TONGHOP!O11="KTHP",TONGHOP!P11="LT"),TONGHOP!Z11,"") | D11: =IF(AND(TONGHOP!O11="KTHP",TONGHOP!P11="TL"),TONGHOP!X11,"") | E11: =IF(AND(TONGHOP!O11="KTHP",TONGHOP!P11="TL"),TONGHOP!Y11,"") | F11: =IF(AND(TONGHOP!O11="KTHP",TONGHOP!P11="TL"),TONGHOP!Z11,"") | G11: =IF(AND(TONGHOP!O11="ThiTN",TONGHOP!P11="LT"),TONGHOP!X11,"") | H11: =IF(AND(TONGHOP!O11="ThiTN",TONGHOP!P11="LT"),TONGHOP!Y11,"") | I11: =IF(AND(G11="",H11=""),"",IF(AND(TONGHOP!O11="ThiTN",TONGHOP!P11="LT"),TONGHOP!Z11,"")) | J11: =IF(AND(TONGHOP!O11="ThiTN",OR(TONGHOP!X11=TONGHOP!T11,TONGHOP!X11=TONGHOP!U11),TONGHOP!P11="TH"),TONGHOP!X11,"") | K11: =IF(AND(TONGHOP!O11="ThiTN",OR(TONGHOP!Y11=TONGHOP!T11,TONGHOP!Y11=TONGHOP!U11),TONGHOP!P11="TH"),TONGHOP!Y11,"") | L11: =IF(AND(J11="",K11=""),"",IF(AND(TONGHOP!O11="ThiTN",TONGHOP!P11="TH"),TONGHOP!Z11,"")) | M11: =IF(AND(TONGHOP!O11="ThiTN",AND(TONGHOP!X11<>TONGHOP!T11,TONGHOP!X11<>TONGHOP!U11),TONGHOP!P11="TH"),TONGHOP!X11,"") | N11: =IF(AND(TONGHOP!O11="ThiTN",AND(TONGHOP!Y11<>TONGHOP!T11,TONGHOP!Y11<>TONGHOP!U11),TONGHOP!P11="TH"),TONGHOP!Y11,"") | O11: =IF(AND(M11="",N11=""),"",IF(AND(TONGHOP!O11="ThiTN",TONGHOP!P11="TH"),TONGHOP!Z11,""))
A12: =IF(AND(TONGHOP!O12="KTHP",TONGHOP!P12="LT"),TONGHOP!X12,"") | B12: =IF(AND(TONGHOP!O12="KTHP",TONGHOP!P12="LT"),TONGHOP!Y12,"") | C12: =IF(AND(TONGHOP!O12="KTHP",TONGHOP!P12="LT"),TONGHOP!Z12,"") | D12: =IF(AND(TONGHOP!O12="KTHP",TONGHOP!P12="TL"),TONGHOP!X12,"") | E12: =IF(AND(TONGHOP!O12="KTHP",TONGHOP!P12="TL"),TONGHOP!Y12,"") | F12: =IF(AND(TONGHOP!O12="KTHP",TONGHOP!P12="TL"),TONGHOP!Z12,"") | G12: =IF(AND(TONGHOP!O12="ThiTN",TONGHOP!P12="LT"),TONGHOP!X12,"") | H12: =IF(AND(TONGHOP!O12="ThiTN",TONGHOP!P12="LT"),TONGHOP!Y12,"") | I12: =IF(AND(G12="",H12=""),"",IF(AND(TONGHOP!O12="ThiTN",TONGHOP!P12="LT"),TONGHOP!Z12,"")) | J12: =IF(AND(TONGHOP!O12="ThiTN",OR(TONGHOP!X12=TONGHOP!T12,TONGHOP!X12=TONGHOP!U12),TONGHOP!P12="TH"),TONGHOP!X12,"") | K12: =IF(AND(TONGHOP!O12="ThiTN",OR(TONGHOP!Y12=TONGHOP!T12,TONGHOP!Y12=TONGHOP!U12),TONGHOP!P12="TH"),TONGHOP!Y12,"") | L12: =IF(AND(J12="",K12=""),"",IF(AND(TONGHOP!O12="ThiTN",TONGHOP!P12="TH"),TONGHOP!Z12,"")) | M12: =IF(AND(TONGHOP!O12="ThiTN",AND(TONGHOP!X12<>TONGHOP!T12,TONGHOP!X12<>TONGHOP!U12),TONGHOP!P12="TH"),TONGHOP!X12,"") | N12: =IF(AND(TONGHOP!O12="ThiTN",AND(TONGHOP!Y12<>TONGHOP!T12,TONGHOP!Y12<>TONGHOP!U12),TONGHOP!P12="TH"),TONGHOP!Y12,"") | O12: =IF(AND(M12="",N12=""),"",IF(AND(TONGHOP!O12="ThiTN",TONGHOP!P12="TH"),TONGHOP!Z12,""))
A13: =IF(AND(TONGHOP!O13="KTHP",TONGHOP!P13="LT"),TONGHOP!X13,"") | B13: =IF(AND(TONGHOP!O13="KTHP",TONGHOP!P13="LT"),TONGHOP!Y13,"") | C13: =IF(AND(TONGHOP!O13="KTHP",TONGHOP!P13="LT"),TONGHOP!Z13,"") | D13: =IF(AND(TONGHOP!O13="KTHP",TONGHOP!P13="TL"),TONGHOP!X13,"") | E13: =IF(AND(TONGHOP!O13="KTHP",TONGHOP!P13="TL"),TONGHOP!Y13,"") | F13: =IF(AND(TONGHOP!O13="KTHP",TONGHOP!P13="TL"),TONGHOP!Z13,"") | G13: =IF(AND(TONGHOP!O13="ThiTN",TONGHOP!P13="LT"),TONGHOP!X13,"") | H13: =IF(AND(TONGHOP!O13="ThiTN",TONGHOP!P13="LT"),TONGHOP!Y13,"") | I13: =IF(AND(G13="",H13=""),"",IF(AND(TONGHOP!O13="ThiTN",TONGHOP!P13="LT"),TONGHOP!Z13,"")) | J13: =IF(AND(TONGHOP!O13="ThiTN",OR(TONGHOP!X13=TONGHOP!T13,TONGHOP!X13=TONGHOP!U13),TONGHOP!P13="TH"),TONGHOP!X13,"") | K13: =IF(AND(TONGHOP!O13="ThiTN",OR(TONGHOP!Y13=TONGHOP!T13,TONGHOP!Y13=TONGHOP!U13),TONGHOP!P13="TH"),TONGHOP!Y13,"") | L13: =IF(AND(J13="",K13=""),"",IF(AND(TONGHOP!O13="ThiTN",TONGHOP!P13="TH"),TONGHOP!Z13,"")) | M13: =IF(AND(TONGHOP!O13="ThiTN",AND(TONGHOP!X13<>TONGHOP!T13,TONGHOP!X13<>TONGHOP!U13),TONGHOP!P13="TH"),TONGHOP!X13,"") | N13: =IF(AND(TONGHOP!O13="ThiTN",AND(TONGHOP!Y13<>TONGHOP!T13,TONGHOP!Y13<>TONGHOP!U13),TONGHOP!P13="TH"),TONGHOP!Y13,"") | O13: =IF(AND(M13="",N13=""),"",IF(AND(TONGHOP!O13="ThiTN",TONGHOP!P13="TH"),TONGHOP!Z13,""))
... A1501: =IF(AND(TONGHOP!O1501="KTHP",TONGHOP!P1501="LT"),TONGHOP!X1501,"") | B1501: =IF(AND(TONGHOP!O1501="KTHP",TONGHOP!P1501="LT"),TONGHOP!Y1501,"") | C1501: =IF(AND(TONGHOP!O1501="KTHP",TONGHOP!P1501="LT"),TONGHOP!Z1501,"") | D1501: =IF(AND(TONGHOP!O1501="KTHP",TONGHOP!P1501="TL"),TONGHOP!X1501,"") | E1501: =IF(AND(TONGHOP!O1501="KTHP",TONGHOP!P1501="TL"),TONGHOP!Y1501,"") | F1501: =IF(AND(TONGHOP!O1501="KTHP",TONGHOP!P1501="TL"),TONGHOP!Z1501,"") | G1501: =IF(AND(TONGHOP!O1501="ThiTN",TONGHOP!P1501="LT"),TONGHOP!X1501,"") | H1501: =IF(AND(TONGHOP!O1501="ThiTN",TONGHOP!P1501="LT"),TONGHOP!Y1501,"") | I1501: =IF(AND(G1501="",H1501=""),"",IF(AND(TONGHOP!O1501="ThiTN",TONGHOP!P1501="LT"),TONGHOP!Z1501,"")) | J1501: =IF(AND(TONGHOP!O1501="ThiTN",OR(TONGHOP!X1501=TONGHOP!T1501,TONGHOP!X1501=TONGHOP!U1501),TONGHOP!P1501="TH"),TONGHOP!X1501,"") | K1501: =IF(AND(TONGHOP!O1501="ThiTN",OR(TONGHOP!Y1501=TONGHOP!T1501,TONGHOP!Y1501=TONGHOP!U1501),TONGHOP!P1501="TH"),TONGHOP!Y1501,"") | L1501: =IF(AND(J1501="",K1501=""),"",IF(AND(TONGHOP!O1501="ThiTN",TONGHOP!P1501="TH"),TONGHOP!Z1501,"")) | M1501: =IF(AND(TONGHOP!O1501="ThiTN",AND(TONGHOP!X1501<>TONGHOP!T1501,TONGHOP!X1501<>TONGHOP!U1501),TONGHOP!P1501="TH"),TONGHOP!X1501,"") | N1501: =IF(AND(TONGHOP!O1501="ThiTN",AND(TONGHOP!Y1501<>TONGHOP!T1501,TONGHOP!Y1501<>TONGHOP!U1501),TONGHOP!P1501="TH"),TONGHOP!Y1501,"") | O1501: =IF(AND(M1501="",N1501=""),"",IF(AND(TONGHOP!O1501="ThiTN",TONGHOP!P1501="TH"),TONGHOP!Z1501,""))

Sheet CHAM NV
A1: STLT | B1: GV CHẤM LT NV | C1: SỐ BÀI LT NV | D1: STTN | E1: GV CHẤM TL NV | F1: SỐ BÀI TL NV
A2: =IF(C2="","",SUBTOTAL(3,$C$2:$C2)) | B2: =IF(AND(TONGHOP!O2="KTHP",TONGHOP!P2="LT",TONGHOP!H2<>""),TONGHOP!H2,"") | C2: =IF(AND(TONGHOP!O2="KTHP",TONGHOP!P2="LT",TONGHOP!H2<>""),TONGHOP!R2,"") | D2: =IF(F2="","",SUBTOTAL(3,$F$2:$F2)) | E2: =IF(AND(TONGHOP!O2="KTHP",TONGHOP!P2="TL",TONGHOP!H2<>""),TONGHOP!H2,"") | F2: =IF(AND(TONGHOP!O2="KTHP",TONGHOP!P2="TL",TONGHOP!H2<>""),TONGHOP!R2,"")
A3: =IF(C3="","",SUBTOTAL(3,$C$2:$C3)) | B3: =IF(AND(TONGHOP!O3="KTHP",TONGHOP!P3="LT",TONGHOP!H3<>""),TONGHOP!H3,"") | C3: =IF(AND(TONGHOP!O3="KTHP",TONGHOP!P3="LT",TONGHOP!H3<>""),TONGHOP!R3,"") | D3: =IF(F3="","",SUBTOTAL(3,$F$2:$F3)) | E3: =IF(AND(TONGHOP!O3="KTHP",TONGHOP!P3="TL",TONGHOP!H3<>""),TONGHOP!H3,"") | F3: =IF(AND(TONGHOP!O3="KTHP",TONGHOP!P3="TL",TONGHOP!H3<>""),TONGHOP!R3,"")
A4: =IF(C4="","",SUBTOTAL(3,$C$2:$C4)) | B4: =IF(AND(TONGHOP!O4="KTHP",TONGHOP!P4="LT",TONGHOP!H4<>""),TONGHOP!H4,"") | C4: =IF(AND(TONGHOP!O4="KTHP",TONGHOP!P4="LT",TONGHOP!H4<>""),TONGHOP!R4,"") | D4: =IF(F4="","",SUBTOTAL(3,$F$2:$F4)) | E4: =IF(AND(TONGHOP!O4="KTHP",TONGHOP!P4="TL",TONGHOP!H4<>""),TONGHOP!H4,"") | F4: =IF(AND(TONGHOP!O4="KTHP",TONGHOP!P4="TL",TONGHOP!H4<>""),TONGHOP!R4,"")
A5: =IF(C5="","",SUBTOTAL(3,$C$2:$C5)) | B5: =IF(AND(TONGHOP!O5="KTHP",TONGHOP!P5="LT",TONGHOP!H5<>""),TONGHOP!H5,"") | C5: =IF(AND(TONGHOP!O5="KTHP",TONGHOP!P5="LT",TONGHOP!H5<>""),TONGHOP!R5,"") | D5: =IF(F5="","",SUBTOTAL(3,$F$2:$F5)) | E5: =IF(AND(TONGHOP!O5="KTHP",TONGHOP!P5="TL",TONGHOP!H5<>""),TONGHOP!H5,"") | F5: =IF(AND(TONGHOP!O5="KTHP",TONGHOP!P5="TL",TONGHOP!H5<>""),TONGHOP!R5,"")
A6: =IF(C6="","",SUBTOTAL(3,$C$2:$C6)) | B6: =IF(AND(TONGHOP!O6="KTHP",TONGHOP!P6="LT",TONGHOP!H6<>""),TONGHOP!H6,"") | C6: =IF(AND(TONGHOP!O6="KTHP",TONGHOP!P6="LT",TONGHOP!H6<>""),TONGHOP!R6,"") | D6: =IF(F6="","",SUBTOTAL(3,$F$2:$F6)) | E6: =IF(AND(TONGHOP!O6="KTHP",TONGHOP!P6="TL",TONGHOP!H6<>""),TONGHOP!H6,"") | F6: =IF(AND(TONGHOP!O6="KTHP",TONGHOP!P6="TL",TONGHOP!H6<>""),TONGHOP!R6,"")
A7: =IF(C7="","",SUBTOTAL(3,$C$2:$C7)) | B7: =IF(AND(TONGHOP!O7="KTHP",TONGHOP!P7="LT",TONGHOP!H7<>""),TONGHOP!H7,"") | C7: =IF(AND(TONGHOP!O7="KTHP",TONGHOP!P7="LT",TONGHOP!H7<>""),TONGHOP!R7,"") | D7: =IF(F7="","",SUBTOTAL(3,$F$2:$F7)) | E7: =IF(AND(TONGHOP!O7="KTHP",TONGHOP!P7="TL",TONGHOP!H7<>""),TONGHOP!H7,"") | F7: =IF(AND(TONGHOP!O7="KTHP",TONGHOP!P7="TL",TONGHOP!H7<>""),TONGHOP!R7,"")
A8: =IF(C8="","",SUBTOTAL(3,$C$2:$C8)) | B8: =IF(AND(TONGHOP!O8="KTHP",TONGHOP!P8="LT",TONGHOP!H8<>""),TONGHOP!H8,"") | C8: =IF(AND(TONGHOP!O8="KTHP",TONGHOP!P8="LT",TONGHOP!H8<>""),TONGHOP!R8,"") | D8: =IF(F8="","",SUBTOTAL(3,$F$2:$F8)) | E8: =IF(AND(TONGHOP!O8="KTHP",TONGHOP!P8="TL",TONGHOP!H8<>""),TONGHOP!H8,"") | F8: =IF(AND(TONGHOP!O8="KTHP",TONGHOP!P8="TL",TONGHOP!H8<>""),TONGHOP!R8,"")
A9: =IF(C9="","",SUBTOTAL(3,$C$2:$C9)) | B9: =IF(AND(TONGHOP!O9="KTHP",TONGHOP!P9="LT",TONGHOP!H9<>""),TONGHOP!H9,"") | C9: =IF(AND(TONGHOP!O9="KTHP",TONGHOP!P9="LT",TONGHOP!H9<>""),TONGHOP!R9,"") | D9: =IF(F9="","",SUBTOTAL(3,$F$2:$F9)) | E9: =IF(AND(TONGHOP!O9="KTHP",TONGHOP!P9="TL",TONGHOP!H9<>""),TONGHOP!H9,"") | F9: =IF(AND(TONGHOP!O9="KTHP",TONGHOP!P9="TL",TONGHOP!H9<>""),TONGHOP!R9,"")
A10: =IF(C10="","",SUBTOTAL(3,$C$2:$C10)) | B10: =IF(AND(TONGHOP!O10="KTHP",TONGHOP!P10="LT",TONGHOP!H10<>""),TONGHOP!H10,"") | C10: =IF(AND(TONGHOP!O10="KTHP",TONGHOP!P10="LT",TONGHOP!H10<>""),TONGHOP!R10,"") | D10: =IF(F10="","",SUBTOTAL(3,$F$2:$F10)) | E10: =IF(AND(TONGHOP!O10="KTHP",TONGHOP!P10="TL",TONGHOP!H10<>""),TONGHOP!H10,"") | F10: =IF(AND(TONGHOP!O10="KTHP",TONGHOP!P10="TL",TONGHOP!H10<>""),TONGHOP!R10,"")
A11: =IF(C11="","",SUBTOTAL(3,$C$2:$C11)) | B11: =IF(AND(TONGHOP!O11="KTHP",TONGHOP!P11="LT",TONGHOP!H11<>""),TONGHOP!H11,"") | C11: =IF(AND(TONGHOP!O11="KTHP",TONGHOP!P11="LT",TONGHOP!H11<>""),TONGHOP!R11,"") | D11: =IF(F11="","",SUBTOTAL(3,$F$2:$F11)) | E11: =IF(AND(TONGHOP!O11="KTHP",TONGHOP!P11="TL",TONGHOP!H11<>""),TONGHOP!H11,"") | F11: =IF(AND(TONGHOP!O11="KTHP",TONGHOP!P11="TL",TONGHOP!H11<>""),TONGHOP!R11,"")
A12: =IF(C12="","",SUBTOTAL(3,$C$2:$C12)) | B12: =IF(AND(TONGHOP!O12="KTHP",TONGHOP!P12="LT",TONGHOP!H12<>""),TONGHOP!H12,"") | C12: =IF(AND(TONGHOP!O12="KTHP",TONGHOP!P12="LT",TONGHOP!H12<>""),TONGHOP!R12,"") | D12: =IF(F12="","",SUBTOTAL(3,$F$2:$F12)) | E12: =IF(AND(TONGHOP!O12="KTHP",TONGHOP!P12="TL",TONGHOP!H12<>""),TONGHOP!H12,"") | F12: =IF(AND(TONGHOP!O12="KTHP",TONGHOP!P12="TL",TONGHOP!H12<>""),TONGHOP!R12,"")
A13: =IF(C13="","",SUBTOTAL(3,$C$2:$C13)) | B13: =IF(AND(TONGHOP!O13="KTHP",TONGHOP!P13="LT",TONGHOP!H13<>""),TONGHOP!H13,"") | C13: =IF(AND(TONGHOP!O13="KTHP",TONGHOP!P13="LT",TONGHOP!H13<>""),TONGHOP!R13,"") | D13: =IF(F13="","",SUBTOTAL(3,$F$2:$F13)) | E13: =IF(AND(TONGHOP!O13="KTHP",TONGHOP!P13="TL",TONGHOP!H13<>""),TONGHOP!H13,"") | F13: =IF(AND(TONGHOP!O13="KTHP",TONGHOP!P13="TL",TONGHOP!H13<>""),TONGHOP!R13,"")
... A1501: =IF(C1501="","",SUBTOTAL(3,$C$2:$C1501)) | B1501: =IF(AND(TONGHOP!O1501="KTHP",TONGHOP!P1501="LT",TONGHOP!H1501<>""),TONGHOP!H1501,"") | C1501: =IF(AND(TONGHOP!O1501="KTHP",TONGHOP!P1501="LT",TONGHOP!H1501<>""),TONGHOP!R1501,"") | D1501: =IF(F1501="","",SUBTOTAL(3,$F$2:$F1501)) | E1501: =IF(AND(TONGHOP!O1501="KTHP",TONGHOP!P1501="TL",TONGHOP!H1501<>""),TONGHOP!H1501,"") | F1501: =IF(AND(TONGHOP!O1501="KTHP",TONGHOP!P1501="TL",TONGHOP!H1501<>""),TONGHOP!R1501,"")
C1504: =SUBTOTAL(9,C2:C1501) -> 0 | F1504: =SUBTOTAL(9,F2:F1501) -> 0

Sheet DSCBGVNV
A1: STT | B1: MÃ NS | C1: HỌ VÀ TÊN | D1: PHÁI | E1: NGÀY SINH | F1: ĐƠN VỊ | G1: Chức vụ | H1: Tổ Chuyên môn
A2: =IF(E2="","",SUBTOTAL(3,$E$2:$E2)) -> 1 | B2: 01001001 | C2: Phạm Hữu Lộc | D2: Nam | E2: 24163 | F2: Ban Giám hiệu | G2: Hiệu trưởng
A3: =IF(E3="","",SUBTOTAL(3,$E$2:$E3)) -> 2 | B3: 01002001 | C3: Đinh Hồng Minh | D3: Nữ | E3: 25229 | F3: Ban Giám hiệu | G3: Phó Hiệu Trưởng
A4: =IF(E4="","",SUBTOTAL(3,$E$2:$E4)) -> 3 | B4: 01001006 | C4: Đinh Văn Đệ | D4: Nam | E4: 26523 | F4: Ban Giám hiệu | G4: Phó Hiệu Trưởng
A5: =IF(E5="","",SUBTOTAL(3,$E$2:$E5)) -> 4 | B5: 01001003 | C5: Nguyễn Văn Dũng | D5: Nam | E5: 21553 | F5: Ban Giám hiệu | G5: Phó Hiệu Trưởng
A6: =IF(E6="","",SUBTOTAL(3,$E$2:$E6)) -> 5 | B6: 01012005 | C6: Đỗ Thị Phương Khanh | D6: Nữ | E6: 27506 | F6: Khoa CN Cơ khí | G6: Giảng viên
A7: =IF(E7="","",SUBTOTAL(3,$E$2:$E7)) -> 6 | B7: 01012014 | C7: Dương Minh Chung | D7: Nam | E7: 28118 | F7: Khoa CN Cơ khí | G7: Giảng viên
A8: =IF(E8="","",SUBTOTAL(3,$E$2:$E8)) -> 7 | B8: 01012028 | C8: Dương Thị Hồng | D8: Nữ | E8: 32514 | F8: Khoa CN Cơ khí | G8: Giảng viên
A9: =IF(E9="","",SUBTOTAL(3,$E$2:$E9)) -> 8 | B9: 01012016 | C9: Lư Thị Yến Vũ | D9: Nữ | E9: 27899 | F9: Khoa CN Cơ khí | G9: Giảng viên
A10: =IF(E10="","",SUBTOTAL(3,$E$2:$E10)) -> 9 | B10: 01012017 | C10: Nguyễn Ngọc Quỳnh(CK) | D10: Nam | E10: 30639 | F10: Khoa CN Cơ khí | G10: Giảng viên
A11: =IF(E11="","",SUBTOTAL(3,$E$2:$E11)) -> 10 | B11: 01012002 | C11: Nguyễn Tam Cương | D11: Nam | E11: 23055 | F11: Khoa CN Cơ khí | G11: Giảng viên
A12: =IF(E12="","",SUBTOTAL(3,$E$2:$E12)) -> 11 | B12: 01012018 | C12: Nguyễn Thành Long | D12: Nam | E12: 27594 | F12: Khoa CN Cơ khí | G12: Giảng viên
A13: =IF(E13="","",SUBTOTAL(3,$E$2:$E13)) -> 12 | B13: 01012011 | C13: Nguyễn Thanh Vĩnh Phúc | D13: Nam | E13: 26387 | F13: Khoa CN Cơ khí | G13: Giảng viên
... A138: =IF(E138="","",SUBTOTAL(3,$E$2:$E138)) -> 137 | B138: 01015006 | C138: Nguyễn Văn Minh(TT) | D138: Nam | E138: 26173 | F138: Khoa CN Thông tin | G138: Trưởng khoa
A139: =IF(E139="","",SUBTOTAL(3,$E$2:$E139)) -> 138 | B139: 01010034 | C139: Đinh Trần Phương Thảo | D139: Nữ | E139: 32945 | F139: Khoa Khoa học cơ bản | G139: Giảng viên | H139: Tổ Anh văn
A140: =IF(E140="","",SUBTOTAL(3,$E$2:$E140)) -> 139 | B140: 01010009 | C140: Lê Nguyễn Mỹ Trâm | D140: Nữ | E140: 26233 | F140: Khoa Khoa học cơ bản | G140: Giảng viên | H140: Tổ Anh văn
A141: =IF(E141="","",SUBTOTAL(3,$E$2:$E141)) -> 140 | B141: 01010020 | C141: Nguyễn Thị Bảo Trân | D141: Nữ | E141: 28833 | F141: Khoa Khoa học cơ bản | G141: Giảng viên | H141: Tổ Anh văn
A142: =IF(E142="","",SUBTOTAL(3,$E$2:$E142)) -> 141 | B142: 01010027 | C142: Nguyễn Thị Thanh Tú | D142: Nữ | E142: 28731 | F142: Khoa Khoa học cơ bản | G142: Giảng viên | H142: Tổ Anh văn
A143: =IF(E143="","",SUBTOTAL(3,$E$2:$E143)) -> 142 | B143: 01010039 | C143: Nguyễn Thị Thu Hà | D143: Nữ | E143: 30062 | F143: Khoa Khoa học cơ bản | G143: Giảng viên | H143: Tổ Anh văn
A144: =IF(E144="","",SUBTOTAL(3,$E$2:$E144)) -> 143 | B144: 01010019 | C144: Nguyễn Thị Thu Tâm | D144: Nữ | E144: 28054 | F144: Khoa Khoa học cơ bản | G144: Giảng viên | H144: Tổ Anh văn
A145: =IF(E145="","",SUBTOTAL(3,$E$2:$E145)) -> 144 | B145: 01010040 | C145: Phạm Thị Thu Hiền | D145: Nữ | E145: 32298 | F145: Khoa Khoa học cơ bản | G145: Giảng viên | H145: Tổ Anh văn
A146: =IF(E146="","",SUBTOTAL(3,$E$2:$E146)) -> 145 | B146: 01010011 | C146: Trần Bạch Tuyết | D146: Nữ | E146: 22574 | F146: Khoa Khoa học cơ bản | G146: Giảng viên | H146: Tổ Anh văn
A147: =IF(E147="","",SUBTOTAL(3,$E$2:$E147)) -> 146 | B147: 01010010 | C147: Trương Thị Minh Hà | D147: Nữ | E147: 22949 | F147: Khoa Khoa học cơ bản | G147: Giảng viên | H147: Tổ Anh văn
A148: =IF(E148="","",SUBTOTAL(3,$E$2:$E148)) -> 147 | B148: 01010015 | C148: Võ Thị Hồng Lan | D148: Nữ | E148: 27032 | F148: Khoa Khoa học cơ bản | G148: Giảng viên | H148: Tổ Anh văn
A149: =IF(E149="","",SUBTOTAL(3,$E$2:$E149)) -> 148 | B149: 01010035 | C149: Võ Thị Ngọc Ngân | D149: Nữ | E149: 33187 | F149: Khoa Khoa học cơ bản | G149: Giảng viên | H149: Tổ Anh văn
A150: =IF(E150="","",SUBTOTAL(3,$E$2:$E150)) -> 149 | B150: 01010018 | C150: Vương Thanh Thủy | D150: Nữ | E150: 26636 | F150: Khoa Khoa học cơ bản | G150: Giảng viên | H150: Tổ Anh văn
... A196: =IF(E196="","",SUBTOTAL(3,$E$2:$E196)) -> 195 | B196: 01010007 | C196: Phạm Thị Thu Nga | D196: Nữ | E196: 28066 | F196: Khoa Khoa học cơ bản | G196: Tổ trưởng BM | H196: Tổ Toán
A197: =IF(E197="","",SUBTOTAL(3,$E$2:$E197)) -> 196 | B197: 01022007 | C197: Lê Phương Ngọc | D197: Nữ | E197: 30174 | F197: Khoa Khoa học cơ bản | G197: Giảng viên
A198: =IF(E198="","",SUBTOTAL(3,$E$2:$E198)) -> 197 | B198: 01007003 | C198: Nguyễn Thị Thảo | D198: Nữ | E198: 31445 | F198: Khoa Khoa học cơ bản | G198: Giáo vụ khoa
A199: =IF(E199="","",SUBTOTAL(3,$E$2:$E199)) -> 198 | B199: 01025003 | C199: Bùi Ánh Tuyết | D199: Nữ | E199: 32661 | F199: Khoa Kinh tế | G199: Giảng viên
A200: =IF(E200="","",SUBTOTAL(3,$E$2:$E200)) -> 199 | B200: 01025011 | C200: Đào Anh Tuấn | D200: Nam | E200: 33169 | F200: Khoa Kinh tế | G200: Giảng viên
A201: =IF(E201="","",SUBTOTAL(3,$E$2:$E201)) -> 200 | B201: 01025008 | C201: Lê Thị Thu Thảo | D201: Nữ | E201: 30609 | F201: Khoa Kinh tế | G201: Giảng viên
A202: =IF(E202="","",SUBTOTAL(3,$E$2:$E202)) -> 201 | B202: 01025005 | C202: Lê Xuân Thủy | D202: Nữ | E202: 29471 | F202: Khoa Kinh tế | G202: Giảng viên
A203: =IF(E203="","",SUBTOTAL(3,$E$2:$E203)) -> 202 | B203: 01025009 | C203: Lữ Xuân Trang | D203: Nữ | E203: 29298 | F203: Khoa Kinh tế | G203: Giảng viên
A204: =IF(E204="","",SUBTOTAL(3,$E$2:$E204)) -> 203 | B204: 01025002 | C204: Lưu Thị Thúy | D204: Nữ | E204: 29427 | F204: Khoa Kinh tế | G204: Giảng viên
A205: =IF(E205="","",SUBTOTAL(3,$E$2:$E205)) -> 204 | B205: 01025004 | C205: Phạm Quỳnh Như | D205: Nữ | E205: 30028 | F205: Khoa Kinh tế | G205: Tổ trưởng BM
A206: =IF(E206="","",SUBTOTAL(3,$E$2:$E206)) -> 205 | B206: 01025006 | C206: Phạm Thị Gia Tâm | D206: Nữ | E206: 31016 | F206: Khoa Kinh tế | G206: Giảng viên
A207: =IF(E207="","",SUBTOTAL(3,$E$2:$E207)) -> 206 | B207: 01025010 | C207: Phan Thị Huyền Trang | D207: Nữ | E207: 32130 | F207: Khoa Kinh tế | G207: Giảng viên
A208: =IF(E208="","",SUBTOTAL(3,$E$2:$E208)) -> 207 | B208: 01025007 | C208: Trịnh Hoàng Hiệp | D208: Nam | E208: 28335 | F208: Khoa Kinh tế | G208: Tổ trưởng BM
... A211: =IF(E211="","",SUBTOTAL(3,$E$2:$E211)) -> 210 | B211: 01025001 | C211: Nguyễn Trọng Nghĩa | D211: Nam | E211: 26404 | F211: Khoa Kinh tế | G211: Trưởng khoa
A212: =IF(E212="","",SUBTOTAL(3,$E$2:$E212)) -> 211 | B212: 01011009 | C212: Đinh Thị Huyên | D212: Nữ | E212: 30120 | F212: Khoa Lý luận Chính trị | G212: Giảng viên | H212: Tổ ĐLCM của ĐCSVN
A213: =IF(E213="","",SUBTOTAL(3,$E$2:$E213)) -> 212 | B213: 01011008 | C213: Đỗ Thị Thơm | D213: Nữ | E213: 30609 | F213: Khoa Lý luận Chính trị | G213: Giảng viên | H213: Tổ ĐLCM của ĐCSVN
A214: =IF(E214="","",SUBTOTAL(3,$E$2:$E214)) -> 213 | B214: 01011018 | C214: Hoàng Thị Trang | D214: Nữ | E214: 30325 | F214: Khoa Lý luận Chính trị | G214: Giảng viên | H214: Tổ ĐLCM của ĐCSVN
A215: =IF(E215="","",SUBTOTAL(3,$E$2:$E215)) -> 214 | B215: 01011001 | C215: Nguyễn Anh Kiệt | D215: Nam | E215: 23823 | F215: Khoa Lý luận Chính trị | G215: Giảng viên | H215: Tổ ĐLCM của ĐCSVN
A216: =IF(E216="","",SUBTOTAL(3,$E$2:$E216)) -> 215 | B216: 01011012 | C216: Nguyễn Ngọc Quỳnh(CT) | D216: Nam | E216: 29656 | F216: Khoa Lý luận Chính trị | G216: Phó trưởng khoa | H216: Tổ ĐLCM của ĐCSVN
A217: =IF(E217="","",SUBTOTAL(3,$E$2:$E217)) -> 216 | B217: 01011016 | C217: Đỗ Thị Ngát | D217: Nữ | E217: 31147 | F217: Khoa Lý luận Chính trị | G217: Giảng viên | H217: Tổ NNLCB của CNMLN
A218: =IF(E218="","",SUBTOTAL(3,$E$2:$E218)) -> 217 | B218: 01011013 | C218: Lê Thị Mai Hường | D218: Nữ | E218: 30900 | F218: Khoa Lý luận Chính trị | G218: Giảng viên | H218: Tổ NNLCB của CNMLN
A219: =IF(E219="","",SUBTOTAL(3,$E$2:$E219)) -> 218 | B219: 01011005 | C219: Nguyễn Thị Dinh | D219: Nữ | E219: 27760 | F219: Khoa Lý luận Chính trị | G219: Giảng viên | H219: Tổ NNLCB của CNMLN
A220: =IF(E220="","",SUBTOTAL(3,$E$2:$E220)) -> 219 | B220: 01011006 | C220: Phạm Thị Vinh | D220: Nữ | E220: 29514 | F220: Khoa Lý luận Chính trị | G220: Giảng viên | H220: Tổ NNLCB của CNMLN
A221: =IF(E221="","",SUBTOTAL(3,$E$2:$E221)) -> 220 | B221: 01011002 | C221: Lê Thị Hồng Vân | D221: Nữ | E221: 29469 | F221: Khoa Lý luận Chính trị | G221: Phó trưởng khoa | H221: Tổ NNLCB của CNMLN
A222: =IF(E222="","",SUBTOTAL(3,$E$2:$E222)) -> 221 | B222: 01011011 | C222: Bùi Thành Dũng | D222: Nam | E222: 25691 | F222: Khoa Lý luận Chính trị | G222: Giảng viên | H222: Tổ Pháp luật
A223: =IF(E223="","",SUBTOTAL(3,$E$2:$E223)) -> 222 | B223: 01011003 | C223: Nguyễn Thị Mai | D223: Nữ | E223: 22735 | F223: Khoa Lý luận Chính trị | G223: Giảng viên | H223: Tổ Pháp luật
... A229: =IF(E229="","",SUBTOTAL(3,$E$2:$E229)) -> 228 | B229: 01011014 | C229: Trần Văn Lượng | D229: Nam | E229: 29077 | F229: Khoa Lý luận Chính trị | G229: Giảng viên | H229: Tổ TTHCM
A230: =IF(E230="","",SUBTOTAL(3,$E$2:$E230)) -> 229 | B230: 01011017 | C230: Sỹ Thị Chung | D230: Nữ | E230: 31716 | F230: Khoa Lý luận Chính trị | G230: Giáo vụ khoa
A231: =IF(E231="","",SUBTOTAL(3,$E$2:$E231)) -> 230 | B231: 01009026 | C231: Bùi Đức Phước | D231: Nam | E231: 34135 | F231: Phòng CTCT-HSSV | G231: Nhân viên
A232: =IF(E232="","",SUBTOTAL(3,$E$2:$E232)) -> 231 | B232: 01009013 | C232: Bùi Hiền Lương | D232: Nam | E232: 21387 | F232: Phòng CTCT-HSSV | G232: Nhân viên
A233: =IF(E233="","",SUBTOTAL(3,$E$2:$E233)) -> 232 | B233: 01009014 | C233: Bùi Thị Dương | D233: Nữ | E233: 28712 | F233: Phòng CTCT-HSSV | G233: Nhân viên
A234: =IF(E234="","",SUBTOTAL(3,$E$2:$E234)) -> 233 | B234: 01009005 | C234: Hà Nhật Thanh | D234: Nam | E234: 22661 | F234: Phòng CTCT-HSSV | G234: Nhân viên
A235: =IF(E235="","",SUBTOTAL(3,$E$2:$E235)) -> 234 | B235: 01009019 | C235: Huỳnh Văn Hiếu | D235: Nam | E235: 30362 | F235: Phòng CTCT-HSSV | G235: Nhân viên
A236: =IF(E236="","",SUBTOTAL(3,$E$2:$E236)) -> 235 | B236: 01009012 | C236: Lê Thị Nữ | D236: Nữ | E236: 24702 | F236: Phòng CTCT-HSSV | G236: Nhân viên
A237: =IF(E237="","",SUBTOTAL(3,$E$2:$E237)) -> 236 | B237: 01009006 | C237: Nguyễn Ngọc Hiệp | D237: Nam | E237: 26665 | F237: Phòng CTCT-HSSV | G237: Nhân viên
A238: =IF(E238="","",SUBTOTAL(3,$E$2:$E238)) -> 237 | B238: 01009008 | C238: Nguyễn Tất Thắng | D238: Nam | E238: 24315 | F238: Phòng CTCT-HSSV | G238: Nhân viên
A239: =IF(E239="","",SUBTOTAL(3,$E$2:$E239)) -> 238 | B239: 01009018 | C239: Nguyễn Thị Kim Anh | D239: Nữ | E239: 27571 | F239: Phòng CTCT-HSSV | G239: Nhân viên
A240: =IF(E240="","",SUBTOTAL(3,$E$2:$E240)) -> 239 | B240: 01018006 | C240: Nguyễn Thị Nhung | D240: Nữ | E240: 29945 | F240: Phòng CTCT-HSSV | G240: Nhân viên
A241: =IF(E241="","",SUBTOTAL(3,$E$2:$E241)) -> 240 | B241: 01002008 | C241: Nguyễn Trung Dũng | D241: Nam | E241: 30234 | F241: Phòng CTCT-HSSV | G241: Nhân viên
... A430: =IF(E430="","",SUBTOTAL(3,$E$2:$E430)) -> 429 | B430: 01021001 | C430: Trang Thị Xuân Uyên | D430: Nữ | E430: 25637 | F430: TT Y tế | G430: Trưởng trạm
A431: =IF(E431="","",SUBTOTAL(3,$E$2:$E431))
A432: =IF(E432="","",SUBTOTAL(3,$E$2:$E432))

Sheet Kiểm tra chưa gửi file đề thi
A1: Ngày thi | B1: CKHI | C1: LỚP HỌC PHẦN | D1: GIẢNG VIÊN GIẢNG DẠY | E1: HÌNH THỨC
A2: =IF(AND(TONGHOP!N2=$B$1,OR(TONGHOP!O2="ThiTN",TONGHOP!P2="LT",TONGHOP!P2="TN"),TONGHOP!J2=""),TONGHOP!B2,"") | B2: =IF(AND(TONGHOP!N2=$B$1,OR(TONGHOP!O2="ThiTN",TONGHOP!P2="LT",TONGHOP!P2="TN"),TONGHOP!J2=""),TONGHOP!G2,"") | C2: =IF(AND(TONGHOP!N2=$B$1,OR(TONGHOP!O2="ThiTN",TONGHOP!P2="LT",TONGHOP!P2="TN"),TONGHOP!J2=""),TONGHOP!E2,"") | D2: =IF(AND(TONGHOP!N2=$B$1,OR(TONGHOP!O2="ThiTN",TONGHOP!P2="LT",TONGHOP!P2="TN"),TONGHOP!J2=""),TONGHOP!H2,"") | E2: =IF(AND(TONGHOP!N2=$B$1,OR(TONGHOP!O2="ThiTN",TONGHOP!P2="LT",TONGHOP!P2="TN"),TONGHOP!J2=""),TONGHOP!P2,"")
A3: =IF(AND(TONGHOP!N3=$B$1,OR(TONGHOP!O3="ThiTN",TONGHOP!P3="LT",TONGHOP!P3="TN"),TONGHOP!J3=""),TONGHOP!B3,"") | B3: =IF(AND(TONGHOP!N3=$B$1,OR(TONGHOP!O3="ThiTN",TONGHOP!P3="LT",TONGHOP!P3="TN"),TONGHOP!J3=""),TONGHOP!G3,"") | C3: =IF(AND(TONGHOP!N3=$B$1,OR(TONGHOP!O3="ThiTN",TONGHOP!P3="LT",TONGHOP!P3="TN"),TONGHOP!J3=""),TONGHOP!E3,"") | D3: =IF(AND(TONGHOP!N3=$B$1,OR(TONGHOP!O3="ThiTN",TONGHOP!P3="LT",TONGHOP!P3="TN"),TONGHOP!J3=""),TONGHOP!H3,"") | E3: =IF(AND(TONGHOP!N3=$B$1,OR(TONGHOP!O3="ThiTN",TONGHOP!P3="LT",TONGHOP!P3="TN"),TONGHOP!J3=""),TONGHOP!P3,"")
A4: =IF(AND(TONGHOP!N4=$B$1,OR(TONGHOP!O4="ThiTN",TONGHOP!P4="LT",TONGHOP!P4="TN"),TONGHOP!J4=""),TONGHOP!B4,"") | B4: =IF(AND(TONGHOP!N4=$B$1,OR(TONGHOP!O4="ThiTN",TONGHOP!P4="LT",TONGHOP!P4="TN"),TONGHOP!J4=""),TONGHOP!G4,"") | C4: =IF(AND(TONGHOP!N4=$B$1,OR(TONGHOP!O4="ThiTN",TONGHOP!P4="LT",TONGHOP!P4="TN"),TONGHOP!J4=""),TONGHOP!E4,"") | D4: =IF(AND(TONGHOP!N4=$B$1,OR(TONGHOP!O4="ThiTN",TONGHOP!P4="LT",TONGHOP!P4="TN"),TONGHOP!J4=""),TONGHOP!H4,"") | E4: =IF(AND(TONGHOP!N4=$B$1,OR(TONGHOP!O4="ThiTN",TONGHOP!P4="LT",TONGHOP!P4="TN"),TONGHOP!J4=""),TONGHOP!P4,"")
A5: =IF(AND(TONGHOP!N5=$B$1,OR(TONGHOP!O5="ThiTN",TONGHOP!P5="LT",TONGHOP!P5="TN"),TONGHOP!J5=""),TONGHOP!B5,"") | B5: =IF(AND(TONGHOP!N5=$B$1,OR(TONGHOP!O5="ThiTN",TONGHOP!P5="LT",TONGHOP!P5="TN"),TONGHOP!J5=""),TONGHOP!G5,"") | C5: =IF(AND(TONGHOP!N5=$B$1,OR(TONGHOP!O5="ThiTN",TONGHOP!P5="LT",TONGHOP!P5="TN"),TONGHOP!J5=""),TONGHOP!E5,"") | D5: =IF(AND(TONGHOP!N5=$B$1,OR(TONGHOP!O5="ThiTN",TONGHOP!P5="LT",TONGHOP!P5="TN"),TONGHOP!J5=""),TONGHOP!H5,"") | E5: =IF(AND(TONGHOP!N5=$B$1,OR(TONGHOP!O5="ThiTN",TONGHOP!P5="LT",TONGHOP!P5="TN"),TONGHOP!J5=""),TONGHOP!P5,"")
A6: =IF(AND(TONGHOP!N6=$B$1,OR(TONGHOP!O6="ThiTN",TONGHOP!P6="LT",TONGHOP!P6="TN"),TONGHOP!J6=""),TONGHOP!B6,"") | B6: =IF(AND(TONGHOP!N6=$B$1,OR(TONGHOP!O6="ThiTN",TONGHOP!P6="LT",TONGHOP!P6="TN"),TONGHOP!J6=""),TONGHOP!G6,"") | C6: =IF(AND(TONGHOP!N6=$B$1,OR(TONGHOP!O6="ThiTN",TONGHOP!P6="LT",TONGHOP!P6="TN"),TONGHOP!J6=""),TONGHOP!E6,"") | D6: =IF(AND(TONGHOP!N6=$B$1,OR(TONGHOP!O6="ThiTN",TONGHOP!P6="LT",TONGHOP!P6="TN"),TONGHOP!J6=""),TONGHOP!H6,"") | E6: =IF(AND(TONGHOP!N6=$B$1,OR(TONGHOP!O6="ThiTN",TONGHOP!P6="LT",TONGHOP!P6="TN"),TONGHOP!J6=""),TONGHOP!P6,"")
A7: =IF(AND(TONGHOP!N7=$B$1,OR(TONGHOP!O7="ThiTN",TONGHOP!P7="LT",TONGHOP!P7="TN"),TONGHOP!J7=""),TONGHOP!B7,"") | B7: =IF(AND(TONGHOP!N7=$B$1,OR(TONGHOP!O7="ThiTN",TONGHOP!P7="LT",TONGHOP!P7="TN"),TONGHOP!J7=""),TONGHOP!G7,"") | C7: =IF(AND(TONGHOP!N7=$B$1,OR(TONGHOP!O7="ThiTN",TONGHOP!P7="LT",TONGHOP!P7="TN"),TONGHOP!J7=""),TONGHOP!E7,"") | D7: =IF(AND(TONGHOP!N7=$B$1,OR(TONGHOP!O7="ThiTN",TONGHOP!P7="LT",TONGHOP!P7="TN"),TONGHOP!J7=""),TONGHOP!H7,"") | E7: =IF(AND(TONGHOP!N7=$B$1,OR(TONGHOP!O7="ThiTN",TONGHOP!P7="LT",TONGHOP!P7="TN"),TONGHOP!J7=""),TONGHOP!P7,"")
A8: =IF(AND(TONGHOP!N8=$B$1,OR(TONGHOP!O8="ThiTN",TONGHOP!P8="LT",TONGHOP!P8="TN"),TONGHOP!J8=""),TONGHOP!B8,"") | B8: =IF(AND(TONGHOP!N8=$B$1,OR(TONGHOP!O8="ThiTN",TONGHOP!P8="LT",TONGHOP!P8="TN"),TONGHOP!J8=""),TONGHOP!G8,"") | C8: =IF(AND(TONGHOP!N8=$B$1,OR(TONGHOP!O8="ThiTN",TONGHOP!P8="LT",TONGHOP!P8="TN"),TONGHOP!J8=""),TONGHOP!E8,"") | D8: =IF(AND(TONGHOP!N8=$B$1,OR(TONGHOP!O8="ThiTN",TONGHOP!P8="LT",TONGHOP!P8="TN"),TONGHOP!J8=""),TONGHOP!H8,"") | E8: =IF(AND(TONGHOP!N8=$B$1,OR(TONGHOP!O8="ThiTN",TONGHOP!P8="LT",TONGHOP!P8="TN"),TONGHOP!J8=""),TONGHOP!P8,"")
A9: =IF(AND(TONGHOP!N9=$B$1,OR(TONGHOP!O9="ThiTN",TONGHOP!P9="LT",TONGHOP!P9="TN"),TONGHOP!J9=""),TONGHOP!B9,"") | B9: =IF(AND(TONGHOP!N9=$B$1,OR(TONGHOP!O9="ThiTN",TONGHOP!P9="LT",TONGHOP!P9="TN"),TONGHOP!J9=""),TONGHOP!G9,"") | C9: =IF(AND(TONGHOP!N9=$B$1,OR(TONGHOP!O9="ThiTN",TONGHOP!P9="LT",TONGHOP!P9="TN"),TONGHOP!J9=""),TONGHOP!E9,"") | D9: =IF(AND(TONGHOP!N9=$B$1,OR(TONGHOP!O9="ThiTN",TONGHOP!P9="LT",TONGHOP!P9="TN"),TONGHOP!J9=""),TONGHOP!H9,"") | E9: =IF(AND(TONGHOP!N9=$B$1,OR(TONGHOP!O9="ThiTN",TONGHOP!P9="LT",TONGHOP!P9="TN"),TONGHOP!J9=""),TONGHOP!P9,"")
A10: =IF(AND(TONGHOP!N10=$B$1,OR(TONGHOP!O10="ThiTN",TONGHOP!P10="LT",TONGHOP!P10="TN"),TONGHOP!J10=""),TONGHOP!B10,"") | B10: =IF(AND(TONGHOP!N10=$B$1,OR(TONGHOP!O10="ThiTN",TONGHOP!P10="LT",TONGHOP!P10="TN"),TONGHOP!J10=""),TONGHOP!G10,"") | C10: =IF(AND(TONGHOP!N10=$B$1,OR(TONGHOP!O10="ThiTN",TONGHOP!P10="LT",TONGHOP!P10="TN"),TONGHOP!J10=""),TONGHOP!E10,"") | D10: =IF(AND(TONGHOP!N10=$B$1,OR(TONGHOP!O10="ThiTN",TONGHOP!P10="LT",TONGHOP!P10="TN"),TONGHOP!J10=""),TONGHOP!H10,"") | E10: =IF(AND(TONGHOP!N10=$B$1,OR(TONGHOP!O10="ThiTN",TONGHOP!P10="LT",TONGHOP!P10="TN"),TONGHOP!J10=""),TONGHOP!P10,"")
A11: =IF(AND(TONGHOP!N11=$B$1,OR(TONGHOP!O11="ThiTN",TONGHOP!P11="LT",TONGHOP!P11="TN"),TONGHOP!J11=""),TONGHOP!B11,"") | B11: =IF(AND(TONGHOP!N11=$B$1,OR(TONGHOP!O11="ThiTN",TONGHOP!P11="LT",TONGHOP!P11="TN"),TONGHOP!J11=""),TONGHOP!G11,"") | C11: =IF(AND(TONGHOP!N11=$B$1,OR(TONGHOP!O11="ThiTN",TONGHOP!P11="LT",TONGHOP!P11="TN"),TONGHOP!J11=""),TONGHOP!E11,"") | D11: =IF(AND(TONGHOP!N11=$B$1,OR(TONGHOP!O11="ThiTN",TONGHOP!P11="LT",TONGHOP!P11="TN"),TONGHOP!J11=""),TONGHOP!H11,"") | E11: =IF(AND(TONGHOP!N11=$B$1,OR(TONGHOP!O11="ThiTN",TONGHOP!P11="LT",TONGHOP!P11="TN"),TONGHOP!J11=""),TONGHOP!P11,"")
A12: =IF(AND(TONGHOP!N12=$B$1,OR(TONGHOP!O12="ThiTN",TONGHOP!P12="LT",TONGHOP!P12="TN"),TONGHOP!J12=""),TONGHOP!B12,"") | B12: =IF(AND(TONGHOP!N12=$B$1,OR(TONGHOP!O12="ThiTN",TONGHOP!P12="LT",TONGHOP!P12="TN"),TONGHOP!J12=""),TONGHOP!G12,"") | C12: =IF(AND(TONGHOP!N12=$B$1,OR(TONGHOP!O12="ThiTN",TONGHOP!P12="LT",TONGHOP!P12="TN"),TONGHOP!J12=""),TONGHOP!E12,"") | D12: =IF(AND(TONGHOP!N12=$B$1,OR(TONGHOP!O12="ThiTN",TONGHOP!P12="LT",TONGHOP!P12="TN"),TONGHOP!J12=""),TONGHOP!H12,"") | E12: =IF(AND(TONGHOP!N12=$B$1,OR(TONGHOP!O12="ThiTN",TONGHOP!P12="LT",TONGHOP!P12="TN"),TONGHOP!J12=""),TONGHOP!P12,"")
A13: =IF(AND(TONGHOP!N13=$B$1,OR(TONGHOP!O13="ThiTN",TONGHOP!P13="LT",TONGHOP!P13="TN"),TONGHOP!J13=""),TONGHOP!B13,"") | B13: =IF(AND(TONGHOP!N13=$B$1,OR(TONGHOP!O13="ThiTN",TONGHOP!P13="LT",TONGHOP!P13="TN"),TONGHOP!J13=""),TONGHOP!G13,"") | C13: =IF(AND(TONGHOP!N13=$B$1,OR(TONGHOP!O13="ThiTN",TONGHOP!P13="LT",TONGHOP!P13="TN"),TONGHOP!J13=""),TONGHOP!E13,"") | D13: =IF(AND(TONGHOP!N13=$B$1,OR(TONGHOP!O13="ThiTN",TONGHOP!P13="LT",TONGHOP!P13="TN"),TONGHOP!J13=""),TONGHOP!H13,"") | E13: =IF(AND(TONGHOP!N13=$B$1,OR(TONGHOP!O13="ThiTN",TONGHOP!P13="LT",TONGHOP!P13="TN"),TONGHOP!J13=""),TONGHOP!P13,"")
... A2001: =IF(AND(TONGHOP!N2001=$B$1,OR(TONGHOP!O2001="ThiTN",TONGHOP!P2001="LT",TONGHOP!P2001="TN"),TONGHOP!J2001=""),TONGHOP!B2001,"") | B2001: =IF(AND(TONGHOP!N2001=$B$1,OR(TONGHOP!O2001="ThiTN",TONGHOP!P2001="LT",TONGHOP!P2001="TN"),TONGHOP!J2001=""),TONGHOP!G2001,"") | C2001: =IF(AND(TONGHOP!N2001=$B$1,OR(TONGHOP!O2001="ThiTN",TONGHOP!P2001="LT",TONGHOP!P2001="TN"),TONGHOP!J2001=""),TONGHOP!E2001,"") | D2001: =IF(AND(TONGHOP!N2001=$B$1,OR(TONGHOP!O2001="ThiTN",TONGHOP!P2001="LT",TONGHOP!P2001="TN"),TONGHOP!J2001=""),TONGHOP!H2001,"") | E2001: =IF(AND(TONGHOP!N2001=$B$1,OR(TONGHOP!O2001="ThiTN",TONGHOP!P2001="LT",TONGHOP!P2001="TN"),TONGHOP!J2001=""),TONGHOP!P2001,"")
